From mboxrd@z Thu Jan  1 00:00:00 1970
Return-Path: <test-report-bounces@dpdk.org>
Received: from mails.dpdk.org (mails.dpdk.org [217.70.189.124])
	by inbox.dpdk.org (Postfix) with ESMTP id 54DD145C50
	for <public@inbox.dpdk.org>; Sat,  2 Nov 2024 03:53:36 +0100 (CET)
Received: from mails.dpdk.org (localhost [127.0.0.1])
	by mails.dpdk.org (Postfix) with ESMTP id 49F61402B7;
	Sat,  2 Nov 2024 03:53:36 +0100 (CET)
Received: from mail-pj1-f98.google.com (mail-pj1-f98.google.com
 [209.85.216.98]) by mails.dpdk.org (Postfix) with ESMTP id 6EDB74029A
 for <test-report@dpdk.org>; Sat,  2 Nov 2024 03:53:35 +0100 (CET)
Received: by mail-pj1-f98.google.com with SMTP id
 98e67ed59e1d1-2e59746062fso2132588a91.2
 for <test-report@dpdk.org>; Fri, 01 Nov 2024 19:53:35 -0700 (PDT)
DKIM-Signature: v=1; a=rsa-sha256; c=relaxed/relaxed;
 d=iol.unh.edu; s=unh-iol; t=1730516014; x=1731120814; darn=dpdk.org;
 h=references:in-reply-to:cc:to:from:subject:message-id:date:from:to
 :cc:subject:date:message-id:reply-to;
 bh=J1lf6y1DMYSNbmuZ2THk/VYPzrX2RKzofGf8bA99oFY=;
 b=LeWnXLmkCUjH0cj3atY7OfhqzaYpnTr+Nphi7uyh/WgvAcyUJIovWtss/AD2gjKsKp
 AuEEFXNy0pi0IqAqANsSI1NfruU55TVsgoXbLVZwUcwzR9Iiutl3oblFa4vj6sl/JTuA
 gDU/RVkloE1GolCvsilHZXcX1J0NU5IOagAVw=
X-Google-DKIM-Signature: v=1; a=rsa-sha256; c=relaxed/relaxed;
 d=1e100.net; s=20230601; t=1730516014; x=1731120814;
 h=references:in-reply-to:cc:to:from:subject:message-id:date
 :x-gm-message-state:from:to:cc:subject:date:message-id:reply-to;
 bh=J1lf6y1DMYSNbmuZ2THk/VYPzrX2RKzofGf8bA99oFY=;
 b=oK1AGoN6cctiuREIEc86e42O4nDjtQF4aY85UHNyx4QycI25u9UwMJ1IkVoHP1ge3z
 6uYIo1ksQYHmsq79WI3pbe+O0l6nyDyXlKhNBrqh1uFMa/n7lM48HO8uNYKe+PaB0+rA
 /W/+HtKIZML8NsMvx/YByvzKmxcP6JGiYhBJ5StP2kCp2ErUq3QuLFD6MlgrTPvVpgvS
 w4nyTsz5P5IiB77Y3bawxodekAxI3WLb9oG/D9p9J/E+LRAuNuJrrBejblBDWSJU4+GI
 Ub/yZ04a/gKWuZMKi9b7S3xomRr/0GgkW+GSIFJluRrWnXOIpWrHIyHvrpv/zgcpaDBd
 Z+Kg==
X-Gm-Message-State: AOJu0Yy2LQ/cvmOei6b+huKoIOobh8YN88d07cuAe117yx9WOh2U8HUu
 UzBOT7KEEuOayp7qM4JdGsbiQ8yBanTTDRmCntxgZzeRnBXAvnc9fySurPQxzzDB/q+whYB6fIO
 KeguIlctzggD86242uQBcSICgHSInjlIkoxhesv8q
X-Google-Smtp-Source: AGHT+IG+uLpzI1F2ojhi3fakcldCFUyjRX6cvHkwYOto08RekzeRKNxlZrFPuyIhCicpuZ5FSPvHLotfQHrV
X-Received: by 2002:a17:90b:17c2:b0:2d8:a744:a820 with SMTP id
 98e67ed59e1d1-2e93c2fd8b3mr12209397a91.36.1730516014464; 
 Fri, 01 Nov 2024 19:53:34 -0700 (PDT)
Received: from postal.iol.unh.edu (postal.iol.unh.edu. [132.177.123.84])
 by smtp-relay.gmail.com with ESMTPS id
 d9443c01a7336-2110584c958sm2134595ad.134.2024.11.01.19.53.34
 (version=TLS1_2 cipher=ECDHE-ECDSA-AES128-GCM-SHA256 bits=128/128);
 Fri, 01 Nov 2024 19:53:34 -0700 (PDT)
X-Relaying-Domain: iol.unh.edu
Date: Fri, 01 Nov 2024 19:53:34 -0700 (PDT)
Message-ID: <6725942e.170a0220.1c3691.bb02SMTPIN_ADDED_MISSING@mx.google.com>
Received: from [172.17.0.2] (unknown [172.18.0.217])
 by postal.iol.unh.edu (Postfix) with ESMTP id 8F8136052471;
 Fri,  1 Nov 2024 22:53:33 -0400 (EDT)
Subject: |SUCCESS| pw147760 [PATCH] [v2] Revert "eal/unix: fix thread creatio
From: dpdklab@iol.unh.edu
To: Test Report <test-report@dpdk.org>
Cc: dpdk-test-reports@iol.unh.edu
In-Reply-To: <20241030203122.416198-1-luca.boccassi@gmail.com>
References: <20241030203122.416198-1-luca.boccassi@gmail.com>
Content-Type: text/plain
X-BeenThere: test-report@dpdk.org
X-Mailman-Version: 2.1.29
Precedence: list
List-Id: automatic DPDK test reports <test-report.dpdk.org>
List-Unsubscribe: <https://mails.dpdk.org/options/test-report>,
 <mailto:test-report-request@dpdk.org?subject=unsubscribe>
List-Archive: <http://mails.dpdk.org/archives/test-report/>
List-Post: <mailto:test-report@dpdk.org>
List-Help: <mailto:test-report-request@dpdk.org?subject=help>
List-Subscribe: <https://mails.dpdk.org/listinfo/test-report>,
 <mailto:test-report-request@dpdk.org?subject=subscribe>
Errors-To: test-report-bounces@dpdk.org

Test-Label: iol-unit-amd64-testing
Test-Status: SUCCESS
http://dpdk.org/patch/147760

_Testing PASS_

Submitter: Luca Boccassi <luca.boccassi@gmail.com>
Date: Wednesday, October 30 2024 20:30:59 
DPDK git baseline: Repo:dpdk
  Branch: master
  CommitID:2a682d65f8dbe1e8be9cc2425095827e18c700e3

147760 --> testing pass

Upstream job id: Generic-VM-Unit-Test-DPDK#26001

Test environment and result as below:

+---------------------+----------------+
|     Environment     | dpdk_unit_test |
+=====================+================+
| CentOS Stream 9     | PASS           |
+---------------------+----------------+
| Debian 12           | PASS           |
+---------------------+----------------+
| Fedora 39           | PASS           |
+---------------------+----------------+
| Fedora 39 (Clang)   | PASS           |
+---------------------+----------------+
| Fedora 40           | PASS           |
+---------------------+----------------+
| Fedora 40 (Clang)   | PASS           |
+---------------------+----------------+
| RHEL8               | PASS           |
+---------------------+----------------+
| RHEL9               | PASS           |
+---------------------+----------------+
| Ubuntu 20.04        | PASS           |
+---------------------+----------------+
| Ubuntu 22.04        | PASS           |
+---------------------+----------------+
| Ubuntu 24.04        | PASS           |
+---------------------+----------------+
| Windows Server 2022 | PASS           |
+---------------------+----------------+


CentOS Stream 9
	Kernel: Depends on container host
	Compiler: gcc 11.4.1 20231218 (Red Hat 11.4.1-3)

Debian 12
	Kernel: Depends on container host
	Compiler: gcc (Debian 12.2.0-14) 12.2.0

Fedora 39
	Kernel: Depends on container host
	Compiler: gcc 13.3.1 20240522 (Red Hat 13.3.1-1)

Fedora 39 (Clang)
	Kernel: Depends on container host
	Compiler: clang 17.0.6 (Fedora 17.0.6-2.fc39)

Fedora 40
	Kernel: Depends on container host
	Compiler: gcc 14.2.1 20240801 (Red Hat 14.2.1-1)

Fedora 40 (Clang)
	Kernel: Depends on container host
	Compiler: clang 18.1.6 (Fedora 18.1.6-3.fc40)

RHEL8
	Kernel: Depends on container host
	Compiler: gcc 8.5.0 20210514 (Red Hat 8.5.0-22)

RHEL9
	Kernel: Depends on container host
	Compiler: gcc 11.4.1 20231218 (Red Hat 11.4.1-3)

Ubuntu 20.04
	Kernel: Depends on container host
	Compiler: gcc (Ubuntu 9.4.0-1ubuntu1~20.04.2) 9.4.0

Ubuntu 22.04
	Kernel: Depends on container host
	Compiler: gcc (Ubuntu 11.4.0-1ubuntu1~22.04) 11.4.0

Ubuntu 24.04
	Kernel: Depends on container host
	Compiler: gcc (Ubuntu 13.2.0-23ubuntu4) 13.2.0

Windows Server 2022
	Kernel: 10.0.20348.2031
	Compiler: clang 15.0.7, gcc 14.1.0 (MinGW), and MSVC VS 19.39.33521

To view detailed results, visit:
https://lab.dpdk.org/results/dashboard/patchsets/31786/

UNH-IOL DPDK Community Lab

To manage your email subscriptions, visit: 
https://lab.dpdk.org/results/dashboard/preferences/subscriptions/