From mboxrd@z Thu Jan  1 00:00:00 1970
Return-Path: <test-report-bounces@dpdk.org>
Received: from mails.dpdk.org (mails.dpdk.org [217.70.189.124])
	by inbox.dpdk.org (Postfix) with ESMTP id AD43B45C52
	for <public@inbox.dpdk.org>; Sat,  2 Nov 2024 04:15:49 +0100 (CET)
Received: from mails.dpdk.org (localhost [127.0.0.1])
	by mails.dpdk.org (Postfix) with ESMTP id BC544402B1;
	Sat,  2 Nov 2024 04:15:48 +0100 (CET)
Received: from mail-qv1-f100.google.com (mail-qv1-f100.google.com
 [209.85.219.100])
 by mails.dpdk.org (Postfix) with ESMTP id F275E4026B
 for <test-report@dpdk.org>; Sat,  2 Nov 2024 04:15:46 +0100 (CET)
Received: by mail-qv1-f100.google.com with SMTP id
 6a1803df08f44-6cbd57cc35bso31237966d6.1
 for <test-report@dpdk.org>; Fri, 01 Nov 2024 20:15:46 -0700 (PDT)
DKIM-Signature: v=1; a=rsa-sha256; c=relaxed/relaxed;
 d=iol.unh.edu; s=unh-iol; t=1730517346; x=1731122146; darn=dpdk.org;
 h=references:in-reply-to:cc:to:from:subject:message-id:date:from:to
 :cc:subject:date:message-id:reply-to;
 bh=hnlh4aie9PXins/ZrI6on9tvBBAQYcp/5GUGtZLTUPY=;
 b=eZtj8KXPrZDXqAmguormP7B+j5qJr2Xa2M98isMn35Vd/qBb85ai76VJTNKKIZAazr
 bF0PjmrcEg5Oe6k69C9BD+iYSl6yA34pXItMMvWNdQ6JGYsqMuuz2n9+KIBbKCX65ZNN
 KlIxlaAW2sJzoLAvYMFMowCTmxc9d7LV0cBkc=
X-Google-DKIM-Signature: v=1; a=rsa-sha256; c=relaxed/relaxed;
 d=1e100.net; s=20230601; t=1730517346; x=1731122146;
 h=references:in-reply-to:cc:to:from:subject:message-id:date
 :x-gm-message-state:from:to:cc:subject:date:message-id:reply-to;
 bh=hnlh4aie9PXins/ZrI6on9tvBBAQYcp/5GUGtZLTUPY=;
 b=BqMMGtjp4Hy46hvAMSlwckqUlo49VDqYSkO/WRgefmzeX8VzZMOuMloajc8P6oOZsZ
 XSdc4f9XYzxcahrr9Jy2RHX4UST1JFgBMSAYoEhyFm8rxdVCSKV/zZYdVtl8jBmEl/Ns
 OVPmRr1f+xHY1cTnK0F9LqwVbFIW/Ws1Z1+MJTJRiLUJPie5Zx+uEqrfl3CIr74+V87/
 yjyPNczDoZgasE/9NP0lv74QPKpQU+ONCPl8JWDG7nldLAvlHLsmzUoiHItKvg7gLWIM
 glUdrkJ1RAGtoQNHTmPE43wzlY013ic6oYotuAJyax4g05/0x+B0UOv6AMqfIX2uq/du
 tndQ==
X-Gm-Message-State: AOJu0Yyj6IpAizr2Rd/ZjsXW6cUr4qNiCUjdwFQszlL5/OEvmGpJXjS/
 B0FNPJH5AEUEBifeOZArelM5qbyEjqTEma0jo4cI+l2UamUx94V1f2n59oHeagNbALjNZx22k57
 wMeNbH6+IqiBadovsURZzE3Hpf7nWjNeHZHHqRNM9
X-Google-Smtp-Source: AGHT+IFQuX7XnQZTQIoOHPw2ASumbY69SP1k7m4dD/z4Rz0b+wN4lxPjsZilyX445acgBRyCndnYYkrykQyi
X-Received: by 2002:a05:6214:4386:b0:6d3:5831:39b3 with SMTP id
 6a1803df08f44-6d3583139eamr127458006d6.17.1730517346385; 
 Fri, 01 Nov 2024 20:15:46 -0700 (PDT)
Received: from postal.iol.unh.edu (postal.iol.unh.edu. [132.177.123.84])
 by smtp-relay.gmail.com with ESMTPS id
 6a1803df08f44-6d35418829csm3060226d6.63.2024.11.01.20.15.46
 (version=TLS1_2 cipher=ECDHE-ECDSA-AES128-GCM-SHA256 bits=128/128);
 Fri, 01 Nov 2024 20:15:46 -0700 (PDT)
X-Relaying-Domain: iol.unh.edu
Date: Fri, 01 Nov 2024 20:15:46 -0700 (PDT)
Message-ID: <67259962.050a0220.eff28.1664SMTPIN_ADDED_MISSING@mx.google.com>
Received: from [172.17.0.2] (unknown [172.18.0.217])
 by postal.iol.unh.edu (Postfix) with ESMTP id 10B766052471;
 Fri,  1 Nov 2024 23:15:46 -0400 (EDT)
Subject: |SUCCESS| pw147752-147757 [PATCH] [6/6] common/idpf/base: remove war
From: dpdklab@iol.unh.edu
To: Test Report <test-report@dpdk.org>
Cc: dpdk-test-reports@iol.unh.edu
In-Reply-To: <20241030173830.881368-7-bruce.richardson@intel.com>
References: <20241030173830.881368-7-bruce.richardson@intel.com>
Content-Type: text/plain
X-BeenThere: test-report@dpdk.org
X-Mailman-Version: 2.1.29
Precedence: list
List-Id: automatic DPDK test reports <test-report.dpdk.org>
List-Unsubscribe: <https://mails.dpdk.org/options/test-report>,
 <mailto:test-report-request@dpdk.org?subject=unsubscribe>
List-Archive: <http://mails.dpdk.org/archives/test-report/>
List-Post: <mailto:test-report@dpdk.org>
List-Help: <mailto:test-report-request@dpdk.org?subject=help>
List-Subscribe: <https://mails.dpdk.org/listinfo/test-report>,
 <mailto:test-report-request@dpdk.org?subject=subscribe>
Errors-To: test-report-bounces@dpdk.org

Test-Label: iol-unit-amd64-testing
Test-Status: SUCCESS
http://dpdk.org/patch/147757

_Testing PASS_

Submitter: Bruce Richardson <bruce.richardson@intel.com>
Date: Wednesday, October 30 2024 17:38:29 
DPDK git baseline: Repo:dpdk
  Branch: master
  CommitID:150f1e8b74e41d4f3f7d60eb1a18379345d6a5b3

147752-147757 --> testing pass

Upstream job id: Generic-VM-Unit-Test-DPDK#26002

Test environment and result as below:

+---------------------+----------------+
|     Environment     | dpdk_unit_test |
+=====================+================+
| Debian 12           | PASS           |
+---------------------+----------------+
| CentOS Stream 9     | PASS           |
+---------------------+----------------+
| Fedora 39           | PASS           |
+---------------------+----------------+
| Fedora 39 (Clang)   | PASS           |
+---------------------+----------------+
| Fedora 40           | PASS           |
+---------------------+----------------+
| Fedora 40 (Clang)   | PASS           |
+---------------------+----------------+
| RHEL8               | PASS           |
+---------------------+----------------+
| RHEL9               | PASS           |
+---------------------+----------------+
| Ubuntu 20.04        | PASS           |
+---------------------+----------------+
| Ubuntu 22.04        | PASS           |
+---------------------+----------------+
| Ubuntu 24.04        | PASS           |
+---------------------+----------------+
| Windows Server 2022 | PASS           |
+---------------------+----------------+


Debian 12
	Kernel: Depends on container host
	Compiler: gcc (Debian 12.2.0-14) 12.2.0

CentOS Stream 9
	Kernel: Depends on container host
	Compiler: gcc 11.4.1 20231218 (Red Hat 11.4.1-3)

Fedora 39
	Kernel: Depends on container host
	Compiler: gcc 13.3.1 20240522 (Red Hat 13.3.1-1)

Fedora 39 (Clang)
	Kernel: Depends on container host
	Compiler: clang 17.0.6 (Fedora 17.0.6-2.fc39)

Fedora 40
	Kernel: Depends on container host
	Compiler: gcc 14.2.1 20240801 (Red Hat 14.2.1-1)

Fedora 40 (Clang)
	Kernel: Depends on container host
	Compiler: clang 18.1.6 (Fedora 18.1.6-3.fc40)

RHEL8
	Kernel: Depends on container host
	Compiler: gcc 8.5.0 20210514 (Red Hat 8.5.0-22)

RHEL9
	Kernel: Depends on container host
	Compiler: gcc 11.4.1 20231218 (Red Hat 11.4.1-3)

Ubuntu 20.04
	Kernel: Depends on container host
	Compiler: gcc (Ubuntu 9.4.0-1ubuntu1~20.04.2) 9.4.0

Ubuntu 22.04
	Kernel: Depends on container host
	Compiler: gcc (Ubuntu 11.4.0-1ubuntu1~22.04) 11.4.0

Ubuntu 24.04
	Kernel: Depends on container host
	Compiler: gcc (Ubuntu 13.2.0-23ubuntu4) 13.2.0

Windows Server 2022
	Kernel: 10.0.20348.2031
	Compiler: clang 15.0.7, gcc 14.1.0 (MinGW), and MSVC VS 19.39.33521

To view detailed results, visit:
https://lab.dpdk.org/results/dashboard/patchsets/31783/

UNH-IOL DPDK Community Lab

To manage your email subscriptions, visit: 
https://lab.dpdk.org/results/dashboard/preferences/subscriptions/