From mboxrd@z Thu Jan  1 00:00:00 1970
Return-Path: <test-report-bounces@dpdk.org>
Received: from mails.dpdk.org (mails.dpdk.org [217.70.189.124])
	by inbox.dpdk.org (Postfix) with ESMTP id F33EF45C52
	for <public@inbox.dpdk.org>; Sat,  2 Nov 2024 04:16:36 +0100 (CET)
Received: from mails.dpdk.org (localhost [127.0.0.1])
	by mails.dpdk.org (Postfix) with ESMTP id EF827402B1;
	Sat,  2 Nov 2024 04:16:36 +0100 (CET)
Received: from mail-io1-f97.google.com (mail-io1-f97.google.com
 [209.85.166.97]) by mails.dpdk.org (Postfix) with ESMTP id 9A9D54026B
 for <test-report@dpdk.org>; Sat,  2 Nov 2024 04:16:35 +0100 (CET)
Received: by mail-io1-f97.google.com with SMTP id
 ca18e2360f4ac-83abdaf8a26so105884739f.1
 for <test-report@dpdk.org>; Fri, 01 Nov 2024 20:16:35 -0700 (PDT)
DKIM-Signature: v=1; a=rsa-sha256; c=relaxed/relaxed;
 d=iol.unh.edu; s=unh-iol; t=1730517395; x=1731122195; darn=dpdk.org;
 h=references:in-reply-to:cc:to:from:subject:message-id:date:from:to
 :cc:subject:date:message-id:reply-to;
 bh=lk7Vf8RCw9rXGQRhRHubrygZOGxeKnxtNoX0CmxRarU=;
 b=gI1V/PbBtLfXM1pTRC0KRvIWVI9HZ/tsfcDzP/aMkdISKMr2EacX0L0+cByAph17m/
 XzVIcW1FrvlvSUkaGsUp7wmBUdvjHDkmvSVpW9U2ywaDbYWlt4Mi9/mO6ikJ9eDtSs9g
 +W+IQTqCwVLoU9phiG7PTNm5cKON35iwxWrjA=
X-Google-DKIM-Signature: v=1; a=rsa-sha256; c=relaxed/relaxed;
 d=1e100.net; s=20230601; t=1730517395; x=1731122195;
 h=references:in-reply-to:cc:to:from:subject:message-id:date
 :x-gm-message-state:from:to:cc:subject:date:message-id:reply-to;
 bh=lk7Vf8RCw9rXGQRhRHubrygZOGxeKnxtNoX0CmxRarU=;
 b=UyvaiTIGIR4cp3MEq+TpcFiJcTNr6rm/DZOhfEagRr9k6x5ZrEsvV6dQC7xvM8S90Z
 YKoq5YfxmZXQxml3Yd4A9HjGTTCQPGSVsKbVXBjm4uUgr/cJ3QQotViwHEtYx33dlkGl
 u/4XbXKv4zFPuJszfEeMkFVwXL8hn5+VQFfW3uDdsoQ9oUn32WRB+ywlSrzMfWHTxykM
 qKhxkbsBCAy/O0UvB3hO09Bvg4CZQtePciM9HrtD6g6L1A/Swy/hBmrZoOj7NBlcXipa
 wOljolSpM9iqG5rF7l+5nywTT1z/26/pKxHdkf0XreqUppY+fHA5bIruvMUFkKs9V9jr
 GbrA==
X-Gm-Message-State: AOJu0Yzw0mT1Ll6M4e/ndRwsb1AMXUVOjbl8nf0XEtFPT0ZxwcNx2Gb5
 jQpXz7LYK8tt0fFjYfPRJAhgB12zhDOvAmBsM/00JRcP5U3C94q4Kcpid39ahfEwlFHEeSQxG7O
 5FZ+sEbGgzQZYz+jfKfCjAWNvfql0x5rhz+gmBIfF
X-Google-Smtp-Source: AGHT+IHlNJ2AseTRVnEQ1jPgUQNxSe1add/GZnA4J+k9toha7ugBraD+ksCd/7YrJDIxjTAl29Ck6zsRV3xG
X-Received: by 2002:a05:6e02:1a44:b0:3a3:c4c9:8 with SMTP id
 e9e14a558f8ab-3a4ed2942bcmr259845195ab.13.1730517394802; 
 Fri, 01 Nov 2024 20:16:34 -0700 (PDT)
Received: from postal.iol.unh.edu (postal.iol.unh.edu. [132.177.123.84])
 by smtp-relay.gmail.com with ESMTPS id
 e9e14a558f8ab-3a6c1ad46a8sm59235ab.17.2024.11.01.20.16.34
 (version=TLS1_2 cipher=ECDHE-ECDSA-AES128-GCM-SHA256 bits=128/128);
 Fri, 01 Nov 2024 20:16:34 -0700 (PDT)
X-Relaying-Domain: iol.unh.edu
Date: Fri, 01 Nov 2024 20:16:34 -0700 (PDT)
Message-ID: <67259992.050a0220.34de30.072aSMTPIN_ADDED_MISSING@mx.google.com>
Received: from [172.17.0.2] (unknown [172.18.0.217])
 by postal.iol.unh.edu (Postfix) with ESMTP id 513536052471;
 Fri,  1 Nov 2024 23:16:34 -0400 (EDT)
Subject: |SUCCESS| pw146621-146630 [PATCH] [v13,12/12] crypto/zsda: add zsda 
From: dpdklab@iol.unh.edu
To: Test Report <test-report@dpdk.org>
Cc: dpdk-test-reports@iol.unh.edu
In-Reply-To: <20241022125931.2128534-13-wang.junlong1@zte.com.cn>
References: <20241022125931.2128534-13-wang.junlong1@zte.com.cn>
Content-Type: text/plain
X-BeenThere: test-report@dpdk.org
X-Mailman-Version: 2.1.29
Precedence: list
List-Id: automatic DPDK test reports <test-report.dpdk.org>
List-Unsubscribe: <https://mails.dpdk.org/options/test-report>,
 <mailto:test-report-request@dpdk.org?subject=unsubscribe>
List-Archive: <http://mails.dpdk.org/archives/test-report/>
List-Post: <mailto:test-report@dpdk.org>
List-Help: <mailto:test-report-request@dpdk.org?subject=help>
List-Subscribe: <https://mails.dpdk.org/listinfo/test-report>,
 <mailto:test-report-request@dpdk.org?subject=subscribe>
Errors-To: test-report-bounces@dpdk.org

Test-Label: iol-compile-amd64-testing
Test-Status: SUCCESS
http://dpdk.org/patch/146630

_Testing PASS_

Submitter: Junlong Wang <wang.junlong1@zte.com.cn>
Date: Tuesday, October 22 2024 12:59:18 
DPDK git baseline: Repo:dpdk
  Branch: master
  CommitID:cff6dba7ff8521df410b40399fd8aca5b450a05b

146621-146630 --> testing pass

Upstream job id: Windows-Compile-DPDK-VS#3813

Test environment and result as below:

+---------------------+--------------------+------------------+-------------------+----------------------+-----------------------+-------------------+
|     Environment     | dpdk_meson_compile | dpdk_compile_ovs | dpdk_compile_spdk | dpdk_mingw64_compile | dpdk_win_llvm_compile | dpdk_msvc_compile |
+=====================+====================+==================+===================+======================+=======================+===================+
| FreeBSD 13.4        | PASS               | SKIPPED          | SKIPPED           | SKIPPED              | SKIPPED               | SKIPPED           |
+---------------------+--------------------+------------------+-------------------+----------------------+-----------------------+-------------------+
| FreeBSD 14.1        | PASS               | SKIPPED          | SKIPPED           | SKIPPED              | SKIPPED               | SKIPPED           |
+---------------------+--------------------+------------------+-------------------+----------------------+-----------------------+-------------------+
| CentOS Stream 9     | PASS               | PASS             | PASS              | SKIPPED              | SKIPPED               | SKIPPED           |
+---------------------+--------------------+------------------+-------------------+----------------------+-----------------------+-------------------+
| Debian Bullseye     | PASS               | PASS             | PASS              | SKIPPED              | SKIPPED               | SKIPPED           |
+---------------------+--------------------+------------------+-------------------+----------------------+-----------------------+-------------------+
| Debian 12           | PASS               | PASS             | PASS              | SKIPPED              | SKIPPED               | SKIPPED           |
+---------------------+--------------------+------------------+-------------------+----------------------+-----------------------+-------------------+
| Fedora 37           | PASS               | PASS             | PASS              | SKIPPED              | SKIPPED               | SKIPPED           |
+---------------------+--------------------+------------------+-------------------+----------------------+-----------------------+-------------------+
| Fedora 38 (Clang)   | PASS               | PASS             | PASS              | SKIPPED              | SKIPPED               | SKIPPED           |
+---------------------+--------------------+------------------+-------------------+----------------------+-----------------------+-------------------+
| Fedora 39 (Clang)   | PASS               | PASS             | PASS              | SKIPPED              | SKIPPED               | SKIPPED           |
+---------------------+--------------------+------------------+-------------------+----------------------+-----------------------+-------------------+
| Fedora 39           | PASS               | PASS             | PASS              | SKIPPED              | SKIPPED               | SKIPPED           |
+---------------------+--------------------+------------------+-------------------+----------------------+-----------------------+-------------------+
| Fedora 40 (Clang)   | PASS               | PASS             | PASS              | SKIPPED              | SKIPPED               | SKIPPED           |
+---------------------+--------------------+------------------+-------------------+----------------------+-----------------------+-------------------+
| Fedora 40           | PASS               | PASS             | PASS              | SKIPPED              | SKIPPED               | SKIPPED           |
+---------------------+--------------------+------------------+-------------------+----------------------+-----------------------+-------------------+
| openSUSE Leap 15    | PASS               | PASS             | SKIPPED           | SKIPPED              | SKIPPED               | SKIPPED           |
+---------------------+--------------------+------------------+-------------------+----------------------+-----------------------+-------------------+
| RHEL8               | PASS               | PASS             | SKIPPED           | SKIPPED              | SKIPPED               | SKIPPED           |
+---------------------+--------------------+------------------+-------------------+----------------------+-----------------------+-------------------+
| RHEL9               | PASS               | PASS             | SKIPPED           | SKIPPED              | SKIPPED               | SKIPPED           |
+---------------------+--------------------+------------------+-------------------+----------------------+-----------------------+-------------------+
| Ubuntu 20.04        | PASS               | PASS             | SKIPPED           | SKIPPED              | SKIPPED               | SKIPPED           |
+---------------------+--------------------+------------------+-------------------+----------------------+-----------------------+-------------------+
| Ubuntu 22.04        | PASS               | PASS             | PASS              | SKIPPED              | SKIPPED               | SKIPPED           |
+---------------------+--------------------+------------------+-------------------+----------------------+-----------------------+-------------------+
| Ubuntu 24.04        | PASS               | PASS             | PASS              | SKIPPED              | SKIPPED               | SKIPPED           |
+---------------------+--------------------+------------------+-------------------+----------------------+-----------------------+-------------------+
| Alpine              | PASS               | PASS             | SKIPPED           | SKIPPED              | SKIPPED               | SKIPPED           |
+---------------------+--------------------+------------------+-------------------+----------------------+-----------------------+-------------------+
| Fedora 38           | PASS               | PASS             | PASS              | SKIPPED              | SKIPPED               | SKIPPED           |
+---------------------+--------------------+------------------+-------------------+----------------------+-----------------------+-------------------+
| Windows Server 2022 | SKIPPED            | SKIPPED          | SKIPPED           | PASS                 | PASS                  | PASS              |
+---------------------+--------------------+------------------+-------------------+----------------------+-----------------------+-------------------+


FreeBSD 13.4
	Kernel: 13.4-RELEASE-p1
	Compiler: clang 18.1.6

FreeBSD 14.1
	Kernel: 14.1-RELEASE-p3
	Compiler: clang 18.1.5

CentOS Stream 9
	Kernel: Depends on container host
	Compiler: gcc 11.4.1 20231218 (Red Hat 11.4.1-3)

Debian Bullseye
	Kernel: Depends on container host
	Compiler: gcc (Debian 10.2.1-6) 10.2.1 20210110

Debian 12
	Kernel: Depends on container host
	Compiler: gcc (Debian 12.2.0-14) 12.2.0

Fedora 37
	Kernel: Depends on container host system
	Compiler: gcc 12.3.1 20230508 (Red Hat 12.3.1-1)

Fedora 38 (Clang)
	Kernel: Depends on container host
	Compiler: clang 16.0.6 (Fedora 16.0.6-4.fc38)

Fedora 39 (Clang)
	Kernel: Depends on container host
	Compiler: clang 17.0.6 (Fedora 17.0.6-2.fc39)

Fedora 39
	Kernel: Depends on container host
	Compiler: gcc 13.3.1 20240522 (Red Hat 13.3.1-1)

Fedora 40 (Clang)
	Kernel: Depends on container host
	Compiler: clang 18.1.6 (Fedora 18.1.6-3.fc40)

Fedora 40
	Kernel: Depends on container host
	Compiler: gcc 14.2.1 20240801 (Red Hat 14.2.1-1)

openSUSE Leap 15
	Kernel: Depends on container host
	Compiler: gcc (SUSE Linux) 7.5.0

RHEL8
	Kernel: Depends on container host
	Compiler: gcc 8.5.0 20210514 (Red Hat 8.5.0-22)

RHEL9
	Kernel: Depends on container host
	Compiler: gcc 11.4.1 20231218 (Red Hat 11.4.1-3)

Ubuntu 20.04
	Kernel: Depends on container host
	Compiler: gcc (Ubuntu 9.4.0-1ubuntu1~20.04.2) 9.4.0

Ubuntu 22.04
	Kernel: Depends on container host
	Compiler: gcc (Ubuntu 11.4.0-1ubuntu1~22.04) 11.4.0

Ubuntu 24.04
	Kernel: Depends on container host
	Compiler: gcc (Ubuntu 13.2.0-23ubuntu4) 13.2.0

Alpine
	Kernel: Depends on container host
	Compiler: gcc (Alpine 13.2.1_git20240309) 13.2.1 20240309

Fedora 38
	Kernel: Depends on container host
	Compiler: gcc 13.2.1 20240316 (Red Hat 13.2.1-7)

Windows Server 2022
	Kernel: 10.0.20348.2031
	Compiler: clang 15.0.7, gcc 14.1.0 (MinGW), and MSVC VS 19.39.33521

To view detailed results, visit:
https://lab.dpdk.org/results/dashboard/patchsets/31598/

UNH-IOL DPDK Community Lab

To manage your email subscriptions, visit: 
https://lab.dpdk.org/results/dashboard/preferences/subscriptions/