From mboxrd@z Thu Jan  1 00:00:00 1970
Return-Path: <test-report-bounces@dpdk.org>
Received: from mails.dpdk.org (mails.dpdk.org [217.70.189.124])
	by inbox.dpdk.org (Postfix) with ESMTP id 3E85445C29
	for <public@inbox.dpdk.org>; Sat,  2 Nov 2024 11:47:59 +0100 (CET)
Received: from mails.dpdk.org (localhost [127.0.0.1])
	by mails.dpdk.org (Postfix) with ESMTP id 3AA6A4026B;
	Sat,  2 Nov 2024 11:47:59 +0100 (CET)
Received: from mail-il1-f226.google.com (mail-il1-f226.google.com
 [209.85.166.226])
 by mails.dpdk.org (Postfix) with ESMTP id 65D7F4021E
 for <test-report@dpdk.org>; Sat,  2 Nov 2024 11:47:57 +0100 (CET)
Received: by mail-il1-f226.google.com with SMTP id
 e9e14a558f8ab-3a6bba54722so3127285ab.2
 for <test-report@dpdk.org>; Sat, 02 Nov 2024 03:47:57 -0700 (PDT)
DKIM-Signature: v=1; a=rsa-sha256; c=relaxed/relaxed;
 d=iol.unh.edu; s=unh-iol; t=1730544477; x=1731149277; darn=dpdk.org;
 h=references:in-reply-to:cc:to:from:subject:message-id:date:from:to
 :cc:subject:date:message-id:reply-to;
 bh=D9aHXngwGk2eycEiShrBGduD4Ahv1mf+el13Px8PgE0=;
 b=A53NUBHaV/+Bq0jIeY4veQoSqyPQvpb4e7ivdhFvFmnAdzAhCT+w9TXK/Mi5qp15dz
 zsc//XIlAQ+Rl4d4S54iFKVceUI/MBVebdaYr7idyLo0JmHHgp5t6ybGScAg/hF9vMOX
 ql4LHKdfIuYRpdBd2Y5dmfAVrSs/a4bs216tE=
X-Google-DKIM-Signature: v=1; a=rsa-sha256; c=relaxed/relaxed;
 d=1e100.net; s=20230601; t=1730544477; x=1731149277;
 h=references:in-reply-to:cc:to:from:subject:message-id:date
 :x-gm-message-state:from:to:cc:subject:date:message-id:reply-to;
 bh=D9aHXngwGk2eycEiShrBGduD4Ahv1mf+el13Px8PgE0=;
 b=p4pyTx+ApmUeUeuZQ+7d1kHN7Vdsmw81JGWQnR6pt3ja8JL0k1+RT8qctHXAXEbRLx
 U0soVBKRZU0vkbYNnJvDGmZyv9sPFGoSOydESrsYfCefm874eNRNuXTbZ3TuepdggpFj
 oLbgklyyMddvdl5CV2lufu7bRBPxxM3vTReOvtth8StkqG8ZS0D87MCqeuIqTNqWUdMd
 I2EY5suZTEOL/UzLjjon+zTQDT1vfLpMs0mQvec26EbAeOmcyKG5rzzRtTHVqurCmne5
 cmxTUAFWWgM9MkA8Etk7XeBOuw3ES51iwp2SC8HGqpPDQ0UOF1W1nLga64rwny95sxeB
 lXhQ==
X-Gm-Message-State: AOJu0YwZw92kF0l1lYwY0Rgqrq+4kEW4Uncod5AZ5emyk4eE40+zq+23
 OzA82ePTt9oDxTa7QGcZuN17JV+0vF1PjhHpvRAPUaIPcMKdPOWbtbl4zke7D6srf4T/kKPOsy5
 jCZe31WVK/fGt7gLrbsazgqQ6q5sQ2lUZl3tSAD6JCzeqd1Qp0NCHwgI4
X-Google-Smtp-Source: AGHT+IFZdTl5yZ56kGrAjexdCLr71HeseoL2eKwGdfzJJXmoaLXZXDE70rWbPuzu7BC3q4cbHT0S5eHXsjgP
X-Received: by 2002:a05:6e02:188c:b0:39b:330b:bb25 with SMTP id
 e9e14a558f8ab-3a4ed2944dbmr263383165ab.12.1730544476620; 
 Sat, 02 Nov 2024 03:47:56 -0700 (PDT)
Received: from postal.iol.unh.edu (postal.iol.unh.edu.
 [2606:4100:3880:1234::84]) by smtp-relay.gmail.com with ESMTPS id
 e9e14a558f8ab-3a6a99c9259sm2485055ab.46.2024.11.02.03.47.56
 (version=TLS1_2 cipher=ECDHE-ECDSA-AES128-GCM-SHA256 bits=128/128);
 Sat, 02 Nov 2024 03:47:56 -0700 (PDT)
X-Relaying-Domain: iol.unh.edu
Date: Sat, 02 Nov 2024 03:47:56 -0700 (PDT)
Message-ID: <6726035c.920a0220.6f3f6.f06eSMTPIN_ADDED_MISSING@mx.google.com>
Received: from [172.21.0.7] (unknown [172.18.0.240])
 by postal.iol.unh.edu (Postfix) with ESMTP id 216E36052471;
 Sat,  2 Nov 2024 06:47:56 -0400 (EDT)
Subject: |SUCCESS| pw147130-147131 [PATCH] [2/2] net/ipv6: fix out-of-bounds 
From: dpdklab@iol.unh.edu
To: Test Report <test-report@dpdk.org>
Cc: dpdk-test-reports@iol.unh.edu
In-Reply-To: <20241024151919.400878-6-rjarry@redhat.com>
References: <20241024151919.400878-6-rjarry@redhat.com>
Content-Type: text/plain
X-BeenThere: test-report@dpdk.org
X-Mailman-Version: 2.1.29
Precedence: list
List-Id: automatic DPDK test reports <test-report.dpdk.org>
List-Unsubscribe: <https://mails.dpdk.org/options/test-report>,
 <mailto:test-report-request@dpdk.org?subject=unsubscribe>
List-Archive: <http://mails.dpdk.org/archives/test-report/>
List-Post: <mailto:test-report@dpdk.org>
List-Help: <mailto:test-report-request@dpdk.org?subject=help>
List-Subscribe: <https://mails.dpdk.org/listinfo/test-report>,
 <mailto:test-report-request@dpdk.org?subject=subscribe>
Errors-To: test-report-bounces@dpdk.org

Test-Label: iol-sample-apps-testing
Test-Status: SUCCESS
http://dpdk.org/patch/147131

_Testing PASS_

Submitter: Robin Jarry <rjarry@redhat.com>
Date: Thursday, October 24 2024 15:19:22 
DPDK git baseline: Repo:dpdk
  Branch: master
  CommitID:90cb8ff8196f9b9c1c2bcee1c94ea583789bb63f

147130-147131 --> testing pass

Upstream job id: ACVP-FIPS-testing#7629

Test environment and result as below:

+--------------------+----------------------+----------------------+
|    Environment     | compressdev_zlib_pmd | dpdk_fips_validation |
+====================+======================+======================+
| Ubuntu 22.04 (ARM) | PASS                 | SKIPPED              |
+--------------------+----------------------+----------------------+
| Ubuntu 22.04       | PASS                 | SKIPPED              |
+--------------------+----------------------+----------------------+
| Ubuntu 20.04       | SKIPPED              | PASS                 |
+--------------------+----------------------+----------------------+


Ubuntu 22.04 (ARM)
	Kernel: 5.15.0-97-generic
	Compiler: gcc gcc (Ubuntu 11.4.0-1ubuntu1~22.04) 11.4.0

Ubuntu 22.04
	Kernel: 5.15.0-100-generic
	Compiler: gcc gcc (Ubuntu 11.4.0-1ubuntu1~22.04) 11.4.0

Ubuntu 20.04
	Kernel: Depends on container host
	Compiler: gcc (Ubuntu 9.4.0-1ubuntu1~20.04.2) 9.4.0

To view detailed results, visit:
https://lab.dpdk.org/results/dashboard/patchsets/31650/

UNH-IOL DPDK Community Lab

To manage your email subscriptions, visit: 
https://lab.dpdk.org/results/dashboard/preferences/subscriptions/