From mboxrd@z Thu Jan  1 00:00:00 1970
Return-Path: <test-report-bounces@dpdk.org>
Received: from mails.dpdk.org (mails.dpdk.org [217.70.189.124])
	by inbox.dpdk.org (Postfix) with ESMTP id B6A8345C5D
	for <public@inbox.dpdk.org>; Sat,  2 Nov 2024 15:27:54 +0100 (CET)
Received: from mails.dpdk.org (localhost [127.0.0.1])
	by mails.dpdk.org (Postfix) with ESMTP id 91603402B7;
	Sat,  2 Nov 2024 15:27:54 +0100 (CET)
Received: from mail-pl1-f227.google.com (mail-pl1-f227.google.com
 [209.85.214.227])
 by mails.dpdk.org (Postfix) with ESMTP id 43A21402A3
 for <test-report@dpdk.org>; Sat,  2 Nov 2024 15:27:53 +0100 (CET)
Received: by mail-pl1-f227.google.com with SMTP id
 d9443c01a7336-20c803787abso22320125ad.0
 for <test-report@dpdk.org>; Sat, 02 Nov 2024 07:27:53 -0700 (PDT)
DKIM-Signature: v=1; a=rsa-sha256; c=relaxed/relaxed;
 d=iol.unh.edu; s=unh-iol; t=1730557672; x=1731162472; darn=dpdk.org;
 h=references:in-reply-to:cc:to:from:subject:message-id:date:from:to
 :cc:subject:date:message-id:reply-to;
 bh=xw3s0g9AJUIhLFDp8vaR9KjQtqcQrJlqWY/VNzD6Ra4=;
 b=H6ueG+Hx+/FvKArU943Ks80zomqwp6DfowKRUYfIqGS8UhhfW0QM6TYkt7owHUMg58
 Sizao3IK1w7jyhO9q0BfTaNSGTJmCaThhj92JSYprYwNspTbMaIX7ps2nsKNXEkvp68P
 cUUOx9kPqX5biQZCYJzTvkrek3n0qATXJ1iIQ=
X-Google-DKIM-Signature: v=1; a=rsa-sha256; c=relaxed/relaxed;
 d=1e100.net; s=20230601; t=1730557672; x=1731162472;
 h=references:in-reply-to:cc:to:from:subject:message-id:date
 :x-gm-message-state:from:to:cc:subject:date:message-id:reply-to;
 bh=xw3s0g9AJUIhLFDp8vaR9KjQtqcQrJlqWY/VNzD6Ra4=;
 b=ZFUyjtk8KUxx3SZHjh1oCO1zD6sx2DkfCGspmYGEv9fUTWJzbF7fyWfb43iiy8gZTK
 dbzBCeekUxuOJPwDP6f/6xMg+vz4rpYfYKaf17drpDaW8qE3JGPgWf9GnLwhV/A9LmFt
 KPspNIzM+nRlF0vAEYNMW5+pJdaMQwSdR2BMzZ2ISEwKTbiLrqDC37tBnFg003Z/w6tU
 yvaD8kXk4qpIDOZ8DQXHrcDZTeocCfVJKo6dBlJl5kBnQ2PU9gdWADiECGssS2J9mUFy
 J7vtofb4hUwnN4fhlMs2/C/W8TBa5258yFIWECNm/NF2Ib04B27vdpumSSVzqwWCaGT1
 Bb2A==
X-Gm-Message-State: AOJu0Ywce0hUfZklZEoKW64K+ZPvkUiTWlPSDxZIv8AoM9Q+nsYY7ASe
 pEiS4t5qDzaFXSaRhpye3Xwqyjzm/dfwjsKNk1i3j56m3CT41nt7eGh/rJxdToKEu/UAOVfvd/3
 sC/kSJUiL6xasdNVQa8VYUSgtYQi5ajh2ao4P39M+kDZ/eNsj3Y7BVeiR
X-Google-Smtp-Source: AGHT+IHLVQ4/vlHPFZxdNTmZ2i7BvGjb2nkZsni5IqycpV3XETSgp0cfJd9hcZFekRvk5mj533QbuMWpSO5a
X-Received: by 2002:a17:902:d483:b0:205:8b84:d5e8 with SMTP id
 d9443c01a7336-211057336d4mr159848995ad.18.1730557672068; 
 Sat, 02 Nov 2024 07:27:52 -0700 (PDT)
Received: from postal.iol.unh.edu (postal.iol.unh.edu.
 [2606:4100:3880:1234::84]) by smtp-relay.gmail.com with ESMTPS id
 d9443c01a7336-2110579256bsm2556395ad.63.2024.11.02.07.27.51
 (version=TLS1_2 cipher=ECDHE-ECDSA-AES128-GCM-SHA256 bits=128/128);
 Sat, 02 Nov 2024 07:27:52 -0700 (PDT)
X-Relaying-Domain: iol.unh.edu
Date: Sat, 02 Nov 2024 07:27:52 -0700 (PDT)
Message-ID: <672636e8.170a0220.2f0736.eefbSMTPIN_ADDED_MISSING@mx.google.com>
Received: from [172.17.0.2] (unknown [172.18.0.217])
 by postal.iol.unh.edu (Postfix) with ESMTP id 2E16F6052471;
 Sat,  2 Nov 2024 10:27:51 -0400 (EDT)
Subject: |SUCCESS| pw147858 [PATCH] crypto/qat: fix ecdsa session handling
From: dpdklab@iol.unh.edu
To: Test Report <test-report@dpdk.org>
Cc: dpdk-test-reports@iol.unh.edu
In-Reply-To: <20241031191952.20863-1-arkadiuszx.kusztal@intel.com>
References: <20241031191952.20863-1-arkadiuszx.kusztal@intel.com>
Content-Type: text/plain
X-BeenThere: test-report@dpdk.org
X-Mailman-Version: 2.1.29
Precedence: list
List-Id: automatic DPDK test reports <test-report.dpdk.org>
List-Unsubscribe: <https://mails.dpdk.org/options/test-report>,
 <mailto:test-report-request@dpdk.org?subject=unsubscribe>
List-Archive: <http://mails.dpdk.org/archives/test-report/>
List-Post: <mailto:test-report@dpdk.org>
List-Help: <mailto:test-report-request@dpdk.org?subject=help>
List-Subscribe: <https://mails.dpdk.org/listinfo/test-report>,
 <mailto:test-report-request@dpdk.org?subject=subscribe>
Errors-To: test-report-bounces@dpdk.org

Test-Label: iol-unit-amd64-testing
Test-Status: SUCCESS
http://dpdk.org/patch/147858

_Testing PASS_

Submitter: Arkadiusz Kusztal <arkadiuszx.kusztal@intel.com>
Date: Thursday, October 31 2024 19:19:52 
DPDK git baseline: Repo:dpdk
  Branch: master
  CommitID:3ee7a3e0e0e0f5a81a4b102a834697bc488fb32f

147858 --> testing pass

Upstream job id: Generic-VM-Unit-Test-DPDK#26025

Test environment and result as below:

+---------------------+----------------+
|     Environment     | dpdk_unit_test |
+=====================+================+
| CentOS Stream 9     | PASS           |
+---------------------+----------------+
| Debian 12           | PASS           |
+---------------------+----------------+
| Fedora 39           | PASS           |
+---------------------+----------------+
| Fedora 40           | PASS           |
+---------------------+----------------+
| Fedora 39 (Clang)   | PASS           |
+---------------------+----------------+
| Fedora 40 (Clang)   | PASS           |
+---------------------+----------------+
| RHEL9               | PASS           |
+---------------------+----------------+
| Ubuntu 20.04        | PASS           |
+---------------------+----------------+
| RHEL8               | PASS           |
+---------------------+----------------+
| Ubuntu 22.04        | PASS           |
+---------------------+----------------+
| Ubuntu 24.04        | PASS           |
+---------------------+----------------+
| Windows Server 2022 | PASS           |
+---------------------+----------------+


CentOS Stream 9
	Kernel: Depends on container host
	Compiler: gcc 11.4.1 20231218 (Red Hat 11.4.1-3)

Debian 12
	Kernel: Depends on container host
	Compiler: gcc (Debian 12.2.0-14) 12.2.0

Fedora 39
	Kernel: Depends on container host
	Compiler: gcc 13.3.1 20240522 (Red Hat 13.3.1-1)

Fedora 40
	Kernel: Depends on container host
	Compiler: gcc 14.2.1 20240801 (Red Hat 14.2.1-1)

Fedora 39 (Clang)
	Kernel: Depends on container host
	Compiler: clang 17.0.6 (Fedora 17.0.6-2.fc39)

Fedora 40 (Clang)
	Kernel: Depends on container host
	Compiler: clang 18.1.6 (Fedora 18.1.6-3.fc40)

RHEL9
	Kernel: Depends on container host
	Compiler: gcc 11.4.1 20231218 (Red Hat 11.4.1-3)

Ubuntu 20.04
	Kernel: Depends on container host
	Compiler: gcc (Ubuntu 9.4.0-1ubuntu1~20.04.2) 9.4.0

RHEL8
	Kernel: Depends on container host
	Compiler: gcc 8.5.0 20210514 (Red Hat 8.5.0-22)

Ubuntu 22.04
	Kernel: Depends on container host
	Compiler: gcc (Ubuntu 11.4.0-1ubuntu1~22.04) 11.4.0

Ubuntu 24.04
	Kernel: Depends on container host
	Compiler: gcc (Ubuntu 13.2.0-23ubuntu4) 13.2.0

Windows Server 2022
	Kernel: 10.0.20348.2031
	Compiler: clang 15.0.7, gcc 14.1.0 (MinGW), and MSVC VS 19.39.33521

To view detailed results, visit:
https://lab.dpdk.org/results/dashboard/patchsets/31798/

UNH-IOL DPDK Community Lab

To manage your email subscriptions, visit: 
https://lab.dpdk.org/results/dashboard/preferences/subscriptions/