From mboxrd@z Thu Jan  1 00:00:00 1970
Return-Path: <test-report-bounces@dpdk.org>
Received: from mails.dpdk.org (mails.dpdk.org [217.70.189.124])
	by inbox.dpdk.org (Postfix) with ESMTP id B093A45C5E
	for <public@inbox.dpdk.org>; Sat,  2 Nov 2024 17:54:53 +0100 (CET)
Received: from mails.dpdk.org (localhost [127.0.0.1])
	by mails.dpdk.org (Postfix) with ESMTP id 92ED1402A3;
	Sat,  2 Nov 2024 17:54:53 +0100 (CET)
Received: from mail-io1-f99.google.com (mail-io1-f99.google.com
 [209.85.166.99]) by mails.dpdk.org (Postfix) with ESMTP id B0BD1400D7
 for <test-report@dpdk.org>; Sat,  2 Nov 2024 17:54:52 +0100 (CET)
Received: by mail-io1-f99.google.com with SMTP id
 ca18e2360f4ac-83a9ca86049so110094139f.0
 for <test-report@dpdk.org>; Sat, 02 Nov 2024 09:54:52 -0700 (PDT)
DKIM-Signature: v=1; a=rsa-sha256; c=relaxed/relaxed;
 d=iol.unh.edu; s=unh-iol; t=1730566492; x=1731171292; darn=dpdk.org;
 h=references:in-reply-to:cc:to:from:subject:message-id:date:from:to
 :cc:subject:date:message-id:reply-to;
 bh=BNY69ONxUMePCjqYrUPgF+oK/wYMFM3Thw/Hoe39M2I=;
 b=c4/2kqmooQErLpcRxRRI4zlyxxxSPiDYFr6W1Z7sM//b3e2YLAHMOTwSVCp//98eBG
 RlCo8STmRhxlrEUuRjCyk/qj+AhfIhU1bZztKZqJDU0Pf2BDNRUENFl5D5Umcvq3+K0Z
 vWtLQg/Soshbsc+VXqNaqfPvZwemg4pQefT5w=
X-Google-DKIM-Signature: v=1; a=rsa-sha256; c=relaxed/relaxed;
 d=1e100.net; s=20230601; t=1730566492; x=1731171292;
 h=references:in-reply-to:cc:to:from:subject:message-id:date
 :x-gm-message-state:from:to:cc:subject:date:message-id:reply-to;
 bh=BNY69ONxUMePCjqYrUPgF+oK/wYMFM3Thw/Hoe39M2I=;
 b=wq3GiTyRwSVRRyNxGrhrFIK+3HjGcmIrGwfpTu4CWHlPMm/gix7pPBLz5P2H/ddIAm
 B0sJKSbUEpv4U/ljU8jWLm6c6P/R0yLyDg0UVCtRRpsekdogxOkYQKkVE86lOAe49dHB
 cz6ogQX17H3jZKOZEwn06e16Nm5k0XqyUIDtXrjCk/EOXHouv9rLn2cak1NA9E+L9ObQ
 f1H+8EWKkzAqGEqm7uEk+u91pzMoWqaTgg+Bj2gDz84hE1Kg4wPiB1ObDlTbR04V9mLF
 JL2iJQhzHAir8232zcLePXOQl+XeqH72NINZLy+XOAc4AQYbVflS3O4nmQdM+auPFgb4
 fVZQ==
X-Gm-Message-State: AOJu0Yy7IVjig3+f3J/a6SjNK0zvHx8TXWw4Nkhz99Ueif0Jop+wG7Y7
 m4XM1sJhur3qjT0YCh9MAbvVXMUtmqc8WGP2jIhKp00f5B8ryA7H9BuL/kfval5+vz44o8kdpUf
 tQtArdiw8wtx25PRPbhlHUsKo8nbirS6X0R4wnmfZitgRHs6iCy6fEESW
X-Google-Smtp-Source: AGHT+IESaLRzLfEBuf/4aHIyXxsAi7Arl+GZigXxmUi76egcF1rKku5pjvIMVVCLbNLrGECpbxtosuUrkVcO
X-Received: by 2002:a05:6602:2cce:b0:832:480d:6fe1 with SMTP id
 ca18e2360f4ac-83b1bcfc72fmr2897459439f.0.1730566491906; 
 Sat, 02 Nov 2024 09:54:51 -0700 (PDT)
Received: from postal.iol.unh.edu (postal.iol.unh.edu.
 [2606:4100:3880:1234::84]) by smtp-relay.gmail.com with ESMTPS id
 8926c6da1cb9f-4de048dccaasm230721173.48.2024.11.02.09.54.51
 (version=TLS1_2 cipher=ECDHE-ECDSA-AES128-GCM-SHA256 bits=128/128);
 Sat, 02 Nov 2024 09:54:51 -0700 (PDT)
X-Relaying-Domain: iol.unh.edu
Date: Sat, 02 Nov 2024 09:54:51 -0700 (PDT)
Message-ID: <6726595b.050a0220.10ad7c.d6baSMTPIN_ADDED_MISSING@mx.google.com>
Received: from [172.17.0.3] (unknown [172.18.0.217])
 by postal.iol.unh.edu (Postfix) with ESMTP id 6DC546052471;
 Sat,  2 Nov 2024 12:54:51 -0400 (EDT)
Subject: |SUCCESS| pw147573 [PATCH] [v1] examples/fips_validation: prehash in
From: dpdklab@iol.unh.edu
To: Test Report <test-report@dpdk.org>
Cc: dpdk-test-reports@iol.unh.edu
In-Reply-To: <20241029060107.1135-1-gmuthukrishn@marvell.com>
References: <20241029060107.1135-1-gmuthukrishn@marvell.com>
Content-Type: text/plain
X-BeenThere: test-report@dpdk.org
X-Mailman-Version: 2.1.29
Precedence: list
List-Id: automatic DPDK test reports <test-report.dpdk.org>
List-Unsubscribe: <https://mails.dpdk.org/options/test-report>,
 <mailto:test-report-request@dpdk.org?subject=unsubscribe>
List-Archive: <http://mails.dpdk.org/archives/test-report/>
List-Post: <mailto:test-report@dpdk.org>
List-Help: <mailto:test-report-request@dpdk.org?subject=help>
List-Subscribe: <https://mails.dpdk.org/listinfo/test-report>,
 <mailto:test-report-request@dpdk.org?subject=subscribe>
Errors-To: test-report-bounces@dpdk.org

Test-Label: iol-compile-amd64-testing
Test-Status: SUCCESS
http://dpdk.org/patch/147573

_Testing PASS_

Submitter: Gowrishankar Muthukrishnan <gmuthukrishn@marvell.com>
Date: Tuesday, October 29 2024 06:01:02 
DPDK git baseline: Repo:dpdk
  Branch: master
  CommitID:6dad0bb5c8621644beca86ff5f4910a943ba604d

147573 --> testing pass

Upstream job id: Windows-Compile-DPDK-Native#24082

Test environment and result as below:

+---------------------+--------------------+------------------+-------------------+-------------------+-----------------------+
|     Environment     | dpdk_meson_compile | dpdk_compile_ovs | dpdk_compile_spdk | dpdk_msvc_compile | dpdk_win_llvm_compile |
+=====================+====================+==================+===================+===================+=======================+
| CentOS Stream 9     | PASS               | PASS             | PASS              | SKIPPED           | SKIPPED               |
+---------------------+--------------------+------------------+-------------------+-------------------+-----------------------+
| Debian 12           | PASS               | PASS             | PASS              | SKIPPED           | SKIPPED               |
+---------------------+--------------------+------------------+-------------------+-------------------+-----------------------+
| Fedora 39           | PASS               | PASS             | PASS              | SKIPPED           | SKIPPED               |
+---------------------+--------------------+------------------+-------------------+-------------------+-----------------------+
| Fedora 40 (Clang)   | PASS               | PASS             | PASS              | SKIPPED           | SKIPPED               |
+---------------------+--------------------+------------------+-------------------+-------------------+-----------------------+
| Ubuntu 20.04        | PASS               | PASS             | SKIPPED           | SKIPPED           | SKIPPED               |
+---------------------+--------------------+------------------+-------------------+-------------------+-----------------------+
| RHEL9               | PASS               | PASS             | SKIPPED           | SKIPPED           | SKIPPED               |
+---------------------+--------------------+------------------+-------------------+-------------------+-----------------------+
| Fedora 40           | PASS               | PASS             | PASS              | SKIPPED           | SKIPPED               |
+---------------------+--------------------+------------------+-------------------+-------------------+-----------------------+
| RHEL8               | PASS               | PASS             | SKIPPED           | SKIPPED           | SKIPPED               |
+---------------------+--------------------+------------------+-------------------+-------------------+-----------------------+
| openSUSE Leap 15    | PASS               | PASS             | SKIPPED           | SKIPPED           | SKIPPED               |
+---------------------+--------------------+------------------+-------------------+-------------------+-----------------------+
| Ubuntu 22.04        | PASS               | PASS             | PASS              | SKIPPED           | SKIPPED               |
+---------------------+--------------------+------------------+-------------------+-------------------+-----------------------+
| Ubuntu 24.04        | PASS               | PASS             | PASS              | SKIPPED           | SKIPPED               |
+---------------------+--------------------+------------------+-------------------+-------------------+-----------------------+
| Alpine              | PASS               | PASS             | SKIPPED           | SKIPPED           | SKIPPED               |
+---------------------+--------------------+------------------+-------------------+-------------------+-----------------------+
| FreeBSD 13.4        | PASS               | SKIPPED          | SKIPPED           | SKIPPED           | SKIPPED               |
+---------------------+--------------------+------------------+-------------------+-------------------+-----------------------+
| FreeBSD 14.1        | PASS               | SKIPPED          | SKIPPED           | SKIPPED           | SKIPPED               |
+---------------------+--------------------+------------------+-------------------+-------------------+-----------------------+
| Fedora 39 (Clang)   | PASS               | PASS             | PASS              | SKIPPED           | SKIPPED               |
+---------------------+--------------------+------------------+-------------------+-------------------+-----------------------+
| Windows Server 2022 | SKIPPED            | SKIPPED          | SKIPPED           | PASS              | PASS                  |
+---------------------+--------------------+------------------+-------------------+-------------------+-----------------------+


CentOS Stream 9
	Kernel: Depends on container host
	Compiler: gcc 11.4.1 20231218 (Red Hat 11.4.1-3)

Debian 12
	Kernel: Depends on container host
	Compiler: gcc (Debian 12.2.0-14) 12.2.0

Fedora 39
	Kernel: Depends on container host
	Compiler: gcc 13.3.1 20240522 (Red Hat 13.3.1-1)

Fedora 40 (Clang)
	Kernel: Depends on container host
	Compiler: clang 18.1.6 (Fedora 18.1.6-3.fc40)

Ubuntu 20.04
	Kernel: Depends on container host
	Compiler: gcc (Ubuntu 9.4.0-1ubuntu1~20.04.2) 9.4.0

RHEL9
	Kernel: Depends on container host
	Compiler: gcc 11.4.1 20231218 (Red Hat 11.4.1-3)

Fedora 40
	Kernel: Depends on container host
	Compiler: gcc 14.2.1 20240801 (Red Hat 14.2.1-1)

RHEL8
	Kernel: Depends on container host
	Compiler: gcc 8.5.0 20210514 (Red Hat 8.5.0-22)

openSUSE Leap 15
	Kernel: Depends on container host
	Compiler: gcc (SUSE Linux) 7.5.0

Ubuntu 22.04
	Kernel: Depends on container host
	Compiler: gcc (Ubuntu 11.4.0-1ubuntu1~22.04) 11.4.0

Ubuntu 24.04
	Kernel: Depends on container host
	Compiler: gcc (Ubuntu 13.2.0-23ubuntu4) 13.2.0

Alpine
	Kernel: Depends on container host
	Compiler: gcc (Alpine 13.2.1_git20240309) 13.2.1 20240309

FreeBSD 13.4
	Kernel: 13.4-RELEASE-p1
	Compiler: clang 18.1.6

FreeBSD 14.1
	Kernel: 14.1-RELEASE-p3
	Compiler: clang 18.1.5

Fedora 39 (Clang)
	Kernel: Depends on container host
	Compiler: clang 17.0.6 (Fedora 17.0.6-2.fc39)

Windows Server 2022
	Kernel: 10.0.20348.2031
	Compiler: clang 15.0.7, gcc 14.1.0 (MinGW), and MSVC VS 19.39.33521

To view detailed results, visit:
https://lab.dpdk.org/results/dashboard/patchsets/31741/

UNH-IOL DPDK Community Lab

To manage your email subscriptions, visit: 
https://lab.dpdk.org/results/dashboard/preferences/subscriptions/