From mboxrd@z Thu Jan  1 00:00:00 1970
Return-Path: <test-report-bounces@dpdk.org>
Received: from mails.dpdk.org (mails.dpdk.org [217.70.189.124])
	by inbox.dpdk.org (Postfix) with ESMTP id ED41B45C5F
	for <public@inbox.dpdk.org>; Sat,  2 Nov 2024 19:42:46 +0100 (CET)
Received: from mails.dpdk.org (localhost [127.0.0.1])
	by mails.dpdk.org (Postfix) with ESMTP id E9BE6402B7;
	Sat,  2 Nov 2024 19:42:46 +0100 (CET)
Received: from mail-pl1-f227.google.com (mail-pl1-f227.google.com
 [209.85.214.227])
 by mails.dpdk.org (Postfix) with ESMTP id 20DE7400D7
 for <test-report@dpdk.org>; Sat,  2 Nov 2024 19:42:46 +0100 (CET)
Received: by mail-pl1-f227.google.com with SMTP id
 d9443c01a7336-21116b187c4so17983575ad.3
 for <test-report@dpdk.org>; Sat, 02 Nov 2024 11:42:46 -0700 (PDT)
DKIM-Signature: v=1; a=rsa-sha256; c=relaxed/relaxed;
 d=iol.unh.edu; s=unh-iol; t=1730572965; x=1731177765; darn=dpdk.org;
 h=references:in-reply-to:cc:to:from:subject:message-id:date:from:to
 :cc:subject:date:message-id:reply-to;
 bh=K623AR74fz0LZWhUGinrfaSOstuJhh3rgL628/QvoRM=;
 b=LpZ/rf5GKo0mYbXy5oXFUku0z57qiUOaOx/l2+mMiyKoykUNUgpEZMmW0cZBA3cHAo
 yHM1yZ/pxDNUjUpQcpnx/Z98ttkK7LuMQWz8xgPJcs+AZfTE2g6wjmCPdyDJrVdWGQ55
 CyeydOJDD/KUvGXgs1jeJd75U05WlfBMuuaYM=
X-Google-DKIM-Signature: v=1; a=rsa-sha256; c=relaxed/relaxed;
 d=1e100.net; s=20230601; t=1730572965; x=1731177765;
 h=references:in-reply-to:cc:to:from:subject:message-id:date
 :x-gm-message-state:from:to:cc:subject:date:message-id:reply-to;
 bh=K623AR74fz0LZWhUGinrfaSOstuJhh3rgL628/QvoRM=;
 b=poDO/vrbrbFtzyhOY3ZbkfDHpAgEs7sBIEKNZovBIpG0e4i4ueMPUb7AASgMM6QbvB
 8AnUGlda5eGePEpnZRMLBTqR+F+nH64eD5RkBjl0hbnQSCw54iMDRpJqmIxyvwKUfvhA
 7SCg3F/8Zz+3eo3xAXBrCsK7kmwIzzBqzNOBpygB6loTLMbcPiUncAGyKoC7awJMXtvv
 6qNxMX+waPY4b+Oh+snEasxN6xM34sPrAi7wHEoEyMmP1SA2mnjUSrTOuch2dCA8NgFL
 IE3z2hH8P7RSAUikSYfJPFCj6q0KdPWh1nynWOrqQMwAWKKHGR8yXQ1jYxBRvwNyhgiR
 BRTQ==
X-Gm-Message-State: AOJu0YxfKB7CWvhw6HS5eKFPOERetI+ByOezctJUz6eSR+StU0qFtAeT
 non7zkjePn0c92Btc5/Y2EmiHppuHmC/hHh/jTerMPPaa77Flkc6hmQ6XGJ/cYm/xMj3/JUNDMZ
 kEGi3BOCjMZdcNHz1GO+S59WXJCJKMrmRPuuB/LkPDq8Ap3gU5sRzDhTY
X-Google-Smtp-Source: AGHT+IEgwxogtEW9/DYlYbT+O8MbNMl8jbwPUwJmLovJmmJpZKo1P+8wAbYUX3YoQCF+ZirDr6wF4OFWnvWa
X-Received: by 2002:a17:902:e5c9:b0:20c:8f78:67be with SMTP id
 d9443c01a7336-2111afd698emr97149765ad.40.1730572965150; 
 Sat, 02 Nov 2024 11:42:45 -0700 (PDT)
Received: from postal.iol.unh.edu (postal.iol.unh.edu.
 [2606:4100:3880:1234::84]) by smtp-relay.gmail.com with ESMTPS id
 d9443c01a7336-211058484e2sm2697915ad.126.2024.11.02.11.42.45
 (version=TLS1_2 cipher=ECDHE-ECDSA-AES128-GCM-SHA256 bits=128/128);
 Sat, 02 Nov 2024 11:42:45 -0700 (PDT)
X-Relaying-Domain: iol.unh.edu
Date: Sat, 02 Nov 2024 11:42:45 -0700 (PDT)
Message-ID: <672672a5.170a0220.1e6682.0716SMTPIN_ADDED_MISSING@mx.google.com>
Received: from [172.17.0.2] (unknown [172.18.0.217])
 by postal.iol.unh.edu (Postfix) with ESMTP id 40D986052471;
 Sat,  2 Nov 2024 14:42:44 -0400 (EDT)
Subject: |SUCCESS| pw147848 [PATCH] net/ice: enable link speed 200G
From: dpdklab@iol.unh.edu
To: Test Report <test-report@dpdk.org>
Cc: dpdk-test-reports@iol.unh.edu
In-Reply-To: <20241031011819.2020557-1-mingjinx.ye@intel.com>
References: <20241031011819.2020557-1-mingjinx.ye@intel.com>
Content-Type: text/plain
X-BeenThere: test-report@dpdk.org
X-Mailman-Version: 2.1.29
Precedence: list
List-Id: automatic DPDK test reports <test-report.dpdk.org>
List-Unsubscribe: <https://mails.dpdk.org/options/test-report>,
 <mailto:test-report-request@dpdk.org?subject=unsubscribe>
List-Archive: <http://mails.dpdk.org/archives/test-report/>
List-Post: <mailto:test-report@dpdk.org>
List-Help: <mailto:test-report-request@dpdk.org?subject=help>
List-Subscribe: <https://mails.dpdk.org/listinfo/test-report>,
 <mailto:test-report-request@dpdk.org?subject=subscribe>
Errors-To: test-report-bounces@dpdk.org

Test-Label: iol-compile-amd64-testing
Test-Status: SUCCESS
http://dpdk.org/patch/147848

_Testing PASS_

Submitter: Mingjin Ye <mingjinx.ye@intel.com>
Date: Thursday, October 31 2024 01:18:19 
DPDK git baseline: Repo:dpdk
  Branch: master
  CommitID:e281b02d873b4d62280d323157a5877b70d01e07

147848 --> testing pass

Upstream job id: Windows-Compile-DPDK-VS#3883

Test environment and result as below:

+---------------------+--------------------+------------------+-------------------+-------------------+
|     Environment     | dpdk_meson_compile | dpdk_compile_ovs | dpdk_compile_spdk | dpdk_msvc_compile |
+=====================+====================+==================+===================+===================+
| FreeBSD 13.4        | PASS               | SKIPPED          | SKIPPED           | SKIPPED           |
+---------------------+--------------------+------------------+-------------------+-------------------+
| FreeBSD 14.1        | PASS               | SKIPPED          | SKIPPED           | SKIPPED           |
+---------------------+--------------------+------------------+-------------------+-------------------+
| CentOS Stream 9     | PASS               | PASS             | PASS              | SKIPPED           |
+---------------------+--------------------+------------------+-------------------+-------------------+
| Debian 12           | PASS               | PASS             | PASS              | SKIPPED           |
+---------------------+--------------------+------------------+-------------------+-------------------+
| Fedora 39 (Clang)   | PASS               | PASS             | PASS              | SKIPPED           |
+---------------------+--------------------+------------------+-------------------+-------------------+
| Fedora 39           | PASS               | PASS             | PASS              | SKIPPED           |
+---------------------+--------------------+------------------+-------------------+-------------------+
| Fedora 40 (Clang)   | PASS               | PASS             | PASS              | SKIPPED           |
+---------------------+--------------------+------------------+-------------------+-------------------+
| Fedora 40           | PASS               | PASS             | PASS              | SKIPPED           |
+---------------------+--------------------+------------------+-------------------+-------------------+
| openSUSE Leap 15    | PASS               | PASS             | SKIPPED           | SKIPPED           |
+---------------------+--------------------+------------------+-------------------+-------------------+
| RHEL8               | PASS               | PASS             | SKIPPED           | SKIPPED           |
+---------------------+--------------------+------------------+-------------------+-------------------+
| RHEL9               | PASS               | PASS             | SKIPPED           | SKIPPED           |
+---------------------+--------------------+------------------+-------------------+-------------------+
| Ubuntu 20.04        | PASS               | PASS             | SKIPPED           | SKIPPED           |
+---------------------+--------------------+------------------+-------------------+-------------------+
| Ubuntu 22.04        | PASS               | PASS             | PASS              | SKIPPED           |
+---------------------+--------------------+------------------+-------------------+-------------------+
| Ubuntu 24.04        | PASS               | PASS             | PASS              | SKIPPED           |
+---------------------+--------------------+------------------+-------------------+-------------------+
| Alpine              | PASS               | PASS             | SKIPPED           | SKIPPED           |
+---------------------+--------------------+------------------+-------------------+-------------------+
| Windows Server 2022 | SKIPPED            | SKIPPED          | SKIPPED           | PASS              |
+---------------------+--------------------+------------------+-------------------+-------------------+


FreeBSD 13.4
	Kernel: 13.4-RELEASE-p1
	Compiler: clang 18.1.6

FreeBSD 14.1
	Kernel: 14.1-RELEASE-p3
	Compiler: clang 18.1.5

CentOS Stream 9
	Kernel: Depends on container host
	Compiler: gcc 11.4.1 20231218 (Red Hat 11.4.1-3)

Debian 12
	Kernel: Depends on container host
	Compiler: gcc (Debian 12.2.0-14) 12.2.0

Fedora 39 (Clang)
	Kernel: Depends on container host
	Compiler: clang 17.0.6 (Fedora 17.0.6-2.fc39)

Fedora 39
	Kernel: Depends on container host
	Compiler: gcc 13.3.1 20240522 (Red Hat 13.3.1-1)

Fedora 40 (Clang)
	Kernel: Depends on container host
	Compiler: clang 18.1.6 (Fedora 18.1.6-3.fc40)

Fedora 40
	Kernel: Depends on container host
	Compiler: gcc 14.2.1 20240801 (Red Hat 14.2.1-1)

openSUSE Leap 15
	Kernel: Depends on container host
	Compiler: gcc (SUSE Linux) 7.5.0

RHEL8
	Kernel: Depends on container host
	Compiler: gcc 8.5.0 20210514 (Red Hat 8.5.0-22)

RHEL9
	Kernel: Depends on container host
	Compiler: gcc 11.4.1 20231218 (Red Hat 11.4.1-3)

Ubuntu 20.04
	Kernel: Depends on container host
	Compiler: gcc (Ubuntu 9.4.0-1ubuntu1~20.04.2) 9.4.0

Ubuntu 22.04
	Kernel: Depends on container host
	Compiler: gcc (Ubuntu 11.4.0-1ubuntu1~22.04) 11.4.0

Ubuntu 24.04
	Kernel: Depends on container host
	Compiler: gcc (Ubuntu 13.2.0-23ubuntu4) 13.2.0

Alpine
	Kernel: Depends on container host
	Compiler: gcc (Alpine 13.2.1_git20240309) 13.2.1 20240309

Windows Server 2022
	Kernel: 10.0.20348.2031
	Compiler: clang 15.0.7, gcc 14.1.0 (MinGW), and MSVC VS 19.39.33521

To view detailed results, visit:
https://lab.dpdk.org/results/dashboard/patchsets/31789/

UNH-IOL DPDK Community Lab

To manage your email subscriptions, visit: 
https://lab.dpdk.org/results/dashboard/preferences/subscriptions/