From mboxrd@z Thu Jan  1 00:00:00 1970
Return-Path: <test-report-bounces@dpdk.org>
Received: from mails.dpdk.org (mails.dpdk.org [217.70.189.124])
	by inbox.dpdk.org (Postfix) with ESMTP id 2FEF345C5B
	for <public@inbox.dpdk.org>; Sun,  3 Nov 2024 04:14:54 +0100 (CET)
Received: from mails.dpdk.org (localhost [127.0.0.1])
	by mails.dpdk.org (Postfix) with ESMTP id 007A44026B;
	Sun,  3 Nov 2024 04:14:54 +0100 (CET)
Received: from mail-il1-f226.google.com (mail-il1-f226.google.com
 [209.85.166.226])
 by mails.dpdk.org (Postfix) with ESMTP id 2772140150
 for <test-report@dpdk.org>; Sun,  3 Nov 2024 04:14:53 +0100 (CET)
Received: by mail-il1-f226.google.com with SMTP id
 e9e14a558f8ab-3a6aed064b8so9216395ab.0
 for <test-report@dpdk.org>; Sat, 02 Nov 2024 20:14:53 -0700 (PDT)
DKIM-Signature: v=1; a=rsa-sha256; c=relaxed/relaxed;
 d=iol.unh.edu; s=unh-iol; t=1730603692; x=1731208492; darn=dpdk.org;
 h=references:in-reply-to:cc:to:from:subject:message-id:date:from:to
 :cc:subject:date:message-id:reply-to;
 bh=wnHhn5D+Es2l2EjSsKrpkTWTnsK/KzRZyQAUf6j3Tg4=;
 b=iHoX4mYPXHFkYPXPQkEpERb4PRGDQRnbf2MDm9gLJppkVFqtqokR52kFBjMy4c9LBS
 YoCgizCmZai8+8/43Min4svq3zxHhScCgrvLR1PFg37uX/AWzoWAHvACKg79PbXAJMwF
 mG0/blE9lHlhrv+sLUvAfePm+g//Sgby2/SGY=
X-Google-DKIM-Signature: v=1; a=rsa-sha256; c=relaxed/relaxed;
 d=1e100.net; s=20230601; t=1730603692; x=1731208492;
 h=references:in-reply-to:cc:to:from:subject:message-id:date
 :x-gm-message-state:from:to:cc:subject:date:message-id:reply-to;
 bh=wnHhn5D+Es2l2EjSsKrpkTWTnsK/KzRZyQAUf6j3Tg4=;
 b=mQbjQsiY/ODBBXmmGcb8DKG1jhZHR0h2m5C1UQk/f4wAgA5eM7UHgsUMZC7hlmdwry
 A33Ynapd0lozLBwB1a8niKlDuH1ZGmAu/kXd5C46sHpvNOy1hK/bzrznAyZ2maIsVlMR
 oWZyS54qoZP16+XKzIt3ocKwAeilUtRnd6WPeYXpxI8iwBXe7x7utrfYNbxajYVoqFdU
 LZusBwuIeieWq0G9JOjlfUbxDkJk05+t6YmHncQf2TVcmYGTdjDvbM3rQh5CqG2RXyxp
 LWCV2WckmLx6lJwJ9Eon9yxvYxMmLMFKll2vbhMnhxDbWhHdvzQdWcbdUTPDfUfVSFl3
 DVJA==
X-Gm-Message-State: AOJu0YyscUtm4VYvRCfqOEKxu1wQ9BRtfZiU/rmCaod7tF/zhy9OWQAi
 LUFvU84qttcG63AolM04EkmUxw8Svseida/Z+Fa8+vwaWtf9+2GUWC6hA039JITEc4Fhvn4wmiM
 Zy/+WS56lSdRD+ttjNpfBIXITmlIOEiAyITt2HOxh
X-Google-Smtp-Source: AGHT+IEqO47lf9jxj2G1MwknRDlh1wyWO1lyniulDmGpTOxFyAfotVXrZ2ZJJfgbXhNfBUhd1ym8olBS8fBK
X-Received: by 2002:a92:c544:0:b0:3a3:b5ba:bfba with SMTP id
 e9e14a558f8ab-3a6b02f1afbmr85384035ab.15.1730603692262; 
 Sat, 02 Nov 2024 20:14:52 -0700 (PDT)
Received: from postal.iol.unh.edu (postal.iol.unh.edu. [132.177.123.84])
 by smtp-relay.gmail.com with ESMTPS id
 e9e14a558f8ab-3a6a97ac34bsm3219015ab.6.2024.11.02.20.14.52
 (version=TLS1_2 cipher=ECDHE-ECDSA-AES128-GCM-SHA256 bits=128/128);
 Sat, 02 Nov 2024 20:14:52 -0700 (PDT)
X-Relaying-Domain: iol.unh.edu
Date: Sat, 02 Nov 2024 20:14:52 -0700 (PDT)
Message-ID: <6726eaac.050a0220.2fe68.32afSMTPIN_ADDED_MISSING@mx.google.com>
Received: from [172.17.0.2] (unknown [172.18.0.217])
 by postal.iol.unh.edu (Postfix) with ESMTP id B73CA6052471;
 Sat,  2 Nov 2024 23:14:51 -0400 (EDT)
Subject: |SUCCESS| pw147880 [PATCH] [v2] eal/unix: optimize thread creation w
From: dpdklab@iol.unh.edu
To: Test Report <test-report@dpdk.org>
Cc: dpdk-test-reports@iol.unh.edu
In-Reply-To: <20241102113232.2333703-1-david.marchand@redhat.com>
References: <20241102113232.2333703-1-david.marchand@redhat.com>
Content-Type: text/plain
X-BeenThere: test-report@dpdk.org
X-Mailman-Version: 2.1.29
Precedence: list
List-Id: automatic DPDK test reports <test-report.dpdk.org>
List-Unsubscribe: <https://mails.dpdk.org/options/test-report>,
 <mailto:test-report-request@dpdk.org?subject=unsubscribe>
List-Archive: <http://mails.dpdk.org/archives/test-report/>
List-Post: <mailto:test-report@dpdk.org>
List-Help: <mailto:test-report-request@dpdk.org?subject=help>
List-Subscribe: <https://mails.dpdk.org/listinfo/test-report>,
 <mailto:test-report-request@dpdk.org?subject=subscribe>
Errors-To: test-report-bounces@dpdk.org

Test-Label: iol-compile-amd64-testing
Test-Status: SUCCESS
http://dpdk.org/patch/147880

_Testing PASS_

Submitter: David Marchand <david.marchand@redhat.com>
Date: Saturday, November 02 2024 11:32:32 
DPDK git baseline: Repo:dpdk
  Branch: master
  CommitID:c79900e31e3e5a16c7f5410d0800315a0491ccad

147880 --> testing pass

Upstream job id: Windows-Compile-DPDK-Native#24214

Test environment and result as below:

+---------------------+--------------------+------------------+-------------------+-------------------+-----------------------+
|     Environment     | dpdk_meson_compile | dpdk_compile_ovs | dpdk_compile_spdk | dpdk_msvc_compile | dpdk_win_llvm_compile |
+=====================+====================+==================+===================+===================+=======================+
| CentOS Stream 9     | PASS               | PASS             | PASS              | SKIPPED           | SKIPPED               |
+---------------------+--------------------+------------------+-------------------+-------------------+-----------------------+
| Debian 12           | PASS               | PASS             | PASS              | SKIPPED           | SKIPPED               |
+---------------------+--------------------+------------------+-------------------+-------------------+-----------------------+
| Fedora 39 (Clang)   | PASS               | PASS             | PASS              | SKIPPED           | SKIPPED               |
+---------------------+--------------------+------------------+-------------------+-------------------+-----------------------+
| Fedora 39           | PASS               | PASS             | PASS              | SKIPPED           | SKIPPED               |
+---------------------+--------------------+------------------+-------------------+-------------------+-----------------------+
| Fedora 40 (Clang)   | PASS               | PASS             | PASS              | SKIPPED           | SKIPPED               |
+---------------------+--------------------+------------------+-------------------+-------------------+-----------------------+
| Fedora 40           | PASS               | PASS             | PASS              | SKIPPED           | SKIPPED               |
+---------------------+--------------------+------------------+-------------------+-------------------+-----------------------+
| openSUSE Leap 15    | PASS               | PASS             | SKIPPED           | SKIPPED           | SKIPPED               |
+---------------------+--------------------+------------------+-------------------+-------------------+-----------------------+
| RHEL8               | PASS               | PASS             | SKIPPED           | SKIPPED           | SKIPPED               |
+---------------------+--------------------+------------------+-------------------+-------------------+-----------------------+
| RHEL9               | PASS               | PASS             | SKIPPED           | SKIPPED           | SKIPPED               |
+---------------------+--------------------+------------------+-------------------+-------------------+-----------------------+
| Ubuntu 24.04        | PASS               | PASS             | PASS              | SKIPPED           | SKIPPED               |
+---------------------+--------------------+------------------+-------------------+-------------------+-----------------------+
| Ubuntu 20.04        | PASS               | PASS             | SKIPPED           | SKIPPED           | SKIPPED               |
+---------------------+--------------------+------------------+-------------------+-------------------+-----------------------+
| Ubuntu 22.04        | PASS               | PASS             | PASS              | SKIPPED           | SKIPPED               |
+---------------------+--------------------+------------------+-------------------+-------------------+-----------------------+
| Alpine              | PASS               | PASS             | SKIPPED           | SKIPPED           | SKIPPED               |
+---------------------+--------------------+------------------+-------------------+-------------------+-----------------------+
| FreeBSD 13.4        | PASS               | SKIPPED          | SKIPPED           | SKIPPED           | SKIPPED               |
+---------------------+--------------------+------------------+-------------------+-------------------+-----------------------+
| FreeBSD 14.1        | PASS               | SKIPPED          | SKIPPED           | SKIPPED           | SKIPPED               |
+---------------------+--------------------+------------------+-------------------+-------------------+-----------------------+
| Windows Server 2022 | SKIPPED            | SKIPPED          | SKIPPED           | PASS              | PASS                  |
+---------------------+--------------------+------------------+-------------------+-------------------+-----------------------+


CentOS Stream 9
	Kernel: Depends on container host
	Compiler: gcc 11.4.1 20231218 (Red Hat 11.4.1-3)

Debian 12
	Kernel: Depends on container host
	Compiler: gcc (Debian 12.2.0-14) 12.2.0

Fedora 39 (Clang)
	Kernel: Depends on container host
	Compiler: clang 17.0.6 (Fedora 17.0.6-2.fc39)

Fedora 39
	Kernel: Depends on container host
	Compiler: gcc 13.3.1 20240522 (Red Hat 13.3.1-1)

Fedora 40 (Clang)
	Kernel: Depends on container host
	Compiler: clang 18.1.6 (Fedora 18.1.6-3.fc40)

Fedora 40
	Kernel: Depends on container host
	Compiler: gcc 14.2.1 20240801 (Red Hat 14.2.1-1)

openSUSE Leap 15
	Kernel: Depends on container host
	Compiler: gcc (SUSE Linux) 7.5.0

RHEL8
	Kernel: Depends on container host
	Compiler: gcc 8.5.0 20210514 (Red Hat 8.5.0-22)

RHEL9
	Kernel: Depends on container host
	Compiler: gcc 11.4.1 20231218 (Red Hat 11.4.1-3)

Ubuntu 24.04
	Kernel: Depends on container host
	Compiler: gcc (Ubuntu 13.2.0-23ubuntu4) 13.2.0

Ubuntu 20.04
	Kernel: Depends on container host
	Compiler: gcc (Ubuntu 9.4.0-1ubuntu1~20.04.2) 9.4.0

Ubuntu 22.04
	Kernel: Depends on container host
	Compiler: gcc (Ubuntu 11.4.0-1ubuntu1~22.04) 11.4.0

Alpine
	Kernel: Depends on container host
	Compiler: gcc (Alpine 13.2.1_git20240309) 13.2.1 20240309

FreeBSD 13.4
	Kernel: 13.4-RELEASE-p1
	Compiler: clang 18.1.6

FreeBSD 14.1
	Kernel: 14.1-RELEASE-p3
	Compiler: clang 18.1.5

Windows Server 2022
	Kernel: 10.0.20348.2031
	Compiler: clang 15.0.7, gcc 14.1.0 (MinGW), and MSVC VS 19.39.33521

To view detailed results, visit:
https://lab.dpdk.org/results/dashboard/patchsets/31807/

UNH-IOL DPDK Community Lab

To manage your email subscriptions, visit: 
https://lab.dpdk.org/results/dashboard/preferences/subscriptions/