From mboxrd@z Thu Jan  1 00:00:00 1970
Return-Path: <test-report-bounces@dpdk.org>
Received: from mails.dpdk.org (mails.dpdk.org [217.70.189.124])
	by inbox.dpdk.org (Postfix) with ESMTP id C647B45C6E
	for <public@inbox.dpdk.org>; Sun,  3 Nov 2024 16:53:40 +0100 (CET)
Received: from mails.dpdk.org (localhost [127.0.0.1])
	by mails.dpdk.org (Postfix) with ESMTP id 9E2E64021F;
	Sun,  3 Nov 2024 16:53:40 +0100 (CET)
Received: from mail-pl1-f227.google.com (mail-pl1-f227.google.com
 [209.85.214.227])
 by mails.dpdk.org (Postfix) with ESMTP id 1AC6F4014F
 for <test-report@dpdk.org>; Sun,  3 Nov 2024 16:53:39 +0100 (CET)
Received: by mail-pl1-f227.google.com with SMTP id
 d9443c01a7336-20cbca51687so31978515ad.1
 for <test-report@dpdk.org>; Sun, 03 Nov 2024 07:53:38 -0800 (PST)
DKIM-Signature: v=1; a=rsa-sha256; c=relaxed/relaxed;
 d=iol.unh.edu; s=unh-iol; t=1730649218; x=1731254018; darn=dpdk.org;
 h=references:in-reply-to:cc:to:from:subject:message-id:date:from:to
 :cc:subject:date:message-id:reply-to;
 bh=hczQFQWtRBlqgz1Uoc5SfofI3wE6ZybKlkpsC76zdb8=;
 b=WdMC43nJ62FmhpcH1hUpJ2vSEyiutD0DMpO2zsPZQFc+YtggGgKHI8spInl3rGjVv+
 TaLjvHofsu9ZnBlMmVa0AnQaqqBfG1rPv2l6rMgxupQacb6qH6NgZwHK0gL3TxewMO3a
 VVBzmrT0IMFjfhJ+vjMc/rnBO9clKS6SWEGj0=
X-Google-DKIM-Signature: v=1; a=rsa-sha256; c=relaxed/relaxed;
 d=1e100.net; s=20230601; t=1730649218; x=1731254018;
 h=references:in-reply-to:cc:to:from:subject:message-id:date
 :x-gm-message-state:from:to:cc:subject:date:message-id:reply-to;
 bh=hczQFQWtRBlqgz1Uoc5SfofI3wE6ZybKlkpsC76zdb8=;
 b=v2KUTQiqEydOVwBoYXpBSarUjCmY594+Vg5Jmb34+BaqnS/DwvM1r9uf9Tbv2X/Y2t
 5gWbo0AB9jgD2AtB9PrLej+v2oqRDigzYAlUhOKNGou0hlv2TcdkLgOWA4xq3hNH2Dm8
 UNLLsSQQdzRl7bAJ0IgvwR3GfFdv2fxJUhcL9OuSlKaUneo9rUxWJdTmN42/UsBpWNN1
 J7bDwz8dlABakfmq+qgUvyo1hHDZ56fpU+UyYxH4lIVpRoFbU4Bgg1bfiFwdrGzvE5Sz
 0/kp7OoFIOqLvME22lgBQEX4RsG9tYqUdTVwyh1zGrS71/z+J78gXZZdHB0aD9HDFCvW
 DlAg==
X-Gm-Message-State: AOJu0YyKMyEl7qqPwne1+dKtHc8XAb+kx9dk8KJwHX93pWwewEFb8Tyv
 xb5XxE7m2FMDv1C+ItOGium0NTZH2IoYsZ9Pas1qQTxUJjWEEN8pjwjWcbA5Iq4bDD9iNiqIXAr
 eAvw6zYRlQd6lwFPLGQpUCzY7dBXy1X9Dw5Ndy3Bv0t+5/M5PJIU/NOQ9
X-Google-Smtp-Source: AGHT+IEtJ5I0G1bYdLiEXDkCTQGxjpS2DaUD1iRMweT1LraqNvbtuQpqCxcrEzb+IeylZcgkI5XEz8uAVJ/F
X-Received: by 2002:a17:902:ccca:b0:210:fce4:11db with SMTP id
 d9443c01a7336-2111aef27b5mr147639595ad.22.1730649218030; 
 Sun, 03 Nov 2024 07:53:38 -0800 (PST)
Received: from postal.iol.unh.edu (postal.iol.unh.edu.
 [2606:4100:3880:1234::84]) by smtp-relay.gmail.com with ESMTPS id
 d9443c01a7336-211057399d1sm3580945ad.32.2024.11.03.07.53.37
 (version=TLS1_2 cipher=ECDHE-ECDSA-AES128-GCM-SHA256 bits=128/128);
 Sun, 03 Nov 2024 07:53:38 -0800 (PST)
X-Relaying-Domain: iol.unh.edu
Date: Sun, 03 Nov 2024 07:53:38 -0800 (PST)
Message-ID: <67279c82.170a0220.c0ea5.38e3SMTPIN_ADDED_MISSING@mx.google.com>
Received: from [172.17.0.2] (unknown [172.18.0.217])
 by postal.iol.unh.edu (Postfix) with ESMTP id 7372F6052471;
 Sun,  3 Nov 2024 10:53:37 -0500 (EST)
Subject: |SUCCESS| pw146906-146908 [PATCH] [v7,3/3] app/test: add test sm2 C1
From: dpdklab@iol.unh.edu
To: Test Report <test-report@dpdk.org>
Cc: dpdk-test-reports@iol.unh.edu
In-Reply-To: <20241023081934.84997-4-arkadiuszx.kusztal@intel.com>
References: <20241023081934.84997-4-arkadiuszx.kusztal@intel.com>
Content-Type: text/plain
X-BeenThere: test-report@dpdk.org
X-Mailman-Version: 2.1.29
Precedence: list
List-Id: automatic DPDK test reports <test-report.dpdk.org>
List-Unsubscribe: <https://mails.dpdk.org/options/test-report>,
 <mailto:test-report-request@dpdk.org?subject=unsubscribe>
List-Archive: <http://mails.dpdk.org/archives/test-report/>
List-Post: <mailto:test-report@dpdk.org>
List-Help: <mailto:test-report-request@dpdk.org?subject=help>
List-Subscribe: <https://mails.dpdk.org/listinfo/test-report>,
 <mailto:test-report-request@dpdk.org?subject=subscribe>
Errors-To: test-report-bounces@dpdk.org

Test-Label: iol-sample-apps-testing
Test-Status: SUCCESS
http://dpdk.org/patch/146908

_Testing PASS_

Submitter: Arkadiusz Kusztal <arkadiuszx.kusztal@intel.com>
Date: Wednesday, October 23 2024 08:19:34 
DPDK git baseline: Repo:dpdk
  Branch: master
  CommitID:3ee7a3e0e0e0f5a81a4b102a834697bc488fb32f

146906-146908 --> testing pass

Upstream job id: ACVP-FIPS-testing#7686

Test environment and result as below:

+--------------------+----------------------+----------------------+
|    Environment     | compressdev_zlib_pmd | dpdk_fips_validation |
+====================+======================+======================+
| Ubuntu 22.04 (ARM) | PASS                 | SKIPPED              |
+--------------------+----------------------+----------------------+
| Ubuntu 22.04       | PASS                 | SKIPPED              |
+--------------------+----------------------+----------------------+
| Ubuntu 20.04       | SKIPPED              | PASS                 |
+--------------------+----------------------+----------------------+


Ubuntu 22.04 (ARM)
	Kernel: 5.15.0-97-generic
	Compiler: gcc gcc (Ubuntu 11.4.0-1ubuntu1~22.04) 11.4.0

Ubuntu 22.04
	Kernel: 5.15.0-100-generic
	Compiler: gcc gcc (Ubuntu 11.4.0-1ubuntu1~22.04) 11.4.0

Ubuntu 20.04
	Kernel: Depends on container host
	Compiler: gcc (Ubuntu 9.4.0-1ubuntu1~20.04.2) 9.4.0

To view detailed results, visit:
https://lab.dpdk.org/results/dashboard/patchsets/31621/

UNH-IOL DPDK Community Lab

To manage your email subscriptions, visit: 
https://lab.dpdk.org/results/dashboard/preferences/subscriptions/