From mboxrd@z Thu Jan 1 00:00:00 1970 Return-Path: Received: from mails.dpdk.org (mails.dpdk.org [217.70.189.124]) by inbox.dpdk.org (Postfix) with ESMTP id D235145C70 for ; Sun, 3 Nov 2024 20:50:26 +0100 (CET) Received: from mails.dpdk.org (localhost [127.0.0.1]) by mails.dpdk.org (Postfix) with ESMTP id 374944021F; Sun, 3 Nov 2024 20:50:25 +0100 (CET) Received: from mail-vk1-f225.google.com (mail-vk1-f225.google.com [209.85.221.225]) by mails.dpdk.org (Postfix) with ESMTP id 6B3244014F for ; Sun, 3 Nov 2024 20:50:24 +0100 (CET) Received: by mail-vk1-f225.google.com with SMTP id 71dfb90a1353d-50d34db4edeso1916858e0c.0 for ; Sun, 03 Nov 2024 11:50:24 -0800 (PST) DKIM-Signature: v=1; a=rsa-sha256; c=relaxed/relaxed; d=iol.unh.edu; s=unh-iol; t=1730663424; x=1731268224; darn=dpdk.org; h=references:in-reply-to:cc:to:from:subject:message-id:date:from:to :cc:subject:date:message-id:reply-to; bh=BKrk3n1vVYgHvnhyKJZT0VycSHljMNvrWHy6mKTfmUw=; b=fr3fdbawQSgdvy0EhsYpSMAlpgeKfLmYUZZi5jnSVmg7Yfqs9FZAbxPwEz4zssuwfM 905iHAACSazXtplluVOXv+SUBfOoRnNPLLUzj/2+Ys40L4KaZWJ7IbNuCvyKTAjr/0wA iNbAoOQHSAwX84MqYBUiRkZ+Cimv4BEA6rtjQ= X-Google-DKIM-Signature: v=1; a=rsa-sha256; c=relaxed/relaxed; d=1e100.net; s=20230601; t=1730663424; x=1731268224; h=references:in-reply-to:cc:to:from:subject:message-id:date :x-gm-message-state:from:to:cc:subject:date:message-id:reply-to; bh=BKrk3n1vVYgHvnhyKJZT0VycSHljMNvrWHy6mKTfmUw=; b=RIr/+0dlwWQ5Y56TdnAwc+YrkmCJItk8N23eVoTddG/vNDNC0ZsAPc4ZsZR9jntnxT bOJ9Oa/EYzpJds9/UA4AO36D5/qJTEYqD9Q6/Ettl9iwepTD+FaNoqRr7X/3lW3/BSY1 38V7yaYJOwii9sEhdXHeOdV1vhxCVonBntJ6XL82rGS0B8hcRj+xPXUX5G1sGfaxvL1m KuwrpI5lbn9cnLbyyRueNWbHafKDKDzefWAPqSrrJTljY0yB3PcweY/qHaOSM4dRzyUP OJ8IcQ8XDUwoN+yEK3RU4mh+FO8mxKDroZPrT15VKMl9qin1wjzYgK626t8Tnb89ueMi Mb9g== X-Gm-Message-State: AOJu0YwQkiG6bD073Nsmtt0IO0iFjA/Du+aQsoijt/yOL8mWxiCOQp0f HMd54DSaDE+5UYiiqzJs4idWmwRNyb+uM0l/u6MNXRd5Yt1Z/dpWG7D1RFDgNnB5kvD73t62td2 HXh2hqOSVLVaxv+e4lS+7rJAEVHR3YCrz10mFhojt X-Google-Smtp-Source: AGHT+IHEJuk0QRi2rRFoeNmQzJAqpDSV1TMTrvFvyhnvPBCwkOTIArXuGt3SzlN4wUvTF1pccDZvlv9cUs2x X-Received: by 2002:a05:6122:1804:b0:50d:45e1:f32c with SMTP id 71dfb90a1353d-51226c9b25emr8173852e0c.2.1730663423681; Sun, 03 Nov 2024 11:50:23 -0800 (PST) Received: from postal.iol.unh.edu (postal.iol.unh.edu. [132.177.123.84]) by smtp-relay.gmail.com with ESMTPS id 71dfb90a1353d-5106f2cafe2sm432414e0c.4.2024.11.03.11.50.23 (version=TLS1_2 cipher=ECDHE-ECDSA-AES128-GCM-SHA256 bits=128/128); Sun, 03 Nov 2024 11:50:23 -0800 (PST) X-Relaying-Domain: iol.unh.edu Date: Sun, 03 Nov 2024 11:50:23 -0800 (PST) Message-ID: <6727d3ff.050a0220.1316df.75e0SMTPIN_ADDED_MISSING@mx.google.com> Received: from [172.17.0.2] (unknown [172.18.0.217]) by postal.iol.unh.edu (Postfix) with ESMTP id 26F6C6052471; Sun, 3 Nov 2024 14:50:23 -0500 (EST) Subject: |SUCCESS| pw147650-147654 [PATCH] [v6,5/5] net/ice: provide paramete From: dpdklab@iol.unh.edu To: Test Report Cc: dpdk-test-reports@iol.unh.edu In-Reply-To: <20241029170157.1390724-6-bruce.richardson@intel.com> References: <20241029170157.1390724-6-bruce.richardson@intel.com> Content-Type: text/plain X-BeenThere: test-report@dpdk.org X-Mailman-Version: 2.1.29 Precedence: list List-Id: automatic DPDK test reports List-Unsubscribe: , List-Archive: List-Post: List-Help: List-Subscribe: , Errors-To: test-report-bounces@dpdk.org Test-Label: iol-sample-apps-testing Test-Status: SUCCESS http://dpdk.org/patch/147654 _Testing PASS_ Submitter: Bruce Richardson Date: Tuesday, October 29 2024 17:01:57 DPDK git baseline: Repo:dpdk Branch: master CommitID:6dad0bb5c8621644beca86ff5f4910a943ba604d 147650-147654 --> testing pass Upstream job id: ACVP-FIPS-testing#7695 Test environment and result as below: +--------------------+----------------------+----------------------+ | Environment | compressdev_zlib_pmd | dpdk_fips_validation | +====================+======================+======================+ | Ubuntu 22.04 (ARM) | PASS | SKIPPED | +--------------------+----------------------+----------------------+ | Ubuntu 22.04 | PASS | SKIPPED | +--------------------+----------------------+----------------------+ | Ubuntu 20.04 | SKIPPED | PASS | +--------------------+----------------------+----------------------+ Ubuntu 22.04 (ARM) Kernel: 5.15.0-97-generic Compiler: gcc gcc (Ubuntu 11.4.0-1ubuntu1~22.04) 11.4.0 Ubuntu 22.04 Kernel: 5.15.0-100-generic Compiler: gcc gcc (Ubuntu 11.4.0-1ubuntu1~22.04) 11.4.0 Ubuntu 20.04 Kernel: Depends on container host Compiler: gcc (Ubuntu 9.4.0-1ubuntu1~20.04.2) 9.4.0 To view detailed results, visit: https://lab.dpdk.org/results/dashboard/patchsets/31757/ UNH-IOL DPDK Community Lab To manage your email subscriptions, visit: https://lab.dpdk.org/results/dashboard/preferences/subscriptions/