From mboxrd@z Thu Jan  1 00:00:00 1970
Return-Path: <test-report-bounces@dpdk.org>
Received: from mails.dpdk.org (mails.dpdk.org [217.70.189.124])
	by inbox.dpdk.org (Postfix) with ESMTP id 7179B45C57
	for <public@inbox.dpdk.org>; Sun,  3 Nov 2024 22:40:00 +0100 (CET)
Received: from mails.dpdk.org (localhost [127.0.0.1])
	by mails.dpdk.org (Postfix) with ESMTP id 689004021F;
	Sun,  3 Nov 2024 22:40:00 +0100 (CET)
Received: from mail-io1-f100.google.com (mail-io1-f100.google.com
 [209.85.166.100])
 by mails.dpdk.org (Postfix) with ESMTP id 2A1D24014F
 for <test-report@dpdk.org>; Sun,  3 Nov 2024 22:39:59 +0100 (CET)
Received: by mail-io1-f100.google.com with SMTP id
 ca18e2360f4ac-83aba65556cso156631739f.3
 for <test-report@dpdk.org>; Sun, 03 Nov 2024 13:39:59 -0800 (PST)
DKIM-Signature: v=1; a=rsa-sha256; c=relaxed/relaxed;
 d=iol.unh.edu; s=unh-iol; t=1730669998; x=1731274798; darn=dpdk.org;
 h=references:in-reply-to:cc:to:from:subject:message-id:date:from:to
 :cc:subject:date:message-id:reply-to;
 bh=mpHBeTqTSkiBY7Eeh2t0ouvUt3c0yLA4+gsj9yJxUjY=;
 b=A4FekJGAaF9nJQkyH/iGBqhJyv5al7mVAGwUZK7qyf/jbY6kCbyD1gogNvM2pRtiQq
 ndq8LJst5vVyN4MWvO65Yt0QlzfezArRv+6XGS0fo7KF9Hqw7fX+DV1slOvjxIoxNAUs
 wokdpfD7Vu78ofdngr5MdsI+KtLaYeciO8A1g=
X-Google-DKIM-Signature: v=1; a=rsa-sha256; c=relaxed/relaxed;
 d=1e100.net; s=20230601; t=1730669998; x=1731274798;
 h=references:in-reply-to:cc:to:from:subject:message-id:date
 :x-gm-message-state:from:to:cc:subject:date:message-id:reply-to;
 bh=mpHBeTqTSkiBY7Eeh2t0ouvUt3c0yLA4+gsj9yJxUjY=;
 b=oJcvyIJs8MmG9zSbOidxi1PJ3KcKzSTadZv5RpNHS0J/zkrmlJsJ04YDNFiH3hkCXl
 FmgKPcZAUN0YjC8MbUdMznPJPJKtYBW4OjFE505twytjYo3B1C7LpyryvVXtjSws+d8M
 ojbdAwbTo5uRa9qhO6m8L7JYKEkP6BXFEhKF95khcdtgO462d9q59bYJ31YFe3DHlkav
 aVPh17QJFFvKyY63us+qBMYOrg8IqxOnLCe4XnJd0A/mbzmBGW6/DwWx5NM31IBuTmi9
 /DYRTb7tpQSws5gGy4ARMpXJXP+AiD49Ce0R6kF8I9WDVECqpoZCn5GYva3+7DMiKTPK
 w0KA==
X-Gm-Message-State: AOJu0Ywdl8DzHq/+421KrhlKA+/h5qS7Z55Ejzf9jSLXBoZZBbs8797T
 V6dhTgFMk1QyYyKteUlOgMFXoxtXRmDTYR3z0iFzYx5rGSlho/9k06GHumTg52UPSZ3QfIxceC3
 g2KZ60Ul3fVYnaQl3wQXv5VAdl8wRpa1UenM5kTTM
X-Google-Smtp-Source: AGHT+IFyYLZn38RIafoJOa2bA6yaIJ8yGB2z6UcaqP7DYUhv06MMfkujfZg+4MI88evKvor6ytbh/kVQJzar
X-Received: by 2002:a05:6602:6c09:b0:83a:63f4:ad73 with SMTP id
 ca18e2360f4ac-83b71961ebdmr999239239f.4.1730669998431; 
 Sun, 03 Nov 2024 13:39:58 -0800 (PST)
Received: from postal.iol.unh.edu (postal.iol.unh.edu. [132.177.123.84])
 by smtp-relay.gmail.com with ESMTPS id
 ca18e2360f4ac-83b67b38d01sm20902839f.14.2024.11.03.13.39.58
 (version=TLS1_2 cipher=ECDHE-ECDSA-AES128-GCM-SHA256 bits=128/128);
 Sun, 03 Nov 2024 13:39:58 -0800 (PST)
X-Relaying-Domain: iol.unh.edu
Date: Sun, 03 Nov 2024 13:39:58 -0800 (PST)
Message-ID: <6727edae.050a0220.20c95.b006SMTPIN_ADDED_MISSING@mx.google.com>
Received: from [172.17.0.3] (unknown [172.18.0.217])
 by postal.iol.unh.edu (Postfix) with ESMTP id E2CB36052471;
 Sun,  3 Nov 2024 16:39:57 -0500 (EST)
Subject: |SUCCESS| pw147598-147604 [PATCH] [V3,7/7] mlx5: add backward compat
From: dpdklab@iol.unh.edu
To: Test Report <test-report@dpdk.org>
Cc: dpdk-test-reports@iol.unh.edu
In-Reply-To: <20241029143118.875214-8-gavinl@nvidia.com>
References: <20241029143118.875214-8-gavinl@nvidia.com>
Content-Type: text/plain
X-BeenThere: test-report@dpdk.org
X-Mailman-Version: 2.1.29
Precedence: list
List-Id: automatic DPDK test reports <test-report.dpdk.org>
List-Unsubscribe: <https://mails.dpdk.org/options/test-report>,
 <mailto:test-report-request@dpdk.org?subject=unsubscribe>
List-Archive: <http://mails.dpdk.org/archives/test-report/>
List-Post: <mailto:test-report@dpdk.org>
List-Help: <mailto:test-report-request@dpdk.org?subject=help>
List-Subscribe: <https://mails.dpdk.org/listinfo/test-report>,
 <mailto:test-report-request@dpdk.org?subject=subscribe>
Errors-To: test-report-bounces@dpdk.org

Test-Label: iol-sample-apps-testing
Test-Status: SUCCESS
http://dpdk.org/patch/147604

_Testing PASS_

Submitter: Minggang(Gavin) Li <gavinl@nvidia.com>
Date: Tuesday, October 29 2024 14:31:18 
DPDK git baseline: Repo:dpdk
  Branch: master
  CommitID:71c6d89b56ab044d7bdf2a93f242d0a149d171cf

147598-147604 --> testing pass

Upstream job id: ACVP-FIPS-testing#7699

Test environment and result as below:

+--------------------+----------------------+----------------------+
|    Environment     | compressdev_zlib_pmd | dpdk_fips_validation |
+====================+======================+======================+
| Ubuntu 22.04 (ARM) | PASS                 | SKIPPED              |
+--------------------+----------------------+----------------------+
| Ubuntu 22.04       | PASS                 | SKIPPED              |
+--------------------+----------------------+----------------------+
| Ubuntu 20.04       | SKIPPED              | PASS                 |
+--------------------+----------------------+----------------------+


Ubuntu 22.04 (ARM)
	Kernel: 5.15.0-97-generic
	Compiler: gcc gcc (Ubuntu 11.4.0-1ubuntu1~22.04) 11.4.0

Ubuntu 22.04
	Kernel: 5.15.0-100-generic
	Compiler: gcc gcc (Ubuntu 11.4.0-1ubuntu1~22.04) 11.4.0

Ubuntu 20.04
	Kernel: Depends on container host
	Compiler: gcc (Ubuntu 9.4.0-1ubuntu1~20.04.2) 9.4.0

To view detailed results, visit:
https://lab.dpdk.org/results/dashboard/patchsets/31753/

UNH-IOL DPDK Community Lab

To manage your email subscriptions, visit: 
https://lab.dpdk.org/results/dashboard/preferences/subscriptions/