From mboxrd@z Thu Jan  1 00:00:00 1970
Return-Path: <test-report-bounces@dpdk.org>
Received: from mails.dpdk.org (mails.dpdk.org [217.70.189.124])
	by inbox.dpdk.org (Postfix) with ESMTP id 67BC845C73
	for <public@inbox.dpdk.org>; Mon,  4 Nov 2024 11:56:26 +0100 (CET)
Received: from mails.dpdk.org (localhost [127.0.0.1])
	by mails.dpdk.org (Postfix) with ESMTP id 5FFC4402AF;
	Mon,  4 Nov 2024 11:56:26 +0100 (CET)
Received: from mail-pl1-f228.google.com (mail-pl1-f228.google.com
 [209.85.214.228])
 by mails.dpdk.org (Postfix) with ESMTP id EBD474021F
 for <test-report@dpdk.org>; Mon,  4 Nov 2024 11:56:25 +0100 (CET)
Received: by mail-pl1-f228.google.com with SMTP id
 d9443c01a7336-20cceb8d8b4so25302425ad.1
 for <test-report@dpdk.org>; Mon, 04 Nov 2024 02:56:25 -0800 (PST)
DKIM-Signature: v=1; a=rsa-sha256; c=relaxed/relaxed;
 d=iol.unh.edu; s=unh-iol; t=1730717785; x=1731322585; darn=dpdk.org;
 h=references:in-reply-to:cc:to:from:subject:message-id:date:from:to
 :cc:subject:date:message-id:reply-to;
 bh=DKRq7W9U1JdeqnK6vhKBxWuUZQiWdC6Te3LCTyOatfU=;
 b=RAV9KkFvwDK/SOFj3yctv/i2RbZ66Wb8rcp1AAkIjUriQprMxCNEQmyUQMTlMcecHU
 u5B7QEC4kJjpbXjuNDrRsfKjzjD30QSt95GTbmZT6GTdKz/VV8F5f/ZLLWeaQIxQ36bb
 FYIPK/N/NwCV1xXLq7TRZ+sV0WNcELXCeUAtg=
X-Google-DKIM-Signature: v=1; a=rsa-sha256; c=relaxed/relaxed;
 d=1e100.net; s=20230601; t=1730717785; x=1731322585;
 h=references:in-reply-to:cc:to:from:subject:message-id:date
 :x-gm-message-state:from:to:cc:subject:date:message-id:reply-to;
 bh=DKRq7W9U1JdeqnK6vhKBxWuUZQiWdC6Te3LCTyOatfU=;
 b=f33MP92/+u/aAGc620EOoZhBdpGJY7CItadoEVbyeY3PafYlJbK8h5hiNlAe6mzemY
 lD+UddfX6TVwUskWeCxmFYOmqaSAPQbZLAMj87m6H9aKdOHeZ2Q8hVKrnxrFETKfQYdh
 avhaTUlX9OxXpYxygdXxLQpVOtYoFKWgmYzbneYoLH45Vy3WOb19Ufc2lBEfoZ+8SIFp
 czBdH7A29KuKXsWRk6Fnbp7MWUCr1nlov2cVy4hffAoyunw86ZM1pW0v8HfqLS9BMpYP
 6QhgvULDmwG2VGirc1SKxYEgjItnf+N6PQwfrWljMLfgOV85QOWyz7QFWDeBe7n1oGiu
 NuXQ==
X-Gm-Message-State: AOJu0YxMZ2hZB0kEvYkrr+C+VA3axDmbbbZq9T3F2CL9tLnhp5P3kPGw
 9N0xSSjMHMjWZhB0/t6LisLoFUbJXSHbGPqHkenl0Eo4/4eTYzBr+SYDYfYlpwQzYRhWp78rPyB
 /CKrF0XirgdXGgmetH4woSmSEaV4PY0ayK9fa/m5Y
X-Google-Smtp-Source: AGHT+IG3/7HCxBbyOiae6t5ys1cq8NQ4J5Bhtooy5iFN1A4UR+b3/l+WmYCZF8efdckdQF1CAPSgFuNd5o20
X-Received: by 2002:a17:903:440d:b0:20c:ea22:3317 with SMTP id
 d9443c01a7336-211057cf265mr214311185ad.29.1730717785183; 
 Mon, 04 Nov 2024 02:56:25 -0800 (PST)
Received: from postal.iol.unh.edu (postal.iol.unh.edu. [132.177.123.84])
 by smtp-relay.gmail.com with ESMTPS id
 d9443c01a7336-211057168a0sm4410205ad.17.2024.11.04.02.56.25
 (version=TLS1_2 cipher=ECDHE-ECDSA-AES128-GCM-SHA256 bits=128/128);
 Mon, 04 Nov 2024 02:56:25 -0800 (PST)
X-Relaying-Domain: iol.unh.edu
Date: Mon, 04 Nov 2024 02:56:25 -0800 (PST)
Message-ID: <6728a859.170a0220.225ba7.9212SMTPIN_ADDED_MISSING@mx.google.com>
Received: from [172.21.0.6] (unknown [172.18.0.240])
 by postal.iol.unh.edu (Postfix) with ESMTP id 489AA6052471;
 Mon,  4 Nov 2024 05:56:24 -0500 (EST)
Subject: |SUCCESS| pw147888-147897 [PATCH] [v3,13/13] net/ngbe: restrict conf
From: dpdklab@iol.unh.edu
To: Test Report <test-report@dpdk.org>
Cc: dpdk-test-reports@iol.unh.edu
In-Reply-To: <20241104023007.782475-14-jiawenwu@trustnetic.com>
References: <20241104023007.782475-14-jiawenwu@trustnetic.com>
Content-Type: text/plain
X-BeenThere: test-report@dpdk.org
X-Mailman-Version: 2.1.29
Precedence: list
List-Id: automatic DPDK test reports <test-report.dpdk.org>
List-Unsubscribe: <https://mails.dpdk.org/options/test-report>,
 <mailto:test-report-request@dpdk.org?subject=unsubscribe>
List-Archive: <http://mails.dpdk.org/archives/test-report/>
List-Post: <mailto:test-report@dpdk.org>
List-Help: <mailto:test-report-request@dpdk.org?subject=help>
List-Subscribe: <https://mails.dpdk.org/listinfo/test-report>,
 <mailto:test-report-request@dpdk.org?subject=subscribe>
Errors-To: test-report-bounces@dpdk.org

Test-Label: iol-unit-arm64-testing
Test-Status: SUCCESS
http://dpdk.org/patch/147897

_Testing PASS_

Submitter: Jiawen Wu <jiawenwu@trustnetic.com>
Date: Monday, November 04 2024 02:30:07 
DPDK git baseline: Repo:dpdk
  Branch: master
  CommitID:1bbb60642423bb0c3f638f7d63a9e6dd6863785e

147888-147897 --> testing pass

Upstream job id: Generic-Unit-Test-DPDK#288240

Test environment and result as below:

+-----------------------------+--------------+---------------------------+----------------+------------------------------+
|         Environment         | lpm_autotest | cryptodev_sw_zuc_autotest | dpdk_unit_test | cryptodev_sw_snow3g_autotest |
+=============================+==============+===========================+================+==============================+
| Ubuntu 20.04 ARM SVE        | PASS         | SKIPPED                   | SKIPPED        | SKIPPED                      |
+-----------------------------+--------------+---------------------------+----------------+------------------------------+
| Debian 12 (arm)             | SKIPPED      | PASS                      | PASS           | PASS                         |
+-----------------------------+--------------+---------------------------+----------------+------------------------------+
| CentOS Stream 9 (ARM)       | SKIPPED      | SKIPPED                   | PASS           | SKIPPED                      |
+-----------------------------+--------------+---------------------------+----------------+------------------------------+
| Fedora 39 (ARM)             | SKIPPED      | SKIPPED                   | PASS           | SKIPPED                      |
+-----------------------------+--------------+---------------------------+----------------+------------------------------+
| Fedora 40 (ARM)             | SKIPPED      | SKIPPED                   | PASS           | SKIPPED                      |
+-----------------------------+--------------+---------------------------+----------------+------------------------------+
| Fedora 40 (ARM Clang)       | SKIPPED      | SKIPPED                   | PASS           | SKIPPED                      |
+-----------------------------+--------------+---------------------------+----------------+------------------------------+
| Fedora 39 (ARM Clang)       | SKIPPED      | SKIPPED                   | PASS           | SKIPPED                      |
+-----------------------------+--------------+---------------------------+----------------+------------------------------+
| Ubuntu 20.04 (ARM)          | SKIPPED      | SKIPPED                   | PASS           | SKIPPED                      |
+-----------------------------+--------------+---------------------------+----------------+------------------------------+
| Ubuntu 24.04 (ARM)          | SKIPPED      | SKIPPED                   | PASS           | SKIPPED                      |
+-----------------------------+--------------+---------------------------+----------------+------------------------------+
| Ubuntu 22.04 (ARM)          | SKIPPED      | SKIPPED                   | PASS           | SKIPPED                      |
+-----------------------------+--------------+---------------------------+----------------+------------------------------+
| RHEL9 (ARM)                 | SKIPPED      | SKIPPED                   | PASS           | SKIPPED                      |
+-----------------------------+--------------+---------------------------+----------------+------------------------------+
| 32-bit Ubuntu 22.04.4 (ARM) | SKIPPED      | SKIPPED                   | PASS           | SKIPPED                      |
+-----------------------------+--------------+---------------------------+----------------+------------------------------+


Ubuntu 20.04 ARM SVE
	Kernel: Depends on container host
	Compiler: gcc (Ubuntu 10.5.0-1ubuntu1~20.04) 10.5.0

Debian 12 (arm)
	Kernel: Depends on container host
	Compiler: gcc (Debian 12.2.0-14) 12.2.0

CentOS Stream 9 (ARM)
	Kernel: Depends on container host
	Compiler: gcc 11.4.1 20231218 (Red Hat 11.4.1-3)

Fedora 39 (ARM)
	Kernel: Depends on container host
	Compiler: gcc 13.3.1 20240522 (Red Hat 13.3.1-1)

Fedora 40 (ARM)
	Kernel: Depends on container host
	Compiler: gcc 14.2.1 20240801 (Red Hat 14.2.1-1)

Fedora 40 (ARM Clang)
	Kernel: Depends on container host
	Compiler: clang 18.1.6 (Fedora 18.1.6-3.fc40)

Fedora 39 (ARM Clang)
	Kernel: Depends on container host
	Compiler: clang 17.0.6 (Fedora 17.0.6-2.fc39)

Ubuntu 20.04 (ARM)
	Kernel: Depends on container host
	Compiler: gcc (Ubuntu 9.4.0-1ubuntu1~20.04.2) 9.4.0

Ubuntu 24.04 (ARM)
	Kernel: Depends on container host
	Compiler: gcc (Ubuntu 13.2.0-23ubuntu4) 13.2.0

Ubuntu 22.04 (ARM)
	Kernel: Depends on container host
	Compiler: gcc (Ubuntu 11.4.0-1ubuntu1~22.04) 11.4.0

RHEL9 (ARM)
	Kernel: Depends on container host
	Compiler: gcc 11.4.1 20231218 (Red Hat 11.4.1-3)

32-bit Ubuntu 22.04.4 (ARM)
	Kernel: 5.15.83+ aarch64
	Compiler: gcc (Ubuntu 11.4.0-1ubuntu1~22.04) 11.4.0

To view detailed results, visit:
https://lab.dpdk.org/results/dashboard/patchsets/31810/

UNH-IOL DPDK Community Lab

To manage your email subscriptions, visit: 
https://lab.dpdk.org/results/dashboard/preferences/subscriptions/