From mboxrd@z Thu Jan  1 00:00:00 1970
Return-Path: <test-report-bounces@dpdk.org>
Received: from mails.dpdk.org (mails.dpdk.org [217.70.189.124])
	by inbox.dpdk.org (Postfix) with ESMTP id 2BF9545C82
	for <public@inbox.dpdk.org>; Tue,  5 Nov 2024 05:54:03 +0100 (CET)
Received: from mails.dpdk.org (localhost [127.0.0.1])
	by mails.dpdk.org (Postfix) with ESMTP id 0BD4E4060B;
	Tue,  5 Nov 2024 05:54:03 +0100 (CET)
Received: from mail-pj1-f100.google.com (mail-pj1-f100.google.com
 [209.85.216.100])
 by mails.dpdk.org (Postfix) with ESMTP id C0E5B4028E
 for <test-report@dpdk.org>; Tue,  5 Nov 2024 05:54:01 +0100 (CET)
Received: by mail-pj1-f100.google.com with SMTP id
 98e67ed59e1d1-2e3686088c3so3628527a91.0
 for <test-report@dpdk.org>; Mon, 04 Nov 2024 20:54:01 -0800 (PST)
DKIM-Signature: v=1; a=rsa-sha256; c=relaxed/relaxed;
 d=iol.unh.edu; s=unh-iol; t=1730782441; x=1731387241; darn=dpdk.org;
 h=references:in-reply-to:cc:to:from:subject:message-id:date:from:to
 :cc:subject:date:message-id:reply-to;
 bh=gzeoTmBSv053i7lmJAO+Z/M55mFqeJ5exiiF1J6nLT4=;
 b=MdwjdfEaZMjZB/G5wtjfTH4rOy4O4Yi/Q6ooKjGAtwK/pTsZFYBlxu2sQl5BHqmhwY
 8wTy0vnTY3cqxXKlzLJZUS9NPyxoBDFzFonE99zn+fgp2dcjSIb4ekDlWzuGVRPlHlEG
 YM7KpFZtvTGUArSWFKAJsUE//PNw/gp8+ZkrE=
X-Google-DKIM-Signature: v=1; a=rsa-sha256; c=relaxed/relaxed;
 d=1e100.net; s=20230601; t=1730782441; x=1731387241;
 h=references:in-reply-to:cc:to:from:subject:message-id:date
 :x-gm-message-state:from:to:cc:subject:date:message-id:reply-to;
 bh=gzeoTmBSv053i7lmJAO+Z/M55mFqeJ5exiiF1J6nLT4=;
 b=LmcbsRGGrisk5loemk/wU/UD1qoaGVrQ3bujm5+tdA6kZzceGxxtNH7s07s5r/uZMR
 arUWTDPF8rTC6jqUWHp+0oeA3bYjcl/t31/sTvto6apP/k6SLyhWWU7h0bLhqAmZH6y/
 1Kv2R+9KlYE9TqbkGhLAgNQgUIfjiYCrJWGk6XK7JJkGdnzk0aEm5ppeeVvgT6lGFNlY
 sPCP0SgUTcOIaAVliQLobAJK8eyJrv3DfUtS2vBAZ2q01YhH0cQhwMknsywN6Co6ii6U
 3Zf2XT6S3cLq26EdkUx8Q7cLnX3ONZy+Fow4E9SZQOPgas3RioMHZtHByBanS1s+1e6N
 RFfg==
X-Gm-Message-State: AOJu0Yx1cwau2Ba8IXAiqbahggDOhxJ/1Ay93DocXtON9Uyu3CJu734R
 3ctIm4KqORJ7lt/PwY0RmTPjA4ZyzuPDfd/dmhp/x8VYkkveB14fpkw5H1zVZQ9dPaH7AKtaagd
 8aN0GzmN+d9yMIHT0BP3We1Vx3SX0U0YbJRnJqh1T
X-Google-Smtp-Source: AGHT+IHsm1vaQ8ZC59mrXTT4EtFwKs8nAs4dT7oT+oq+qhwnL88I482icztBB6R9ExU7+8rfjASx4wEn6ZKA
X-Received: by 2002:a17:90b:4c46:b0:2e2:8fb4:502d with SMTP id
 98e67ed59e1d1-2e92ce52d78mr25027924a91.16.1730782440747; 
 Mon, 04 Nov 2024 20:54:00 -0800 (PST)
Received: from postal.iol.unh.edu (postal.iol.unh.edu. [132.177.123.84])
 by smtp-relay.gmail.com with ESMTPS id
 98e67ed59e1d1-2e92fbdbc00sm830772a91.13.2024.11.04.20.54.00
 (version=TLS1_2 cipher=ECDHE-ECDSA-AES128-GCM-SHA256 bits=128/128);
 Mon, 04 Nov 2024 20:54:00 -0800 (PST)
X-Relaying-Domain: iol.unh.edu
Date: Mon, 04 Nov 2024 20:54:00 -0800 (PST)
Message-ID: <6729a4e8.170a0220.36bcc0.d4b2SMTPIN_ADDED_MISSING@mx.google.com>
Received: from [172.17.0.2] (unknown [172.18.0.217])
 by postal.iol.unh.edu (Postfix) with ESMTP id E374F6052471;
 Mon,  4 Nov 2024 23:53:59 -0500 (EST)
Subject: |SUCCESS| pw147761-147767 [PATCH] [v7,7/7] test: add stress test sui
From: dpdklab@iol.unh.edu
To: Test Report <test-report@dpdk.org>
Cc: dpdk-test-reports@iol.unh.edu
In-Reply-To: <20241030212304.104180-8-konstantin.ananyev@huawei.com>
References: <20241030212304.104180-8-konstantin.ananyev@huawei.com>
Content-Type: text/plain
X-BeenThere: test-report@dpdk.org
X-Mailman-Version: 2.1.29
Precedence: list
List-Id: automatic DPDK test reports <test-report.dpdk.org>
List-Unsubscribe: <https://mails.dpdk.org/options/test-report>,
 <mailto:test-report-request@dpdk.org?subject=unsubscribe>
List-Archive: <http://mails.dpdk.org/archives/test-report/>
List-Post: <mailto:test-report@dpdk.org>
List-Help: <mailto:test-report-request@dpdk.org?subject=help>
List-Subscribe: <https://mails.dpdk.org/listinfo/test-report>,
 <mailto:test-report-request@dpdk.org?subject=subscribe>
Errors-To: test-report-bounces@dpdk.org

Test-Label: iol-sample-apps-testing
Test-Status: SUCCESS
http://dpdk.org/patch/147767

_Testing PASS_

Submitter: Konstantin Ananyev <konstantin.ananyev@huawei.com>
Date: Wednesday, October 30 2024 21:23:04 
DPDK git baseline: Repo:dpdk
  Branch: master
  CommitID:2a682d65f8dbe1e8be9cc2425095827e18c700e3

147761-147767 --> testing pass

Upstream job id: ACVP-FIPS-testing#7742

Test environment and result as below:

+--------------------+----------------------+----------------------+
|    Environment     | compressdev_zlib_pmd | dpdk_fips_validation |
+====================+======================+======================+
| Ubuntu 22.04 (ARM) | PASS                 | SKIPPED              |
+--------------------+----------------------+----------------------+
| Ubuntu 22.04       | PASS                 | SKIPPED              |
+--------------------+----------------------+----------------------+
| Ubuntu 20.04       | SKIPPED              | PASS                 |
+--------------------+----------------------+----------------------+


Ubuntu 22.04 (ARM)
	Kernel: 5.15.0-97-generic
	Compiler: gcc gcc (Ubuntu 11.4.0-1ubuntu1~22.04) 11.4.0

Ubuntu 22.04
	Kernel: 5.15.0-100-generic
	Compiler: gcc gcc (Ubuntu 11.4.0-1ubuntu1~22.04) 11.4.0

Ubuntu 20.04
	Kernel: Depends on container host
	Compiler: gcc (Ubuntu 9.4.0-1ubuntu1~20.04.2) 9.4.0

To view detailed results, visit:
https://lab.dpdk.org/results/dashboard/patchsets/31787/

UNH-IOL DPDK Community Lab

To manage your email subscriptions, visit: 
https://lab.dpdk.org/results/dashboard/preferences/subscriptions/