From mboxrd@z Thu Jan  1 00:00:00 1970
Return-Path: <test-report-bounces@dpdk.org>
Received: from mails.dpdk.org (mails.dpdk.org [217.70.189.124])
	by inbox.dpdk.org (Postfix) with ESMTP id 2DC1D45C9E
	for <public@inbox.dpdk.org>; Wed,  6 Nov 2024 20:12:09 +0100 (CET)
Received: from mails.dpdk.org (localhost [127.0.0.1])
	by mails.dpdk.org (Postfix) with ESMTP id 03022402BC;
	Wed,  6 Nov 2024 20:12:09 +0100 (CET)
Received: from mail-io1-f99.google.com (mail-io1-f99.google.com
 [209.85.166.99]) by mails.dpdk.org (Postfix) with ESMTP id 1E89C40289
 for <test-report@dpdk.org>; Wed,  6 Nov 2024 20:12:07 +0100 (CET)
Received: by mail-io1-f99.google.com with SMTP id
 ca18e2360f4ac-83ab6cbd8b1so6059439f.1
 for <test-report@dpdk.org>; Wed, 06 Nov 2024 11:12:07 -0800 (PST)
DKIM-Signature: v=1; a=rsa-sha256; c=relaxed/relaxed;
 d=iol.unh.edu; s=unh-iol; t=1730920326; x=1731525126; darn=dpdk.org;
 h=references:in-reply-to:cc:to:from:subject:message-id:date:from:to
 :cc:subject:date:message-id:reply-to;
 bh=Oo2GkeJNmL4b5/++JJyhMhAZeohhrQN2NZ3gp7B3c40=;
 b=Q03KTWPpzDFDh8Ofr9+53i5dwf59tsoa/uhkKZ55aV8I3TQfWGVnpgIAq8tHyjMDy2
 Q0PkLmz538sPIzyvOzqLDZBgByqai6Hd5nBd+NLe98QRTBiL2siwnf/UF+XY74srowZP
 6OQ8ykFUyHxuhEeq6zjDUHIjZ5la0BLWNfbgQ=
X-Google-DKIM-Signature: v=1; a=rsa-sha256; c=relaxed/relaxed;
 d=1e100.net; s=20230601; t=1730920326; x=1731525126;
 h=references:in-reply-to:cc:to:from:subject:message-id:date
 :x-gm-message-state:from:to:cc:subject:date:message-id:reply-to;
 bh=Oo2GkeJNmL4b5/++JJyhMhAZeohhrQN2NZ3gp7B3c40=;
 b=dreELO4hhpZHgpRSgL4W/O0UtcSCa4SzAHMf/9aBK3OQIgUg7hX6ebBRnzoAKJdNOr
 BT6MjJ5l9BfemV8UWOLGWOLCfREoBPERa5VTcwLKig6T6N2B2dXBir3kfGKbeXe3brzr
 PH5XJPWH0g6a8FAE8uiRt9mhjxX0UQwJAdNeNTctYudtqjmGwOd2lVRu34PCssY9x0NM
 HO8oaI7olzzafRlXxg4sNLJBkjlg+RA0oWA7+macgQpOI7rg4msBrYhyGPySutstCcSb
 CFXSNV/XXKITSnH5mAPv4fsPxR6TIdJbZ218QJXSD8m8u/vzyWeIZEWr4hs09Sk26R11
 KvvA==
X-Gm-Message-State: AOJu0Yz9l63nce/0cvhIaRvrFeAfXOJzegrlgtT61mR0lex7E5uLEBlI
 e98DNH2CLKM8E3dL2oH73Usd5kdgdRm9CXk1m7t2JuKJR6q4wjpCUYEkbeDqsAFmpOSTtl+9P1M
 thREWPAe0v9V7Hn4crJFW2NCX2HILr3p2eDcAA2x9
X-Google-Smtp-Source: AGHT+IHiO77ABkTHAsr13nA34PFj7qKlPjObL8O/HcG06MLb9cyf3piw2Z50G+W1d1Jy9Fjzh2UkqVamIYIB
X-Received: by 2002:a05:6602:2b8e:b0:834:f2ff:ad66 with SMTP id
 ca18e2360f4ac-83b7194beafmr2112937639f.5.1730920326110; 
 Wed, 06 Nov 2024 11:12:06 -0800 (PST)
Received: from postal.iol.unh.edu (postal.iol.unh.edu. [132.177.123.84])
 by smtp-relay.gmail.com with ESMTPS id
 8926c6da1cb9f-4de0487dea4sm507609173.12.2024.11.06.11.12.06
 (version=TLS1_2 cipher=ECDHE-ECDSA-AES128-GCM-SHA256 bits=128/128);
 Wed, 06 Nov 2024 11:12:06 -0800 (PST)
X-Relaying-Domain: iol.unh.edu
Date: Wed, 06 Nov 2024 11:12:06 -0800 (PST)
Message-ID: <672bbf86.050a0220.1afe27.8a1bSMTPIN_ADDED_MISSING@mx.google.com>
Received: from [172.17.0.3] (unknown [172.18.0.217])
 by postal.iol.unh.edu (Postfix) with ESMTP id 9B11A6052471;
 Wed,  6 Nov 2024 14:12:05 -0500 (EST)
Subject: |SUCCESS| pw148017-148018 [PATCH] [v2,2/2] eventdev: add standard al
From: dpdklab@iol.unh.edu
To: Test Report <test-report@dpdk.org>
Cc: dpdk-test-reports@iol.unh.edu
In-Reply-To: <20241106163106.1114932-3-bruce.richardson@intel.com>
References: <20241106163106.1114932-3-bruce.richardson@intel.com>
Content-Type: text/plain
X-BeenThere: test-report@dpdk.org
X-Mailman-Version: 2.1.29
Precedence: list
List-Id: automatic DPDK test reports <test-report.dpdk.org>
List-Unsubscribe: <https://mails.dpdk.org/options/test-report>,
 <mailto:test-report-request@dpdk.org?subject=unsubscribe>
List-Archive: <http://mails.dpdk.org/archives/test-report/>
List-Post: <mailto:test-report@dpdk.org>
List-Help: <mailto:test-report-request@dpdk.org?subject=help>
List-Subscribe: <https://mails.dpdk.org/listinfo/test-report>,
 <mailto:test-report-request@dpdk.org?subject=subscribe>
Errors-To: test-report-bounces@dpdk.org

Test-Label: iol-unit-amd64-testing
Test-Status: SUCCESS
http://dpdk.org/patch/148018

_Testing PASS_

Submitter: Bruce Richardson <bruce.richardson@intel.com>
Date: Wednesday, November 06 2024 16:31:06 
DPDK git baseline: Repo:dpdk
  Branch: master
  CommitID:5b3f2f14790d803451b62c3f26b6ca05f9bb35e4

148017-148018 --> testing pass

Upstream job id: Generic-VM-Unit-Test-DPDK#26082

Test environment and result as below:

+---------------------+----------------+
|     Environment     | dpdk_unit_test |
+=====================+================+
| RHEL8               | PASS           |
+---------------------+----------------+
| Ubuntu 22.04        | PASS           |
+---------------------+----------------+
| Fedora 39 (Clang)   | PASS           |
+---------------------+----------------+
| Fedora 40 (Clang)   | PASS           |
+---------------------+----------------+
| Fedora 40           | PASS           |
+---------------------+----------------+
| CentOS Stream 9     | PASS           |
+---------------------+----------------+
| Fedora 39           | PASS           |
+---------------------+----------------+
| Ubuntu 24.04        | PASS           |
+---------------------+----------------+
| Debian 12           | PASS           |
+---------------------+----------------+
| Ubuntu 20.04        | PASS           |
+---------------------+----------------+
| RHEL9               | PASS           |
+---------------------+----------------+
| Windows Server 2022 | PASS           |
+---------------------+----------------+


RHEL8
	Kernel: Depends on container host
	Compiler: gcc 8.5.0 20210514 (Red Hat 8.5.0-22)

Ubuntu 22.04
	Kernel: Depends on container host
	Compiler: gcc (Ubuntu 11.4.0-1ubuntu1~22.04) 11.4.0

Fedora 39 (Clang)
	Kernel: Depends on container host
	Compiler: clang 17.0.6 (Fedora 17.0.6-2.fc39)

Fedora 40 (Clang)
	Kernel: Depends on container host
	Compiler: clang 18.1.6 (Fedora 18.1.6-3.fc40)

Fedora 40
	Kernel: Depends on container host
	Compiler: gcc 14.2.1 20240801 (Red Hat 14.2.1-1)

CentOS Stream 9
	Kernel: Depends on container host
	Compiler: gcc 11.4.1 20231218 (Red Hat 11.4.1-3)

Fedora 39
	Kernel: Depends on container host
	Compiler: gcc 13.3.1 20240522 (Red Hat 13.3.1-1)

Ubuntu 24.04
	Kernel: Depends on container host
	Compiler: gcc (Ubuntu 13.2.0-23ubuntu4) 13.2.0

Debian 12
	Kernel: Depends on container host
	Compiler: gcc (Debian 12.2.0-14) 12.2.0

Ubuntu 20.04
	Kernel: Depends on container host
	Compiler: gcc (Ubuntu 9.4.0-1ubuntu1~20.04.2) 9.4.0

RHEL9
	Kernel: Depends on container host
	Compiler: gcc 11.4.1 20231218 (Red Hat 11.4.1-3)

Windows Server 2022
	Kernel: 10.0.20348.2031
	Compiler: clang 15.0.7, gcc 14.1.0 (MinGW), and MSVC VS 19.39.33521

To view detailed results, visit:
https://lab.dpdk.org/results/dashboard/patchsets/31839/

UNH-IOL DPDK Community Lab

To manage your email subscriptions, visit: 
https://lab.dpdk.org/results/dashboard/preferences/subscriptions/