From mboxrd@z Thu Jan  1 00:00:00 1970
Return-Path: <test-report-bounces@dpdk.org>
Received: from mails.dpdk.org (mails.dpdk.org [217.70.189.124])
	by inbox.dpdk.org (Postfix) with ESMTP id 3700845C9E
	for <public@inbox.dpdk.org>; Wed,  6 Nov 2024 21:29:10 +0100 (CET)
Received: from mails.dpdk.org (localhost [127.0.0.1])
	by mails.dpdk.org (Postfix) with ESMTP id 446CD42E54;
	Wed,  6 Nov 2024 21:29:09 +0100 (CET)
Received: from mail-oa1-f100.google.com (mail-oa1-f100.google.com
 [209.85.160.100])
 by mails.dpdk.org (Postfix) with ESMTP id 0AEAF402BC
 for <test-report@dpdk.org>; Wed,  6 Nov 2024 21:29:08 +0100 (CET)
Received: by mail-oa1-f100.google.com with SMTP id
 586e51a60fabf-28c654c9e79so731075fac.0
 for <test-report@dpdk.org>; Wed, 06 Nov 2024 12:29:07 -0800 (PST)
DKIM-Signature: v=1; a=rsa-sha256; c=relaxed/relaxed;
 d=iol.unh.edu; s=unh-iol; t=1730924947; x=1731529747; darn=dpdk.org;
 h=references:in-reply-to:cc:to:from:subject:message-id:date:from:to
 :cc:subject:date:message-id:reply-to;
 bh=JQ+wwRXELSLI6KYE43TmGVkeWK/h5c/oeSNLS5LMIF8=;
 b=QQozzI2s2iTlbe+tl7ZW/bGgQFMpn90vXkYPvhJCgaoqyapNdMqVKpyhCPdkCvCFEt
 4sK8LnqyCTwD4CkP4ccWzbMat1p+KxMVwX++r2+fmkvqscDWM07wrxwpUby/Y6AS56So
 6IXR5cj66FbyJDLD9DWllKH6yJOOZnhs8MTl0=
X-Google-DKIM-Signature: v=1; a=rsa-sha256; c=relaxed/relaxed;
 d=1e100.net; s=20230601; t=1730924947; x=1731529747;
 h=references:in-reply-to:cc:to:from:subject:message-id:date
 :x-gm-message-state:from:to:cc:subject:date:message-id:reply-to;
 bh=JQ+wwRXELSLI6KYE43TmGVkeWK/h5c/oeSNLS5LMIF8=;
 b=cMPatyBnk3VDsCqiK9K+kEkvGI1NuiR1A5wdzvUciYDMZXyUFQzsJuYDh+rfNuiaJj
 uxLp7L1qeMN4iv9Mjm7CAk01XA3F0Ac6CNmvNrwuqKvHTkNfVW9nDtEZOh0LZabTrvAr
 d2Hdao+S2SU8Bq9IcCtqw1Z6z22EsLG1R4e6ZIKF6p6bwl54HOJfRvty/f9DuBg7TBVG
 yuL9eAN7IMcR1XouaVwqL3E7o+1GKiD7XJ6utsdFcMWjFptMGPNMzwYnnEMMunMtO7XP
 bTBK6rOZ2G4C9P6Bg5QGILuFrtNoJcerDIot4/OUQhVJaUzbN/roxvzQ3ctbtc1cWmTW
 jcaA==
X-Gm-Message-State: AOJu0YxmOvren+VX2I4ibwdGqNkdncFk0tss+rT4SReRNytYOIZWSHo8
 8D5j0jxSQNGicoDmUMO5pv8JOBm2AaVmwqHdxvSxOtLMwQGiwd3cXsjY1VJyZSzoJidPWl0jHmy
 e+a/mVvoHzqBeQnv/xQ6zP3tjSa1UcHDAW0tmcDDsE+PhJLqbl5HsqYc4
X-Google-Smtp-Source: AGHT+IFQPrJiMJbyX8RXrXhAAMvD9KlZPMgBdMgrYIZl3ivmyd3txIW9TvEWB+SkvXJfrKqX6iKSmYvYGhOk
X-Received: by 2002:a05:6870:fb8a:b0:260:26a2:68e8 with SMTP id
 586e51a60fabf-29542f7d31fmr357233fac.4.1730924947123; 
 Wed, 06 Nov 2024 12:29:07 -0800 (PST)
Received: from postal.iol.unh.edu (postal.iol.unh.edu.
 [2606:4100:3880:1234::84]) by smtp-relay.gmail.com with ESMTPS id
 586e51a60fabf-29525a8f35asm139542fac.4.2024.11.06.12.29.07
 (version=TLS1_2 cipher=ECDHE-ECDSA-AES128-GCM-SHA256 bits=128/128);
 Wed, 06 Nov 2024 12:29:07 -0800 (PST)
X-Relaying-Domain: iol.unh.edu
Date: Wed, 06 Nov 2024 12:29:07 -0800 (PST)
Message-ID: <672bd193.050a0220.f2033.6885SMTPIN_ADDED_MISSING@mx.google.com>
Received: from [172.17.0.2] (unknown [172.18.0.217])
 by postal.iol.unh.edu (Postfix) with ESMTP id 943176052471;
 Wed,  6 Nov 2024 15:29:06 -0500 (EST)
Subject: |SUCCESS| pw148017-148018 [PATCH] [v2,2/2] eventdev: add standard al
From: dpdklab@iol.unh.edu
To: Test Report <test-report@dpdk.org>
Cc: dpdk-test-reports@iol.unh.edu
In-Reply-To: <20241106163106.1114932-3-bruce.richardson@intel.com>
References: <20241106163106.1114932-3-bruce.richardson@intel.com>
Content-Type: text/plain
X-BeenThere: test-report@dpdk.org
X-Mailman-Version: 2.1.29
Precedence: list
List-Id: automatic DPDK test reports <test-report.dpdk.org>
List-Unsubscribe: <https://mails.dpdk.org/options/test-report>,
 <mailto:test-report-request@dpdk.org?subject=unsubscribe>
List-Archive: <http://mails.dpdk.org/archives/test-report/>
List-Post: <mailto:test-report@dpdk.org>
List-Help: <mailto:test-report-request@dpdk.org?subject=help>
List-Subscribe: <https://mails.dpdk.org/listinfo/test-report>,
 <mailto:test-report-request@dpdk.org?subject=subscribe>
Errors-To: test-report-bounces@dpdk.org

Test-Label: iol-compile-arm64-testing
Test-Status: SUCCESS
http://dpdk.org/patch/148018

_Testing PASS_

Submitter: Bruce Richardson <bruce.richardson@intel.com>
Date: Wednesday, November 06 2024 16:31:06 
DPDK git baseline: Repo:dpdk
  Branch: master
  CommitID:5b3f2f14790d803451b62c3f26b6ca05f9bb35e4

148017-148018 --> testing pass

Upstream job id: Generic-DPDK-Compile-Meson#330367

Test environment and result as below:

+----------------------------------------+--------------------+
|              Environment               | dpdk_meson_compile |
+========================================+====================+
| RHEL9 (ARM)                            | PASS               |
+----------------------------------------+--------------------+
| Ubuntu 20.04 ARM GCC Cross Compile     | PASS               |
+----------------------------------------+--------------------+
| Fedora 39 (ARM)                        | PASS               |
+----------------------------------------+--------------------+
| Ubuntu 20.04 ARM SVE                   | PASS               |
+----------------------------------------+--------------------+
| Debian 12 with MUSDK                   | PASS               |
+----------------------------------------+--------------------+
| Fedora 39 (ARM Clang)                  | PASS               |
+----------------------------------------+--------------------+
| Fedora 40 (ARM Clang)                  | PASS               |
+----------------------------------------+--------------------+
| Ubuntu 24.04 (ARM)                     | PASS               |
+----------------------------------------+--------------------+
| Fedora 40 (ARM)                        | PASS               |
+----------------------------------------+--------------------+
| Ubuntu 20.04 (ARM)                     | PASS               |
+----------------------------------------+--------------------+
| Ubuntu 22.04 (ARM)                     | PASS               |
+----------------------------------------+--------------------+
| Debian 12 (arm)                        | PASS               |
+----------------------------------------+--------------------+
| CentOS Stream 9 (ARM)                  | PASS               |
+----------------------------------------+--------------------+
| Ubuntu 20.04 aarch32 GCC Cross Compile | PASS               |
+----------------------------------------+--------------------+
| Ubuntu 20.04 ARM Clang Cross Compile   | PASS               |
+----------------------------------------+--------------------+


RHEL9 (ARM)
	Kernel: Depends on container host
	Compiler: gcc 11.4.1 20231218 (Red Hat 11.4.1-3)

Ubuntu 20.04 ARM GCC Cross Compile
	Kernel: Depends on container host
	Compiler: aarch64-linux-gnu-gcc (Ubuntu 9.4.0-1ubuntu1~20.04.2) 9.4.0

Fedora 39 (ARM)
	Kernel: Depends on container host
	Compiler: gcc 13.3.1 20240522 (Red Hat 13.3.1-1)

Ubuntu 20.04 ARM SVE
	Kernel: Depends on container host
	Compiler: gcc (Ubuntu 10.5.0-1ubuntu1~20.04) 10.5.0

Debian 12 with MUSDK
	Kernel: Depends on container host
	Compiler: gcc (Debian 12.2.0-14) 12.2.0

Fedora 39 (ARM Clang)
	Kernel: Depends on container host
	Compiler: clang 17.0.6 (Fedora 17.0.6-2.fc39)

Fedora 40 (ARM Clang)
	Kernel: Depends on container host
	Compiler: clang 18.1.6 (Fedora 18.1.6-3.fc40)

Ubuntu 24.04 (ARM)
	Kernel: Depends on container host
	Compiler: gcc (Ubuntu 13.2.0-23ubuntu4) 13.2.0

Fedora 40 (ARM)
	Kernel: Depends on container host
	Compiler: gcc 14.2.1 20240801 (Red Hat 14.2.1-1)

Ubuntu 20.04 (ARM)
	Kernel: Depends on container host
	Compiler: gcc (Ubuntu 9.4.0-1ubuntu1~20.04.2) 9.4.0

Ubuntu 22.04 (ARM)
	Kernel: Depends on container host
	Compiler: gcc (Ubuntu 11.4.0-1ubuntu1~22.04) 11.4.0

Debian 12 (arm)
	Kernel: Depends on container host
	Compiler: gcc (Debian 12.2.0-14) 12.2.0

CentOS Stream 9 (ARM)
	Kernel: Depends on container host
	Compiler: gcc 11.4.1 20231218 (Red Hat 11.4.1-3)

Ubuntu 20.04 aarch32 GCC Cross Compile
	Kernel: Depends on container host
	Compiler: gcc 9.4.0

Ubuntu 20.04 ARM Clang Cross Compile
	Kernel: Depends on container host
	Compiler: clang 10.0.0-4ubuntu1

To view detailed results, visit:
https://lab.dpdk.org/results/dashboard/patchsets/31839/

UNH-IOL DPDK Community Lab

To manage your email subscriptions, visit: 
https://lab.dpdk.org/results/dashboard/preferences/subscriptions/