From mboxrd@z Thu Jan  1 00:00:00 1970
Return-Path: <test-report-bounces@dpdk.org>
Received: from mails.dpdk.org (mails.dpdk.org [217.70.189.124])
	by inbox.dpdk.org (Postfix) with ESMTP id 6E80545CA7
	for <public@inbox.dpdk.org>; Thu,  7 Nov 2024 09:56:25 +0100 (CET)
Received: from mails.dpdk.org (localhost [127.0.0.1])
	by mails.dpdk.org (Postfix) with ESMTP id 563C642E86;
	Thu,  7 Nov 2024 09:56:25 +0100 (CET)
Received: from mail-qv1-f100.google.com (mail-qv1-f100.google.com
 [209.85.219.100])
 by mails.dpdk.org (Postfix) with ESMTP id ACEDB41611
 for <test-report@dpdk.org>; Thu,  7 Nov 2024 09:56:23 +0100 (CET)
Received: by mail-qv1-f100.google.com with SMTP id
 6a1803df08f44-6cbcc2bd7fcso4401476d6.1
 for <test-report@dpdk.org>; Thu, 07 Nov 2024 00:56:23 -0800 (PST)
DKIM-Signature: v=1; a=rsa-sha256; c=relaxed/relaxed;
 d=iol.unh.edu; s=unh-iol; t=1730969783; x=1731574583; darn=dpdk.org;
 h=cc:to:from:subject:message-id:date:from:to:cc:subject:date
 :message-id:reply-to;
 bh=CLPq2QYUS5yPmywIrlTYUzkY8hBqH5UfOdQWs+gMrg4=;
 b=Bbmfa96Lkcu0UfQCc7vqvAbqU8ytDBS14koCMDBGNJj6738JbiuSK2INorHZRmU2p9
 LtO1b2DXFvyNQlDMTgBzbvFTyF4WaIFLYbLcMmyucngdi09eEDBu1sRR8X07jktvKqfb
 mmcLP7uocp4zu4tSdWAjAvKtWsCHA9UXi6FuY=
X-Google-DKIM-Signature: v=1; a=rsa-sha256; c=relaxed/relaxed;
 d=1e100.net; s=20230601; t=1730969783; x=1731574583;
 h=cc:to:from:subject:message-id:date:x-gm-message-state:from:to:cc
 :subject:date:message-id:reply-to;
 bh=CLPq2QYUS5yPmywIrlTYUzkY8hBqH5UfOdQWs+gMrg4=;
 b=Z1ZC4ApEvSd6XEVt8WaZZ7wlqoZD3heKdTjZoo//EcOL990tTvVJ/5U0ncCUwXMpme
 j38B1vTEPS6xIc0+cE6kWIn8PuauZaj75oF+NO6RpZj9qWBxBCyo+G1Ap13ntlDzoycR
 Y4LUTdlOv5CKrP8vnT71WWNRDH2shSRoMNuscWyc6yr5Cbl+zxyBiAbFWDl083t54j9z
 zB6NL40YX+OU3nNr0B7TCn+aH9UxqlN49L23Z5ZeLGgCO3ai65DSs3EYT2Km3VVhPxGJ
 6fnk2+gSbHtSqx2aGVd/lyvoZKJHNGVY35JxwRIfx/1nAArTvMwixJR3o7fKZnOg79/r
 ebEA==
X-Gm-Message-State: AOJu0YwdNs4NNqy0EB2Qsow2mzzAQSzlimfU3tGsk2W8WvU2y+R8Al7F
 4MR/NmexdCP9tZhh+qPnJATVxm5HYYQ4ZEcGnuYjun2gVByimgeG8vjCL9MXbGvGRFR8Dr3FZ0I
 33Qn6kMCn2p8JRSWnSCR3q7Aor2OoZLOo
X-Google-Smtp-Source: AGHT+IHj9EfoK7Z+Va8fshs+VqCohjq/HAHRcG73TGCrbVJRzRfutWS6KtPIjf70GJKvUJa3RDsFHL9yGwxr
X-Received: by 2002:a05:6214:5b07:b0:6ce:2fa1:842a with SMTP id
 6a1803df08f44-6d39a51a74amr4766786d6.15.1730969782994; 
 Thu, 07 Nov 2024 00:56:22 -0800 (PST)
Received: from postal.iol.unh.edu (postal.iol.unh.edu. [132.177.123.84])
 by smtp-relay.gmail.com with ESMTPS id
 6a1803df08f44-6d3961df321sm566886d6.11.2024.11.07.00.56.22
 (version=TLS1_2 cipher=ECDHE-ECDSA-AES128-GCM-SHA256 bits=128/128);
 Thu, 07 Nov 2024 00:56:22 -0800 (PST)
X-Relaying-Domain: iol.unh.edu
Date: Thu, 07 Nov 2024 00:56:22 -0800 (PST)
Message-ID: <672c80b6.050a0220.1a85ef.3d0eSMTPIN_ADDED_MISSING@mx.google.com>
Received: from [172.17.0.3] (unknown [172.18.0.217])
 by postal.iol.unh.edu (Postfix) with ESMTP id A93E46052471;
 Thu,  7 Nov 2024 03:56:22 -0500 (EST)
Subject: |SUCCESS| [GIT MASTER] d20fd65f258afb5b572fe686b7d1032aeb95e079
From: dpdklab@iol.unh.edu
To: Test Report <test-report@dpdk.org>
Cc: dpdk-test-reports@iol.unh.edu, Xueming Li <xuemingl@nvidia.com>,
 Christian Ehrhardt <christian.ehrhardt@canonical.com>,
 Kevin Traynor <ktraynor@redhat.com>, Luca Boccassi <bluca@debian.org>
Content-Type: text/plain
X-BeenThere: test-report@dpdk.org
X-Mailman-Version: 2.1.29
Precedence: list
List-Id: automatic DPDK test reports <test-report.dpdk.org>
List-Unsubscribe: <https://mails.dpdk.org/options/test-report>,
 <mailto:test-report-request@dpdk.org?subject=unsubscribe>
List-Archive: <http://mails.dpdk.org/archives/test-report/>
List-Post: <mailto:test-report@dpdk.org>
List-Help: <mailto:test-report-request@dpdk.org?subject=help>
List-Subscribe: <https://mails.dpdk.org/listinfo/test-report>,
 <mailto:test-report-request@dpdk.org?subject=subscribe>
Errors-To: test-report-bounces@dpdk.org

_Testing PASS_

Branch: tags/v21.11

d20fd65f258afb5b572fe686b7d1032aeb95e079 --> testing pass

Upstream job id: Generic-DPDK-Compile-Meson#330493

Test environment and result as below:

+---------------------+--------------------+-----------------------+----------------------+
|     Environment     | dpdk_meson_compile | dpdk_win_llvm_compile | dpdk_mingw64_compile |
+=====================+====================+=======================+======================+
| CentOS Stream 9     | PASS               | SKIPPED               | SKIPPED              |
+---------------------+--------------------+-----------------------+----------------------+
| Fedora 39 (Clang)   | PASS               | SKIPPED               | SKIPPED              |
+---------------------+--------------------+-----------------------+----------------------+
| Debian 12           | PASS               | SKIPPED               | SKIPPED              |
+---------------------+--------------------+-----------------------+----------------------+
| RHEL8               | PASS               | SKIPPED               | SKIPPED              |
+---------------------+--------------------+-----------------------+----------------------+
| openSUSE Leap 15    | PASS               | SKIPPED               | SKIPPED              |
+---------------------+--------------------+-----------------------+----------------------+
| Fedora 40 (Clang)   | PASS               | SKIPPED               | SKIPPED              |
+---------------------+--------------------+-----------------------+----------------------+
| Fedora 40           | PASS               | SKIPPED               | SKIPPED              |
+---------------------+--------------------+-----------------------+----------------------+
| RHEL9               | PASS               | SKIPPED               | SKIPPED              |
+---------------------+--------------------+-----------------------+----------------------+
| Ubuntu 20.04        | PASS               | SKIPPED               | SKIPPED              |
+---------------------+--------------------+-----------------------+----------------------+
| Ubuntu 24.04        | PASS               | SKIPPED               | SKIPPED              |
+---------------------+--------------------+-----------------------+----------------------+
| Ubuntu 22.04        | PASS               | SKIPPED               | SKIPPED              |
+---------------------+--------------------+-----------------------+----------------------+
| FreeBSD 13.4        | PASS               | SKIPPED               | SKIPPED              |
+---------------------+--------------------+-----------------------+----------------------+
| FreeBSD 14.1        | PASS               | SKIPPED               | SKIPPED              |
+---------------------+--------------------+-----------------------+----------------------+
| Fedora 39           | PASS               | SKIPPED               | SKIPPED              |
+---------------------+--------------------+-----------------------+----------------------+
| Windows Server 2022 | SKIPPED            | PASS                  | PASS                 |
+---------------------+--------------------+-----------------------+----------------------+


CentOS Stream 9
	Kernel: Depends on container host
	Compiler: gcc 11.4.1 20231218 (Red Hat 11.4.1-3)

Fedora 39 (Clang)
	Kernel: Depends on container host
	Compiler: clang 17.0.6 (Fedora 17.0.6-2.fc39)

Debian 12
	Kernel: Depends on container host
	Compiler: gcc (Debian 12.2.0-14) 12.2.0

RHEL8
	Kernel: Depends on container host
	Compiler: gcc 8.5.0 20210514 (Red Hat 8.5.0-22)

openSUSE Leap 15
	Kernel: Depends on container host
	Compiler: gcc (SUSE Linux) 7.5.0

Fedora 40 (Clang)
	Kernel: Depends on container host
	Compiler: clang 18.1.6 (Fedora 18.1.6-3.fc40)

Fedora 40
	Kernel: Depends on container host
	Compiler: gcc 14.2.1 20240801 (Red Hat 14.2.1-1)

RHEL9
	Kernel: Depends on container host
	Compiler: gcc 11.4.1 20231218 (Red Hat 11.4.1-3)

Ubuntu 20.04
	Kernel: Depends on container host
	Compiler: gcc (Ubuntu 9.4.0-1ubuntu1~20.04.2) 9.4.0

Ubuntu 24.04
	Kernel: Depends on container host
	Compiler: gcc (Ubuntu 13.2.0-23ubuntu4) 13.2.0

Ubuntu 22.04
	Kernel: Depends on container host
	Compiler: gcc (Ubuntu 11.4.0-1ubuntu1~22.04) 11.4.0

FreeBSD 13.4
	Kernel: 13.4-RELEASE-p1
	Compiler: clang 18.1.6

FreeBSD 14.1
	Kernel: 14.1-RELEASE-p3
	Compiler: clang 18.1.5

Fedora 39
	Kernel: Depends on container host
	Compiler: gcc 13.3.1 20240522 (Red Hat 13.3.1-1)

Windows Server 2022
	Kernel: 10.0.20348.2031
	Compiler: clang 15.0.7, gcc 14.1.0 (MinGW), and MSVC VS 19.39.33521

To view detailed results, visit:
https://lab.dpdk.org/results/dashboard/tarballs/31450/

UNH-IOL DPDK Community Lab

To manage your email subscriptions, visit: 
https://lab.dpdk.org/results/dashboard/preferences/subscriptions/