From mboxrd@z Thu Jan  1 00:00:00 1970
Return-Path: <test-report-bounces@dpdk.org>
Received: from mails.dpdk.org (mails.dpdk.org [217.70.189.124])
	by inbox.dpdk.org (Postfix) with ESMTP id EDAA345CA9
	for <public@inbox.dpdk.org>; Thu,  7 Nov 2024 13:20:14 +0100 (CET)
Received: from mails.dpdk.org (localhost [127.0.0.1])
	by mails.dpdk.org (Postfix) with ESMTP id CACE2402AC;
	Thu,  7 Nov 2024 13:20:14 +0100 (CET)
Received: from mail-oa1-f99.google.com (mail-oa1-f99.google.com
 [209.85.160.99]) by mails.dpdk.org (Postfix) with ESMTP id 5973D402AC
 for <test-report@dpdk.org>; Thu,  7 Nov 2024 13:20:13 +0100 (CET)
Received: by mail-oa1-f99.google.com with SMTP id
 586e51a60fabf-2884e6ed0daso383683fac.0
 for <test-report@dpdk.org>; Thu, 07 Nov 2024 04:20:13 -0800 (PST)
DKIM-Signature: v=1; a=rsa-sha256; c=relaxed/relaxed;
 d=iol.unh.edu; s=unh-iol; t=1730982012; x=1731586812; darn=dpdk.org;
 h=references:in-reply-to:cc:to:from:subject:message-id:date:from:to
 :cc:subject:date:message-id:reply-to;
 bh=5VOXuzbT8iQ6RiSDhsnYSndst5WnP4wAAcYvnmv331I=;
 b=bp+aJoZ8qEvCDQhM722pEK8G3lvKqmUgHdo3Ibq+03haB4Zu63iAUZRhMrAW0AmiI3
 IVu3CPkdo7xmlACmnI92c1v6bRQ2vzzEN56Losx620zjIofvhY/I0fg2znpwQajvtBHy
 ENps4w0eOkciqg2W8A56LmeFTVcJ5R4OF0yJQ=
X-Google-DKIM-Signature: v=1; a=rsa-sha256; c=relaxed/relaxed;
 d=1e100.net; s=20230601; t=1730982012; x=1731586812;
 h=references:in-reply-to:cc:to:from:subject:message-id:date
 :x-gm-message-state:from:to:cc:subject:date:message-id:reply-to;
 bh=5VOXuzbT8iQ6RiSDhsnYSndst5WnP4wAAcYvnmv331I=;
 b=AR0qBaP2ibPBy3IHb2sTkuy536FeXlWtFm2gz9GFgRNEB/Zpnkl56WprVWeCPuKZlo
 LHBWGaj745MIQpyAZpAYknattmo4kGizKds2kfvr3O7T+zn8hwN5fpPhhh7s7JOI969M
 odzScXSFJSM0nnQiVnclt0ckQ18OC7i03BgQkrfxolP+qRgu4PbGtZQfH5sqMuiF/0JV
 Vg6pgVFvDsveTdLfnZHjvkACziX12CYf/BRoGa08NgGdp7a6eWHwZzdX3wZUKtXWo24e
 igzW7kxdo2LF+Zu93ItsUA+ft+1qSC1h8KBYRA8QhaUNuOe/1clRmdNskHpIwUcANYbl
 CAVw==
X-Gm-Message-State: AOJu0YyPkpgZ6orOoOgFhwZECYroahFvuxRZDDv12UAQgI7PdX/0vnzC
 vR7Q/X6wJet/PFozvJ27nKJvb6VugOT6s83ueDv62StSBF8Mfus/ovCe5QgymnLkPY0a2kr7dEb
 1k7k/omylBrMMtReqWLpKZgd+xyL11PGWcEID1nf5
X-Google-Smtp-Source: AGHT+IFBzP096tO0D4rJzCf+btYH3RBeBAZfGRG3uQhxhatVpVenPsci2FJUlSEikok7m9NOOUYdMLrMqRNE
X-Received: by 2002:a05:6870:218b:b0:288:aee9:e739 with SMTP id
 586e51a60fabf-29051af0f9bmr37624181fac.1.1730982012504; 
 Thu, 07 Nov 2024 04:20:12 -0800 (PST)
Received: from postal.iol.unh.edu (postal.iol.unh.edu. [132.177.123.84])
 by smtp-relay.gmail.com with ESMTPS id
 41be03b00d2f7-7f41f5c9dafsm20342a12.16.2024.11.07.04.20.12
 (version=TLS1_2 cipher=ECDHE-ECDSA-AES128-GCM-SHA256 bits=128/128);
 Thu, 07 Nov 2024 04:20:12 -0800 (PST)
X-Relaying-Domain: iol.unh.edu
Date: Thu, 07 Nov 2024 04:20:12 -0800 (PST)
Message-ID: <672cb07c.650a0220.349452.156aSMTPIN_ADDED_MISSING@mx.google.com>
Received: from [172.17.0.2] (unknown [172.18.0.217])
 by postal.iol.unh.edu (Postfix) with ESMTP id 85FF96052471;
 Thu,  7 Nov 2024 07:20:11 -0500 (EST)
Subject: |SUCCESS| pw148017-148018 [PATCH] [v2,2/2] eventdev: add standard al
From: dpdklab@iol.unh.edu
To: Test Report <test-report@dpdk.org>
Cc: dpdk-test-reports@iol.unh.edu
In-Reply-To: <20241106163106.1114932-3-bruce.richardson@intel.com>
References: <20241106163106.1114932-3-bruce.richardson@intel.com>
Content-Type: text/plain
X-BeenThere: test-report@dpdk.org
X-Mailman-Version: 2.1.29
Precedence: list
List-Id: automatic DPDK test reports <test-report.dpdk.org>
List-Unsubscribe: <https://mails.dpdk.org/options/test-report>,
 <mailto:test-report-request@dpdk.org?subject=unsubscribe>
List-Archive: <http://mails.dpdk.org/archives/test-report/>
List-Post: <mailto:test-report@dpdk.org>
List-Help: <mailto:test-report-request@dpdk.org?subject=help>
List-Subscribe: <https://mails.dpdk.org/listinfo/test-report>,
 <mailto:test-report-request@dpdk.org?subject=subscribe>
Errors-To: test-report-bounces@dpdk.org

Test-Label: iol-sample-apps-testing
Test-Status: SUCCESS
http://dpdk.org/patch/148018

_Testing PASS_

Submitter: Bruce Richardson <bruce.richardson@intel.com>
Date: Wednesday, November 06 2024 16:31:06 
DPDK git baseline: Repo:dpdk
  Branch: master
  CommitID:5b3f2f14790d803451b62c3f26b6ca05f9bb35e4

148017-148018 --> testing pass

Upstream job id: ACVP-FIPS-testing#7817

Test environment and result as below:

+--------------------+----------------------+----------------------+
|    Environment     | compressdev_zlib_pmd | dpdk_fips_validation |
+====================+======================+======================+
| Ubuntu 22.04 (ARM) | PASS                 | SKIPPED              |
+--------------------+----------------------+----------------------+
| Ubuntu 22.04       | PASS                 | SKIPPED              |
+--------------------+----------------------+----------------------+
| Ubuntu 20.04       | SKIPPED              | PASS                 |
+--------------------+----------------------+----------------------+


Ubuntu 22.04 (ARM)
	Kernel: 5.15.0-97-generic
	Compiler: gcc gcc (Ubuntu 11.4.0-1ubuntu1~22.04) 11.4.0

Ubuntu 22.04
	Kernel: 5.15.0-100-generic
	Compiler: gcc gcc (Ubuntu 11.4.0-1ubuntu1~22.04) 11.4.0

Ubuntu 20.04
	Kernel: Depends on container host
	Compiler: gcc (Ubuntu 9.4.0-1ubuntu1~20.04.2) 9.4.0

To view detailed results, visit:
https://lab.dpdk.org/results/dashboard/patchsets/31839/

UNH-IOL DPDK Community Lab

To manage your email subscriptions, visit: 
https://lab.dpdk.org/results/dashboard/preferences/subscriptions/