From mboxrd@z Thu Jan  1 00:00:00 1970
Return-Path: <test-report-bounces@dpdk.org>
Received: from mails.dpdk.org (mails.dpdk.org [217.70.189.124])
	by inbox.dpdk.org (Postfix) with ESMTP id 7E2FC45CA0
	for <public@inbox.dpdk.org>; Thu,  7 Nov 2024 17:09:03 +0100 (CET)
Received: from mails.dpdk.org (localhost [127.0.0.1])
	by mails.dpdk.org (Postfix) with ESMTP id 6B71142F8F;
	Thu,  7 Nov 2024 17:09:03 +0100 (CET)
Received: from mail-oi1-f228.google.com (mail-oi1-f228.google.com
 [209.85.167.228])
 by mails.dpdk.org (Postfix) with ESMTP id 6425742E45
 for <test-report@dpdk.org>; Thu,  7 Nov 2024 17:09:02 +0100 (CET)
Received: by mail-oi1-f228.google.com with SMTP id
 5614622812f47-3e607556c83so726445b6e.1
 for <test-report@dpdk.org>; Thu, 07 Nov 2024 08:09:02 -0800 (PST)
DKIM-Signature: v=1; a=rsa-sha256; c=relaxed/relaxed;
 d=iol.unh.edu; s=unh-iol; t=1730995741; x=1731600541; darn=dpdk.org;
 h=references:in-reply-to:cc:to:from:subject:message-id:date:from:to
 :cc:subject:date:message-id:reply-to;
 bh=jPfK+3i7kuhAgnBpdI/R3rr0yay1bQj1sqPFguFTDpk=;
 b=bUcHGIuBigzHe6s+L//tf3zOPkLJPH1xFgaemyL9dF2RAe7nJiaA65xdO0tEx0wSFT
 TFzjYmqUMJr0kX4fFIhpJmHYi6xX90hHKSb+kM2yoHYHWGmW3/rb1mGukh5nsYnh+tun
 gPSuDl3APONeKcqesVJj+iX2RRkDk5OzxY9U0=
X-Google-DKIM-Signature: v=1; a=rsa-sha256; c=relaxed/relaxed;
 d=1e100.net; s=20230601; t=1730995741; x=1731600541;
 h=references:in-reply-to:cc:to:from:subject:message-id:date
 :x-gm-message-state:from:to:cc:subject:date:message-id:reply-to;
 bh=jPfK+3i7kuhAgnBpdI/R3rr0yay1bQj1sqPFguFTDpk=;
 b=ELu5A9z6auD6l9K8HkK0ELlizDbtZhlrRLOVa2KdNYb4KgeAaL8MCUTTYa0BuVnU8Q
 SFhddg1R1/EA7TPgnOgen88rcOxIGZzysLr86+ejPpYGe63SWXAcbR/dh1rRYbihRI/2
 unoMDQA6JIPEw0LdAd3fY9W+mZOloJ+4uqu5rKrLdCBUrMZThrfcdsniQXiwkzEffN3m
 t/9Cg65RaoOAVJcQXDbY7FWcHbzIt044Jj2CFv5kuItFPpZIAyUw4cwwWI5/CgQlbgB7
 wfpBDjDQP+6XpAhx75n5fIJcyVDtQENsvgUiFgq5CumZCgJkjJpiDnlpjj4DrgvmOLsP
 nNVw==
X-Gm-Message-State: AOJu0YyuD31ei54KV81s8deLNqmvYRAP7+Ww7e1ZzrGtguJk+casUaZp
 2KSjSbO6Y/w6r1ohCQKNkOzP0XINfTiHisE1oBwiZcVhUlojsPpDgCNUMxRpVlm8xCaLbcEqsKa
 6maGgydz/0YkrTlJADkiPNvQ7aDgjLdZGAYwy4X7KkFsD9rKSnxGd5RC6
X-Google-Smtp-Source: AGHT+IGF2fWMijl5nYu5mL4lliQJ34E5R6gvNx8/vyJAfem+iYPUqZxGd06TyXTXdcq5eZvYkzcjz0uOG9PU
X-Received: by 2002:a05:6808:1812:b0:3e4:d683:c24d with SMTP id
 5614622812f47-3e6384cb1aamr41512366b6e.43.1730995741296; 
 Thu, 07 Nov 2024 08:09:01 -0800 (PST)
Received: from postal.iol.unh.edu (postal.iol.unh.edu.
 [2606:4100:3880:1234::84]) by smtp-relay.gmail.com with ESMTPS id
 8926c6da1cb9f-4de5f8e8045sm62140173.68.2024.11.07.08.09.01
 (version=TLS1_2 cipher=ECDHE-ECDSA-AES128-GCM-SHA256 bits=128/128);
 Thu, 07 Nov 2024 08:09:01 -0800 (PST)
X-Relaying-Domain: iol.unh.edu
Date: Thu, 07 Nov 2024 08:09:01 -0800 (PST)
Message-ID: <672ce61d.050a0220.3105aa.4194SMTPIN_ADDED_MISSING@mx.google.com>
Received: from [172.17.0.5] (unknown [172.18.0.217])
 by postal.iol.unh.edu (Postfix) with ESMTP id C30A46052471;
 Thu,  7 Nov 2024 11:09:00 -0500 (EST)
Subject: |SUCCESS| pw148028 [PATCH] [TEST,v10] ethdev: support single queue p
From: dpdklab@iol.unh.edu
To: Test Report <test-report@dpdk.org>
Cc: dpdk-test-reports@iol.unh.edu
In-Reply-To: <20241106220216.1505231-1-mb@smartsharesystems.com>
References: <20241106220216.1505231-1-mb@smartsharesystems.com>
Content-Type: text/plain
X-BeenThere: test-report@dpdk.org
X-Mailman-Version: 2.1.29
Precedence: list
List-Id: automatic DPDK test reports <test-report.dpdk.org>
List-Unsubscribe: <https://mails.dpdk.org/options/test-report>,
 <mailto:test-report-request@dpdk.org?subject=unsubscribe>
List-Archive: <http://mails.dpdk.org/archives/test-report/>
List-Post: <mailto:test-report@dpdk.org>
List-Help: <mailto:test-report-request@dpdk.org?subject=help>
List-Subscribe: <https://mails.dpdk.org/listinfo/test-report>,
 <mailto:test-report-request@dpdk.org?subject=subscribe>
Errors-To: test-report-bounces@dpdk.org

Test-Label: iol-sample-apps-testing
Test-Status: SUCCESS
http://dpdk.org/patch/148028

_Testing PASS_

Submitter: Morten Brorup <mb@smartsharesystems.com>
Date: Wednesday, November 06 2024 22:02:16 
DPDK git baseline: Repo:dpdk
  Branch: master
  CommitID:9bbd44d63846cf0771ec0f1c7e1b5a63ec5e9603

148028 --> testing pass

Upstream job id: ACVP-FIPS-testing#7824

Test environment and result as below:

+--------------------+----------------------+----------------------+
|    Environment     | compressdev_zlib_pmd | dpdk_fips_validation |
+====================+======================+======================+
| Ubuntu 22.04 (ARM) | PASS                 | SKIPPED              |
+--------------------+----------------------+----------------------+
| Ubuntu 22.04       | PASS                 | SKIPPED              |
+--------------------+----------------------+----------------------+
| Ubuntu 20.04       | SKIPPED              | PASS                 |
+--------------------+----------------------+----------------------+


Ubuntu 22.04 (ARM)
	Kernel: 5.15.0-97-generic
	Compiler: gcc gcc (Ubuntu 11.4.0-1ubuntu1~22.04) 11.4.0

Ubuntu 22.04
	Kernel: 5.15.0-100-generic
	Compiler: gcc gcc (Ubuntu 11.4.0-1ubuntu1~22.04) 11.4.0

Ubuntu 20.04
	Kernel: Depends on container host
	Compiler: gcc (Ubuntu 9.4.0-1ubuntu1~20.04.2) 9.4.0

To view detailed results, visit:
https://lab.dpdk.org/results/dashboard/patchsets/31842/

UNH-IOL DPDK Community Lab

To manage your email subscriptions, visit: 
https://lab.dpdk.org/results/dashboard/preferences/subscriptions/