From mboxrd@z Thu Jan  1 00:00:00 1970
Return-Path: <test-report-bounces@dpdk.org>
Received: from mails.dpdk.org (mails.dpdk.org [217.70.189.124])
	by inbox.dpdk.org (Postfix) with ESMTP id E1D8845CB3
	for <public@inbox.dpdk.org>; Fri,  8 Nov 2024 10:11:11 +0100 (CET)
Received: from mails.dpdk.org (localhost [127.0.0.1])
	by mails.dpdk.org (Postfix) with ESMTP id D700943009;
	Fri,  8 Nov 2024 10:11:11 +0100 (CET)
Received: from mail-io1-f100.google.com (mail-io1-f100.google.com
 [209.85.166.100])
 by mails.dpdk.org (Postfix) with ESMTP id 2805642FCD
 for <test-report@dpdk.org>; Fri,  8 Nov 2024 10:11:10 +0100 (CET)
Received: by mail-io1-f100.google.com with SMTP id
 ca18e2360f4ac-83a9be2c028so71284039f.1
 for <test-report@dpdk.org>; Fri, 08 Nov 2024 01:11:10 -0800 (PST)
DKIM-Signature: v=1; a=rsa-sha256; c=relaxed/relaxed;
 d=iol.unh.edu; s=unh-iol; t=1731057069; x=1731661869; darn=dpdk.org;
 h=cc:to:from:subject:message-id:date:from:to:cc:subject:date
 :message-id:reply-to;
 bh=FnIgHtBtCygY+rMkA3ZpA4cFRhdISJfnRNSl/gLWhiI=;
 b=ibvhRjCtKo9OAExu8ZIar6sScgl1q8dz5yXm1OCa9bWReLLOmIwhbzfN2k18mjNvzu
 fGoHvo6LtiHFmeKjjSGuyo2NRLMzk2mJKyfOEwP6evcO5YZDd2ep7715eWjprT8TzPOp
 31qKSfm6tpUsp52S1OGHLG1Chfn3a9thmuWAA=
X-Google-DKIM-Signature: v=1; a=rsa-sha256; c=relaxed/relaxed;
 d=1e100.net; s=20230601; t=1731057069; x=1731661869;
 h=cc:to:from:subject:message-id:date:x-gm-message-state:from:to:cc
 :subject:date:message-id:reply-to;
 bh=FnIgHtBtCygY+rMkA3ZpA4cFRhdISJfnRNSl/gLWhiI=;
 b=lRu8r9w2dd2vGNPbYKPP2ushU7PBHFuNC9IYvwQVEt2ZJJicOJOYkb33EzzTzFJ+M6
 4GqmkQHkb0/jG8NTDup+aOaS+pbESuv5i6t7uS6yj4cCQbOguJVevWUIPkTCJwpasBzA
 UDzkGwNSkCKeOuFBsTPZCVRT2eyjg7v2oLxIXT5tQhkqPrCDThN+mdFEB/F/x06ybz2R
 WE2TTHTkfuFAePH8AMbLCgmzgB4Q6GdbCQMAaUBi+pd2+rx8v5Hn90OtousLdW0ZgnjU
 w9w9CEUrnKQSs5dGBATonSJevNtXZ3OOuMW+n5q2jiGuRzhciZH7+67OWf3YkCk0gKgm
 G7BQ==
X-Gm-Message-State: AOJu0Yxz6bQnPk0V+ClXmEa4lJ6JA82hT5mPSZKjfR0Y+ynOMwKNEnhV
 2nJwO8/5VMw3XRbh+iNgfa2qanodeUxusP/w0lB89QdTYp8qeiNPTq+TV6UWxq0NxflN7BOL9qY
 afoz+4Pck5ISPHHSX0CNNmjhKHD4dvVfOGnORG1rggJRSpRVs
X-Google-Smtp-Source: AGHT+IEuglLAmVFnZizPd6D+RT2CDX1f4RUvwib+xNZeR+jPGruZgkhAugDKrAVP5qHvneKgN8r+p17NXY5B
X-Received: by 2002:a05:6602:1607:b0:83a:71c6:26fb with SMTP id
 ca18e2360f4ac-83e032a82c0mr275653939f.6.1731057069383; 
 Fri, 08 Nov 2024 01:11:09 -0800 (PST)
Received: from postal.iol.unh.edu (postal.iol.unh.edu.
 [2606:4100:3880:1234::84]) by smtp-relay.gmail.com with ESMTPS id
 8926c6da1cb9f-4de5f8d3bb5sm106759173.56.2024.11.08.01.11.09
 (version=TLS1_2 cipher=ECDHE-ECDSA-AES128-GCM-SHA256 bits=128/128);
 Fri, 08 Nov 2024 01:11:09 -0800 (PST)
X-Relaying-Domain: iol.unh.edu
Date: Fri, 08 Nov 2024 01:11:09 -0800 (PST)
Message-ID: <672dd5ad.050a0220.2ccfed.7409SMTPIN_ADDED_MISSING@mx.google.com>
Received: from [172.21.0.7] (unknown [172.18.0.240])
 by postal.iol.unh.edu (Postfix) with ESMTP id C1E816052471;
 Fri,  8 Nov 2024 04:11:08 -0500 (EST)
Subject: |SUCCESS| [GIT MASTER] e8eb14e00d56027bef8569d68cf00e39670edca2
From: dpdklab@iol.unh.edu
To: Test Report <test-report@dpdk.org>
Cc: dpdk-test-reports@iol.unh.edu, Xueming Li <xuemingl@nvidia.com>,
 Christian Ehrhardt <christian.ehrhardt@canonical.com>,
 Kevin Traynor <ktraynor@redhat.com>, Luca Boccassi <bluca@debian.org>
Content-Type: text/plain
X-BeenThere: test-report@dpdk.org
X-Mailman-Version: 2.1.29
Precedence: list
List-Id: automatic DPDK test reports <test-report.dpdk.org>
List-Unsubscribe: <https://mails.dpdk.org/options/test-report>,
 <mailto:test-report-request@dpdk.org?subject=unsubscribe>
List-Archive: <http://mails.dpdk.org/archives/test-report/>
List-Post: <mailto:test-report@dpdk.org>
List-Help: <mailto:test-report-request@dpdk.org?subject=help>
List-Subscribe: <https://mails.dpdk.org/listinfo/test-report>,
 <mailto:test-report-request@dpdk.org?subject=subscribe>
Errors-To: test-report-bounces@dpdk.org

_Testing PASS_

Branch: tags/v23.11

e8eb14e00d56027bef8569d68cf00e39670edca2 --> testing pass

Upstream job id: ACVP-FIPS-testing#7837

Test environment and result as below:

+--------------------+----------------------+----------------------+
|    Environment     | compressdev_zlib_pmd | dpdk_fips_validation |
+====================+======================+======================+
| Ubuntu 22.04 (ARM) | PASS                 | SKIPPED              |
+--------------------+----------------------+----------------------+
| Ubuntu 22.04       | PASS                 | SKIPPED              |
+--------------------+----------------------+----------------------+
| Ubuntu 20.04       | SKIPPED              | PASS                 |
+--------------------+----------------------+----------------------+


Ubuntu 22.04 (ARM)
	Kernel: 5.15.0-97-generic
	Compiler: gcc gcc (Ubuntu 11.4.0-1ubuntu1~22.04) 11.4.0

Ubuntu 22.04
	Kernel: 5.15.0-100-generic
	Compiler: gcc gcc (Ubuntu 11.4.0-1ubuntu1~22.04) 11.4.0

Ubuntu 20.04
	Kernel: Depends on container host
	Compiler: gcc (Ubuntu 9.4.0-1ubuntu1~20.04.2) 9.4.0

To view detailed results, visit:
https://lab.dpdk.org/results/dashboard/tarballs/31469/

UNH-IOL DPDK Community Lab

To manage your email subscriptions, visit: 
https://lab.dpdk.org/results/dashboard/preferences/subscriptions/