From mboxrd@z Thu Jan  1 00:00:00 1970
Return-Path: <test-report-bounces@dpdk.org>
Received: from mails.dpdk.org (mails.dpdk.org [217.70.189.124])
	by inbox.dpdk.org (Postfix) with ESMTP id 304DD45CB7
	for <public@inbox.dpdk.org>; Fri,  8 Nov 2024 23:04:38 +0100 (CET)
Received: from mails.dpdk.org (localhost [127.0.0.1])
	by mails.dpdk.org (Postfix) with ESMTP id 283364067C;
	Fri,  8 Nov 2024 23:04:38 +0100 (CET)
Received: from mail-qv1-f99.google.com (mail-qv1-f99.google.com
 [209.85.219.99]) by mails.dpdk.org (Postfix) with ESMTP id B40F140263
 for <test-report@dpdk.org>; Fri,  8 Nov 2024 23:04:36 +0100 (CET)
Received: by mail-qv1-f99.google.com with SMTP id
 6a1803df08f44-6cbf0e6414aso13267316d6.1
 for <test-report@dpdk.org>; Fri, 08 Nov 2024 14:04:36 -0800 (PST)
DKIM-Signature: v=1; a=rsa-sha256; c=relaxed/relaxed;
 d=iol.unh.edu; s=unh-iol; t=1731103476; x=1731708276; darn=dpdk.org;
 h=references:in-reply-to:cc:to:from:subject:message-id:date:from:to
 :cc:subject:date:message-id:reply-to;
 bh=UtOJJNmTM49wUf9aSkp4BCpOLSwGoJXNekSGgzk+iYY=;
 b=fJbO99xJGwHDepV9ZqhXSR/dIEELs8o4cFh6pEEotiBow1MHuCEId7osKCV474NE1R
 9HKPxTFsXoDFCnyFkZ0kL7EYG4hdFDn+ReNWBIsqklM4LCgmh7NgjYCRs2JV4VSKIKrr
 lns2l/wwwa08x96C0RV50RXqmsqEJ1Vjb+Pl0=
X-Google-DKIM-Signature: v=1; a=rsa-sha256; c=relaxed/relaxed;
 d=1e100.net; s=20230601; t=1731103476; x=1731708276;
 h=references:in-reply-to:cc:to:from:subject:message-id:date
 :x-gm-message-state:from:to:cc:subject:date:message-id:reply-to;
 bh=UtOJJNmTM49wUf9aSkp4BCpOLSwGoJXNekSGgzk+iYY=;
 b=rZi5UfbOX5HYYJw8nYuWVgAmlqjSVAioumr/bShjQvFgX4QiAnVIHnhLmfcyLIatBD
 kwVmt5jlxwil0B13blQLCszqXbT3jt3ZN6YNFoswN1gnSoLfbKit7y8amxMFyBU5U58p
 RUABZw45K7XjtJaAuBNrJws3iIBGIN/RhFkUIqDu2BvIBs1+MdaB787nlcPb6NixzYS3
 khHatFFC4tFyM6n5WVcujlt09j2MPYysIrA7ZpuDB7RZ57a/O9IE88kHapyHVIXVvCPe
 3hxJ8CLH2Necm1vqy0YXHTf2P7flcWqJ0nbvor4yYveB4DmZIZFhnLoUEi4j+BqRaiyP
 fJOw==
X-Gm-Message-State: AOJu0YyfWdYMjKyzcwvYsWN1TYXc2BLFeXixH4VCamCyloMU7qnNkBZH
 q6n0Sk497IhHo8vtCJ1BlHnJX7zYZguU9XzNvgmD3GQYHrB00jvRJNQWwJV4NkUm1YswKsbwGLn
 HLUefzL+oxRqlfSRgx1OFxOAonXbLd5kjOlndNZj2
X-Google-Smtp-Source: AGHT+IFMmtyadoF1fnhTq9OdAZiX5Vf+3gn9DBOm1M/1n0jESmrW9jZtw+eLsJ4yKJ4AUBb+UCK4ZJv8IEw4
X-Received: by 2002:a05:6214:4288:b0:6cb:e867:7e5d with SMTP id
 6a1803df08f44-6d39e180057mr51065716d6.16.1731103476101; 
 Fri, 08 Nov 2024 14:04:36 -0800 (PST)
Received: from postal.iol.unh.edu (postal.iol.unh.edu. [132.177.123.84])
 by smtp-relay.gmail.com with ESMTPS id
 6a1803df08f44-6d39663da0csm2407326d6.61.2024.11.08.14.04.36
 (version=TLS1_2 cipher=ECDHE-ECDSA-AES128-GCM-SHA256 bits=128/128);
 Fri, 08 Nov 2024 14:04:36 -0800 (PST)
X-Relaying-Domain: iol.unh.edu
Date: Fri, 08 Nov 2024 14:04:36 -0800 (PST)
Message-ID: <672e8af4.050a0220.2f63ce.f31aSMTPIN_ADDED_MISSING@mx.google.com>
Received: from [172.21.0.6] (unknown [172.18.0.240])
 by postal.iol.unh.edu (Postfix) with ESMTP id CA8486052471;
 Fri,  8 Nov 2024 17:04:35 -0500 (EST)
Subject: |SUCCESS| pw148213 [PATCH] dts: remove external dependency on python
From: dpdklab@iol.unh.edu
To: Test Report <test-report@dpdk.org>
Cc: dpdk-test-reports@iol.unh.edu
In-Reply-To: <20241108162945.699545-1-paul.szczepanek@arm.com>
References: <20241108162945.699545-1-paul.szczepanek@arm.com>
Content-Type: text/plain
X-BeenThere: test-report@dpdk.org
X-Mailman-Version: 2.1.29
Precedence: list
List-Id: automatic DPDK test reports <test-report.dpdk.org>
List-Unsubscribe: <https://mails.dpdk.org/options/test-report>,
 <mailto:test-report-request@dpdk.org?subject=unsubscribe>
List-Archive: <http://mails.dpdk.org/archives/test-report/>
List-Post: <mailto:test-report@dpdk.org>
List-Help: <mailto:test-report-request@dpdk.org?subject=help>
List-Subscribe: <https://mails.dpdk.org/listinfo/test-report>,
 <mailto:test-report-request@dpdk.org?subject=subscribe>
Errors-To: test-report-bounces@dpdk.org

Test-Label: iol-unit-amd64-testing
Test-Status: SUCCESS
http://dpdk.org/patch/148213

_Testing PASS_

Submitter: Paul Szczepanek <paul.szczepanek@arm.com>
Date: Friday, November 08 2024 16:29:45 
DPDK git baseline: Repo:dpdk
  Branch: master
  CommitID:84c91d93da7a0e537f95cf17dde026564f35a3b7

148213 --> testing pass

Upstream job id: Generic-Unit-Test-DPDK#289709

Test environment and result as below:

+-------------------+----------------+
|    Environment    | dpdk_unit_test |
+===================+================+
| CentOS Stream 9   | PASS           |
+-------------------+----------------+
| Debian 12         | PASS           |
+-------------------+----------------+
| Fedora 39 (Clang) | PASS           |
+-------------------+----------------+
| Fedora 40 (Clang) | PASS           |
+-------------------+----------------+
| Fedora 40         | PASS           |
+-------------------+----------------+
| RHEL8             | PASS           |
+-------------------+----------------+
| Fedora 39         | PASS           |
+-------------------+----------------+
| Ubuntu 20.04      | PASS           |
+-------------------+----------------+
| RHEL9             | PASS           |
+-------------------+----------------+
| Ubuntu 22.04      | PASS           |
+-------------------+----------------+
| Ubuntu 24.04      | PASS           |
+-------------------+----------------+


CentOS Stream 9
	Kernel: Depends on container host
	Compiler: gcc 11.4.1 20231218 (Red Hat 11.4.1-3)

Debian 12
	Kernel: Depends on container host
	Compiler: gcc (Debian 12.2.0-14) 12.2.0

Fedora 39 (Clang)
	Kernel: Depends on container host
	Compiler: clang 17.0.6 (Fedora 17.0.6-2.fc39)

Fedora 40 (Clang)
	Kernel: Depends on container host
	Compiler: clang 18.1.6 (Fedora 18.1.6-3.fc40)

Fedora 40
	Kernel: Depends on container host
	Compiler: gcc 14.2.1 20240801 (Red Hat 14.2.1-1)

RHEL8
	Kernel: Depends on container host
	Compiler: gcc 8.5.0 20210514 (Red Hat 8.5.0-22)

Fedora 39
	Kernel: Depends on container host
	Compiler: gcc 13.3.1 20240522 (Red Hat 13.3.1-1)

Ubuntu 20.04
	Kernel: Depends on container host
	Compiler: gcc (Ubuntu 9.4.0-1ubuntu1~20.04.2) 9.4.0

RHEL9
	Kernel: Depends on container host
	Compiler: gcc 11.4.1 20231218 (Red Hat 11.4.1-3)

Ubuntu 22.04
	Kernel: Depends on container host
	Compiler: gcc (Ubuntu 11.4.0-1ubuntu1~22.04) 11.4.0

Ubuntu 24.04
	Kernel: Depends on container host
	Compiler: gcc (Ubuntu 13.2.0-23ubuntu4) 13.2.0

To view detailed results, visit:
https://lab.dpdk.org/results/dashboard/patchsets/31866/

UNH-IOL DPDK Community Lab

To manage your email subscriptions, visit: 
https://lab.dpdk.org/results/dashboard/preferences/subscriptions/