From mboxrd@z Thu Jan  1 00:00:00 1970
Return-Path: <test-report-bounces@dpdk.org>
Received: from mails.dpdk.org (mails.dpdk.org [217.70.189.124])
	by inbox.dpdk.org (Postfix) with ESMTP id 3395545CB7
	for <public@inbox.dpdk.org>; Sat,  9 Nov 2024 00:34:17 +0100 (CET)
Received: from mails.dpdk.org (localhost [127.0.0.1])
	by mails.dpdk.org (Postfix) with ESMTP id 2F4C940268;
	Sat,  9 Nov 2024 00:34:17 +0100 (CET)
Received: from mail-qv1-f97.google.com (mail-qv1-f97.google.com
 [209.85.219.97]) by mails.dpdk.org (Postfix) with ESMTP id 3F67A40263
 for <test-report@dpdk.org>; Sat,  9 Nov 2024 00:34:15 +0100 (CET)
Received: by mail-qv1-f97.google.com with SMTP id
 6a1803df08f44-6cbf0769512so17270996d6.3
 for <test-report@dpdk.org>; Fri, 08 Nov 2024 15:34:15 -0800 (PST)
DKIM-Signature: v=1; a=rsa-sha256; c=relaxed/relaxed;
 d=iol.unh.edu; s=unh-iol; t=1731108854; x=1731713654; darn=dpdk.org;
 h=references:in-reply-to:cc:to:from:subject:message-id:date:from:to
 :cc:subject:date:message-id:reply-to;
 bh=beWXJ0SRq/3xYXHmLFVmyRJXYUU+ZfZI4dH72CBdzds=;
 b=EDpL1CMKCovkvp23gj1AGoUpZMoHM9alS8lDwgrFtLnq/QDU+QYfcsafPGWLgAiwjk
 AhzjL7acET2tOh3Fc1XzsMIhgU2h7h8rj+XdAWDZIfAGorMpDHcT/APVpWr48CUPvbiD
 qUorSJ7uzRRNAPPLbtApaXKeom+uiFjj+E7jU=
X-Google-DKIM-Signature: v=1; a=rsa-sha256; c=relaxed/relaxed;
 d=1e100.net; s=20230601; t=1731108854; x=1731713654;
 h=references:in-reply-to:cc:to:from:subject:message-id:date
 :x-gm-message-state:from:to:cc:subject:date:message-id:reply-to;
 bh=beWXJ0SRq/3xYXHmLFVmyRJXYUU+ZfZI4dH72CBdzds=;
 b=R26TnUtu37j/zyP7NtW+QApSVRjhq3YIyq2nMKMBe4ixxcaB+jSDzqaJwf5AVx/Au8
 EvCzVybKHb5hL+vN4fsiGuTvKyJ0V4034bHFmeezXp8ICYlWIQM3bOJCEt2QFftHSeY6
 9MJfcMlDNfOOnUoTHkwovA6DiAFWF4VlrlK5Xjh98Se2cT/lvf0JAvJbdVoGsLsOrsR+
 f8sbxNtim3Up8f9SxK6Kh0mOiKb52nV6TqJuOFOQXmTfWqiL6l2hgv+D4DM2uiSeRuBT
 55FE9loezniNN54sCB74+TN3XyehE9WMV/MMj1ailLxLF+0a+WgTUXotCtIXXweYqNT4
 xw8g==
X-Gm-Message-State: AOJu0YxZul0qdqWK5viyiqigZVJLj0EnkoIcMQJUdSBiWXoZAQTDPFE6
 3gdYbwGNg67We5vYjej5trbOQEopECppd88qEMuK5GRnOiRPtsPmVrtpPt806FVbvjmIJXDK+VU
 hVcxPGu6qMhXtBdBB331uvYgme5Khc/0fFAKPqOxJ
X-Google-Smtp-Source: AGHT+IHkIOffJTsGfXjOtr8EKB/qm8sgYlQ7yR3PUjOjuSTNvpOn8byednq3hJxEGfykherXq8FSB47HAuFz
X-Received: by 2002:a05:6214:4403:b0:6cb:c882:b1d9 with SMTP id
 6a1803df08f44-6d39e14f094mr52423596d6.21.1731108854576; 
 Fri, 08 Nov 2024 15:34:14 -0800 (PST)
Received: from postal.iol.unh.edu (postal.iol.unh.edu. [132.177.123.84])
 by smtp-relay.gmail.com with ESMTPS id
 6a1803df08f44-6d39662d7b0sm2403056d6.56.2024.11.08.15.34.14
 (version=TLS1_2 cipher=ECDHE-ECDSA-AES128-GCM-SHA256 bits=128/128);
 Fri, 08 Nov 2024 15:34:14 -0800 (PST)
X-Relaying-Domain: iol.unh.edu
Date: Fri, 08 Nov 2024 15:34:14 -0800 (PST)
Message-ID: <672e9ff6.050a0220.4146b.f52aSMTPIN_ADDED_MISSING@mx.google.com>
Received: from [172.21.0.5] (unknown [172.18.0.240])
 by postal.iol.unh.edu (Postfix) with ESMTP id 3A9786052471;
 Fri,  8 Nov 2024 18:34:14 -0500 (EST)
Subject: |SUCCESS| pw148213 [PATCH] dts: remove external dependency on python
From: dpdklab@iol.unh.edu
To: Test Report <test-report@dpdk.org>
Cc: dpdk-test-reports@iol.unh.edu
In-Reply-To: <20241108162945.699545-1-paul.szczepanek@arm.com>
References: <20241108162945.699545-1-paul.szczepanek@arm.com>
Content-Type: text/plain
X-BeenThere: test-report@dpdk.org
X-Mailman-Version: 2.1.29
Precedence: list
List-Id: automatic DPDK test reports <test-report.dpdk.org>
List-Unsubscribe: <https://mails.dpdk.org/options/test-report>,
 <mailto:test-report-request@dpdk.org?subject=unsubscribe>
List-Archive: <http://mails.dpdk.org/archives/test-report/>
List-Post: <mailto:test-report@dpdk.org>
List-Help: <mailto:test-report-request@dpdk.org?subject=help>
List-Subscribe: <https://mails.dpdk.org/listinfo/test-report>,
 <mailto:test-report-request@dpdk.org?subject=subscribe>
Errors-To: test-report-bounces@dpdk.org

Test-Label: iol-unit-amd64-testing
Test-Status: SUCCESS
http://dpdk.org/patch/148213

_Testing PASS_

Submitter: Paul Szczepanek <paul.szczepanek@arm.com>
Date: Friday, November 08 2024 16:29:45 
DPDK git baseline: Repo:dpdk
  Branch: master
  CommitID:84c91d93da7a0e537f95cf17dde026564f35a3b7

148213 --> testing pass

Upstream job id: Generic-VM-Unit-Test-DPDK#26120

Test environment and result as below:

+---------------------+----------------+
|     Environment     | dpdk_unit_test |
+=====================+================+
| CentOS Stream 9     | PASS           |
+---------------------+----------------+
| Debian 12           | PASS           |
+---------------------+----------------+
| Fedora 39 (Clang)   | PASS           |
+---------------------+----------------+
| Fedora 40 (Clang)   | PASS           |
+---------------------+----------------+
| Fedora 40           | PASS           |
+---------------------+----------------+
| RHEL8               | PASS           |
+---------------------+----------------+
| Fedora 39           | PASS           |
+---------------------+----------------+
| Ubuntu 20.04        | PASS           |
+---------------------+----------------+
| RHEL9               | PASS           |
+---------------------+----------------+
| Ubuntu 22.04        | PASS           |
+---------------------+----------------+
| Ubuntu 24.04        | PASS           |
+---------------------+----------------+
| Windows Server 2022 | PASS           |
+---------------------+----------------+


CentOS Stream 9
	Kernel: Depends on container host
	Compiler: gcc 11.4.1 20231218 (Red Hat 11.4.1-3)

Debian 12
	Kernel: Depends on container host
	Compiler: gcc (Debian 12.2.0-14) 12.2.0

Fedora 39 (Clang)
	Kernel: Depends on container host
	Compiler: clang 17.0.6 (Fedora 17.0.6-2.fc39)

Fedora 40 (Clang)
	Kernel: Depends on container host
	Compiler: clang 18.1.6 (Fedora 18.1.6-3.fc40)

Fedora 40
	Kernel: Depends on container host
	Compiler: gcc 14.2.1 20240801 (Red Hat 14.2.1-1)

RHEL8
	Kernel: Depends on container host
	Compiler: gcc 8.5.0 20210514 (Red Hat 8.5.0-22)

Fedora 39
	Kernel: Depends on container host
	Compiler: gcc 13.3.1 20240522 (Red Hat 13.3.1-1)

Ubuntu 20.04
	Kernel: Depends on container host
	Compiler: gcc (Ubuntu 9.4.0-1ubuntu1~20.04.2) 9.4.0

RHEL9
	Kernel: Depends on container host
	Compiler: gcc 11.4.1 20231218 (Red Hat 11.4.1-3)

Ubuntu 22.04
	Kernel: Depends on container host
	Compiler: gcc (Ubuntu 11.4.0-1ubuntu1~22.04) 11.4.0

Ubuntu 24.04
	Kernel: Depends on container host
	Compiler: gcc (Ubuntu 13.2.0-23ubuntu4) 13.2.0

Windows Server 2022
	Kernel: 10.0.20348.2031
	Compiler: clang 15.0.7, gcc 14.1.0 (MinGW), and MSVC VS 19.39.33521

To view detailed results, visit:
https://lab.dpdk.org/results/dashboard/patchsets/31866/

UNH-IOL DPDK Community Lab

To manage your email subscriptions, visit: 
https://lab.dpdk.org/results/dashboard/preferences/subscriptions/