From mboxrd@z Thu Jan  1 00:00:00 1970
Return-Path: <test-report-bounces@dpdk.org>
Received: from mails.dpdk.org (mails.dpdk.org [217.70.189.124])
	by inbox.dpdk.org (Postfix) with ESMTP id 4A87845CB8
	for <public@inbox.dpdk.org>; Sat,  9 Nov 2024 02:15:21 +0100 (CET)
Received: from mails.dpdk.org (localhost [127.0.0.1])
	by mails.dpdk.org (Postfix) with ESMTP id 44F5740268;
	Sat,  9 Nov 2024 02:15:21 +0100 (CET)
Received: from mail-pj1-f98.google.com (mail-pj1-f98.google.com
 [209.85.216.98]) by mails.dpdk.org (Postfix) with ESMTP id 7A83640263
 for <test-report@dpdk.org>; Sat,  9 Nov 2024 02:15:20 +0100 (CET)
Received: by mail-pj1-f98.google.com with SMTP id
 98e67ed59e1d1-2e2e8c8915eso2211695a91.3
 for <test-report@dpdk.org>; Fri, 08 Nov 2024 17:15:20 -0800 (PST)
DKIM-Signature: v=1; a=rsa-sha256; c=relaxed/relaxed;
 d=iol.unh.edu; s=unh-iol; t=1731114919; x=1731719719; darn=dpdk.org;
 h=references:in-reply-to:cc:to:from:subject:message-id:date:from:to
 :cc:subject:date:message-id:reply-to;
 bh=GdHoFAiXQ/VZq6W8CSeFVx6ALaCZw5A/qKH1MvRwz2s=;
 b=a+AXq/XLbrWsnHChh3Z5JDeWgOFr2VF4jfm8YalhlKTvAmf/0L7d5xs4v98Ko24Epk
 Tgjsst8arlYu21AOsWPEW2LPwKzqXlzvxl+2HKg02mf2F/A8KEipN6mSP9XAquCjzOXh
 skw1AUcgE+2ZnvfhFRzacmp8yLUGoQ6afzatE=
X-Google-DKIM-Signature: v=1; a=rsa-sha256; c=relaxed/relaxed;
 d=1e100.net; s=20230601; t=1731114919; x=1731719719;
 h=references:in-reply-to:cc:to:from:subject:message-id:date
 :x-gm-message-state:from:to:cc:subject:date:message-id:reply-to;
 bh=GdHoFAiXQ/VZq6W8CSeFVx6ALaCZw5A/qKH1MvRwz2s=;
 b=ibqZ7iYlyZYw8rAsLy7Pu1XkfAe5ZSj+lykjrduNSQ8VU84mmar5iS7g0aLR1wdgKO
 Y3NT0azOO+YTGI3w9vCWPgYL20jbC8NXyF7gq8Tfyrir4ZoAg+cDA0v1Eb0BoEkh3iIE
 Wio61Yz4OkDy/lHu9jKG4Ub/W9Pd8PjJjBhXIkeXVjFkDXmojvoBaQ69hcutio8f5HYh
 rdm8f1S0WAsH3Ahot/T8hcR1sPL0IO29QyjpXYzRSeYO5N9exS/GFDAWQONh/eInNJKq
 axEJdCpaF+RtBuEZwIIX+AO3pmbZYHYRGP65Rpt1Z0b1tTA7EBc3od85LPWWTeAvXaXH
 Yhxw==
X-Gm-Message-State: AOJu0YwTkQEzqGryAK/oWshgkGMccHYNZz+xKa47Dj8Swcr1eiIvWaab
 AO6a8+f6Zo0tnd0D12g86gaMR4d0KT5n1yiZf06NaMZIUQ/OQUiny1Ahf0a5KYqg+vRNnWYLSO7
 oVtrtsRT3oB1o+NvfdxatGb3yXfZlX+nVwy0teLeg
X-Google-Smtp-Source: AGHT+IEiXtaaGlR2DjWGT5gM4aEcHNEFdhgKg9l4+WQ7QnCs2Fsgeu8+6qssVOgOXlWr3DAlEyrFCLRF4blD
X-Received: by 2002:a17:90b:380a:b0:2e0:a77e:82f7 with SMTP id
 98e67ed59e1d1-2e9b178c6a2mr5725939a91.36.1731114919471; 
 Fri, 08 Nov 2024 17:15:19 -0800 (PST)
Received: from postal.iol.unh.edu (postal.iol.unh.edu. [132.177.123.84])
 by smtp-relay.gmail.com with ESMTPS id
 98e67ed59e1d1-2e9a5fbd873sm233776a91.13.2024.11.08.17.15.19
 (version=TLS1_2 cipher=ECDHE-ECDSA-AES128-GCM-SHA256 bits=128/128);
 Fri, 08 Nov 2024 17:15:19 -0800 (PST)
X-Relaying-Domain: iol.unh.edu
Date: Fri, 08 Nov 2024 17:15:19 -0800 (PST)
Message-ID: <672eb7a7.170a0220.af5ba.e734SMTPIN_ADDED_MISSING@mx.google.com>
Received: from [172.17.0.2] (unknown [172.18.0.217])
 by postal.iol.unh.edu (Postfix) with ESMTP id 9B1486052471;
 Fri,  8 Nov 2024 20:15:18 -0500 (EST)
Subject: |SUCCESS| pw148213 [PATCH] dts: remove external dependency on python
From: dpdklab@iol.unh.edu
To: Test Report <test-report@dpdk.org>
Cc: dpdk-test-reports@iol.unh.edu
In-Reply-To: <20241108162945.699545-1-paul.szczepanek@arm.com>
References: <20241108162945.699545-1-paul.szczepanek@arm.com>
Content-Type: text/plain
X-BeenThere: test-report@dpdk.org
X-Mailman-Version: 2.1.29
Precedence: list
List-Id: automatic DPDK test reports <test-report.dpdk.org>
List-Unsubscribe: <https://mails.dpdk.org/options/test-report>,
 <mailto:test-report-request@dpdk.org?subject=unsubscribe>
List-Archive: <http://mails.dpdk.org/archives/test-report/>
List-Post: <mailto:test-report@dpdk.org>
List-Help: <mailto:test-report-request@dpdk.org?subject=help>
List-Subscribe: <https://mails.dpdk.org/listinfo/test-report>,
 <mailto:test-report-request@dpdk.org?subject=subscribe>
Errors-To: test-report-bounces@dpdk.org

Test-Label: iol-compile-arm64-testing
Test-Status: SUCCESS
http://dpdk.org/patch/148213

_Testing PASS_

Submitter: Paul Szczepanek <paul.szczepanek@arm.com>
Date: Friday, November 08 2024 16:29:45 
DPDK git baseline: Repo:dpdk
  Branch: master
  CommitID:84c91d93da7a0e537f95cf17dde026564f35a3b7

148213 --> testing pass

Upstream job id: Generic-DPDK-Compile-Meson#331417

Test environment and result as below:

+----------------------------------------+--------------------+
|              Environment               | dpdk_meson_compile |
+========================================+====================+
| RHEL9 (ARM)                            | PASS               |
+----------------------------------------+--------------------+
| Ubuntu 20.04 ARM GCC Cross Compile     | PASS               |
+----------------------------------------+--------------------+
| Ubuntu 20.04 ARM SVE                   | PASS               |
+----------------------------------------+--------------------+
| Debian 12 with MUSDK                   | PASS               |
+----------------------------------------+--------------------+
| Fedora 39 (ARM)                        | PASS               |
+----------------------------------------+--------------------+
| Fedora 39 (ARM Clang)                  | PASS               |
+----------------------------------------+--------------------+
| Fedora 40 (ARM)                        | PASS               |
+----------------------------------------+--------------------+
| Fedora 40 (ARM Clang)                  | PASS               |
+----------------------------------------+--------------------+
| Ubuntu 20.04 (ARM)                     | PASS               |
+----------------------------------------+--------------------+
| Ubuntu 22.04 (ARM)                     | PASS               |
+----------------------------------------+--------------------+
| Ubuntu 24.04 (ARM)                     | PASS               |
+----------------------------------------+--------------------+
| Debian 12 (arm)                        | PASS               |
+----------------------------------------+--------------------+
| CentOS Stream 9 (ARM)                  | PASS               |
+----------------------------------------+--------------------+
| Ubuntu 20.04 ARM Clang Cross Compile   | PASS               |
+----------------------------------------+--------------------+
| Ubuntu 20.04 aarch32 GCC Cross Compile | PASS               |
+----------------------------------------+--------------------+


RHEL9 (ARM)
	Kernel: Depends on container host
	Compiler: gcc 11.4.1 20231218 (Red Hat 11.4.1-3)

Ubuntu 20.04 ARM GCC Cross Compile
	Kernel: Depends on container host
	Compiler: aarch64-linux-gnu-gcc (Ubuntu 9.4.0-1ubuntu1~20.04.2) 9.4.0

Ubuntu 20.04 ARM SVE
	Kernel: Depends on container host
	Compiler: gcc (Ubuntu 10.5.0-1ubuntu1~20.04) 10.5.0

Debian 12 with MUSDK
	Kernel: Depends on container host
	Compiler: gcc (Debian 12.2.0-14) 12.2.0

Fedora 39 (ARM)
	Kernel: Depends on container host
	Compiler: gcc 13.3.1 20240522 (Red Hat 13.3.1-1)

Fedora 39 (ARM Clang)
	Kernel: Depends on container host
	Compiler: clang 17.0.6 (Fedora 17.0.6-2.fc39)

Fedora 40 (ARM)
	Kernel: Depends on container host
	Compiler: gcc 14.2.1 20240801 (Red Hat 14.2.1-1)

Fedora 40 (ARM Clang)
	Kernel: Depends on container host
	Compiler: clang 18.1.6 (Fedora 18.1.6-3.fc40)

Ubuntu 20.04 (ARM)
	Kernel: Depends on container host
	Compiler: gcc (Ubuntu 9.4.0-1ubuntu1~20.04.2) 9.4.0

Ubuntu 22.04 (ARM)
	Kernel: Depends on container host
	Compiler: gcc (Ubuntu 11.4.0-1ubuntu1~22.04) 11.4.0

Ubuntu 24.04 (ARM)
	Kernel: Depends on container host
	Compiler: gcc (Ubuntu 13.2.0-23ubuntu4) 13.2.0

Debian 12 (arm)
	Kernel: Depends on container host
	Compiler: gcc (Debian 12.2.0-14) 12.2.0

CentOS Stream 9 (ARM)
	Kernel: Depends on container host
	Compiler: gcc 11.4.1 20231218 (Red Hat 11.4.1-3)

Ubuntu 20.04 ARM Clang Cross Compile
	Kernel: Depends on container host
	Compiler: clang 10.0.0-4ubuntu1

Ubuntu 20.04 aarch32 GCC Cross Compile
	Kernel: Depends on container host
	Compiler: gcc 9.4.0

To view detailed results, visit:
https://lab.dpdk.org/results/dashboard/patchsets/31866/

UNH-IOL DPDK Community Lab

To manage your email subscriptions, visit: 
https://lab.dpdk.org/results/dashboard/preferences/subscriptions/