From mboxrd@z Thu Jan  1 00:00:00 1970
Return-Path: <test-report-bounces@dpdk.org>
Received: from mails.dpdk.org (mails.dpdk.org [217.70.189.124])
	by inbox.dpdk.org (Postfix) with ESMTP id 38A5145C97
	for <public@inbox.dpdk.org>; Sat,  9 Nov 2024 07:35:21 +0100 (CET)
Received: from mails.dpdk.org (localhost [127.0.0.1])
	by mails.dpdk.org (Postfix) with ESMTP id 1C0CD4026C;
	Sat,  9 Nov 2024 07:35:21 +0100 (CET)
Received: from mail-qv1-f100.google.com (mail-qv1-f100.google.com
 [209.85.219.100])
 by mails.dpdk.org (Postfix) with ESMTP id 19E574026C
 for <test-report@dpdk.org>; Sat,  9 Nov 2024 07:35:20 +0100 (CET)
Received: by mail-qv1-f100.google.com with SMTP id
 6a1803df08f44-6ce3fc4e58bso15737456d6.0
 for <test-report@dpdk.org>; Fri, 08 Nov 2024 22:35:20 -0800 (PST)
DKIM-Signature: v=1; a=rsa-sha256; c=relaxed/relaxed;
 d=iol.unh.edu; s=unh-iol; t=1731134119; x=1731738919; darn=dpdk.org;
 h=cc:to:from:subject:message-id:date:from:to:cc:subject:date
 :message-id:reply-to;
 bh=C+LcLck1KJM1OsWeCz0S4v35yKcFmchKNaCvt9X/Eew=;
 b=RDhpgidIxspxWBoR61hV0r0Y4S+QAljWN799Kqe0o7wZ3HH7yehPQqKHNWRsN9ecbm
 xdgTR1884ERHn5b7pwZh8Oa+7xnsFOZUT6/YNXb35KupnqnSdDkgX3TtaKp0jmt/uYAS
 d4010u65eYtGGDkXi2Fk1x+rGX6TxBqiu5+K8=
X-Google-DKIM-Signature: v=1; a=rsa-sha256; c=relaxed/relaxed;
 d=1e100.net; s=20230601; t=1731134119; x=1731738919;
 h=cc:to:from:subject:message-id:date:x-gm-message-state:from:to:cc
 :subject:date:message-id:reply-to;
 bh=C+LcLck1KJM1OsWeCz0S4v35yKcFmchKNaCvt9X/Eew=;
 b=fmL3vWIquF/HlKtdg7J0k7q/eM6UEiun/AlnJ1QElkuDOksWq5KDlMJc5lEgkTaicH
 4g85cUHvaDQtCaF2KnIsDD8VeUGyZygsmg4J0QfgFMZrmjfKpUH7UHeNlo0LLwLgHuxd
 gUCttpSmDq8JhnEXJ7OEEeM/uorB7faFtXZl374LnbiWVwvTXThGCwoUkgZ7znrJcXzR
 1tW/JVnEE2dTxkcfiDgeUHi+CGiO40Re1U4DNdaTnejSWRewkjTBbCzthUMkoJ1j/rWb
 DtaczxIFspA3BbkE5Ma5Vk9rjtvYLeHPUoa8zwCVA+nqbH4N9shrsdGw/UJ6pdJ6HmPZ
 GhxA==
X-Gm-Message-State: AOJu0YzeFgg1OB37OYgAMciTBb2h9eRIgTq4eCiEoWeOitxAv62UQrdz
 lTE3dyWSXjG6+zTuA7aGmZdu8Y/pow9rvuobHLV8eyLus4lFpSALui24iPE8IgDE6rkn+D2/x0i
 z+8PRU3xMbi8Au9mAkmDixc6f7XsqAQZzOkyZo6egGktyfNy9
X-Google-Smtp-Source: AGHT+IEa1TMkExqKbihLv4esP95lUB2y9e2Y+/y/fsKIoIWOCpOo8jtV8xVe0eipITGFJGoMpy9oQ3lJ6Ury
X-Received: by 2002:a05:6214:2f8f:b0:6ce:305e:324f with SMTP id
 6a1803df08f44-6d39e1506cemr63299946d6.23.1731134119501; 
 Fri, 08 Nov 2024 22:35:19 -0800 (PST)
Received: from postal.iol.unh.edu (postal.iol.unh.edu.
 [2606:4100:3880:1234::84]) by smtp-relay.gmail.com with ESMTPS id
 6a1803df08f44-6d3961df937sm3053316d6.8.2024.11.08.22.35.19
 (version=TLS1_2 cipher=ECDHE-ECDSA-AES128-GCM-SHA256 bits=128/128);
 Fri, 08 Nov 2024 22:35:19 -0800 (PST)
X-Relaying-Domain: iol.unh.edu
Date: Fri, 08 Nov 2024 22:35:19 -0800 (PST)
Message-ID: <672f02a7.d40a0220.c4566.1451SMTPIN_ADDED_MISSING@mx.google.com>
Received: from [172.21.0.5] (unknown [172.18.0.240])
 by postal.iol.unh.edu (Postfix) with ESMTP id 3959B6052471;
 Sat,  9 Nov 2024 01:35:19 -0500 (EST)
Subject: |SUCCESS| [GIT MASTER] e8eb14e00d56027bef8569d68cf00e39670edca2
From: dpdklab@iol.unh.edu
To: Test Report <test-report@dpdk.org>
Cc: dpdk-test-reports@iol.unh.edu, Xueming Li <xuemingl@nvidia.com>,
 Christian Ehrhardt <christian.ehrhardt@canonical.com>,
 Kevin Traynor <ktraynor@redhat.com>, Luca Boccassi <bluca@debian.org>
Content-Type: text/plain
X-BeenThere: test-report@dpdk.org
X-Mailman-Version: 2.1.29
Precedence: list
List-Id: automatic DPDK test reports <test-report.dpdk.org>
List-Unsubscribe: <https://mails.dpdk.org/options/test-report>,
 <mailto:test-report-request@dpdk.org?subject=unsubscribe>
List-Archive: <http://mails.dpdk.org/archives/test-report/>
List-Post: <mailto:test-report@dpdk.org>
List-Help: <mailto:test-report-request@dpdk.org?subject=help>
List-Subscribe: <https://mails.dpdk.org/listinfo/test-report>,
 <mailto:test-report-request@dpdk.org?subject=subscribe>
Errors-To: test-report-bounces@dpdk.org

_Testing PASS_

Branch: tags/v23.11

e8eb14e00d56027bef8569d68cf00e39670edca2 --> testing pass

Upstream job id: Generic-DPDK-Compile-ABI#106453

Test environment and result as below:

+-------------------+----------+
|    Environment    | abi_test |
+===================+==========+
| Fedora 40         | PASS     |
+-------------------+----------+
| CentOS Stream 9   | PASS     |
+-------------------+----------+
| Fedora 39         | PASS     |
+-------------------+----------+
| Debian 12         | PASS     |
+-------------------+----------+
| Fedora 39 (Clang) | PASS     |
+-------------------+----------+
| Fedora 40 (Clang) | PASS     |
+-------------------+----------+
| openSUSE Leap 15  | PASS     |
+-------------------+----------+
| RHEL8             | PASS     |
+-------------------+----------+
| RHEL9             | PASS     |
+-------------------+----------+
| Ubuntu 22.04      | PASS     |
+-------------------+----------+
| Ubuntu 24.04      | PASS     |
+-------------------+----------+


Fedora 40
	Kernel: Depends on container host
	Compiler: gcc 14.2.1 20240801 (Red Hat 14.2.1-1)

CentOS Stream 9
	Kernel: Depends on container host
	Compiler: gcc 11.4.1 20231218 (Red Hat 11.4.1-3)

Fedora 39
	Kernel: Depends on container host
	Compiler: gcc 13.3.1 20240522 (Red Hat 13.3.1-1)

Debian 12
	Kernel: Depends on container host
	Compiler: gcc (Debian 12.2.0-14) 12.2.0

Fedora 39 (Clang)
	Kernel: Depends on container host
	Compiler: clang 17.0.6 (Fedora 17.0.6-2.fc39)

Fedora 40 (Clang)
	Kernel: Depends on container host
	Compiler: clang 18.1.6 (Fedora 18.1.6-3.fc40)

openSUSE Leap 15
	Kernel: Depends on container host
	Compiler: gcc (SUSE Linux) 7.5.0

RHEL8
	Kernel: Depends on container host
	Compiler: gcc 8.5.0 20210514 (Red Hat 8.5.0-22)

RHEL9
	Kernel: Depends on container host
	Compiler: gcc 11.4.1 20231218 (Red Hat 11.4.1-3)

Ubuntu 22.04
	Kernel: Depends on container host
	Compiler: gcc (Ubuntu 11.4.0-1ubuntu1~22.04) 11.4.0

Ubuntu 24.04
	Kernel: Depends on container host
	Compiler: gcc (Ubuntu 13.2.0-23ubuntu4) 13.2.0

To view detailed results, visit:
https://lab.dpdk.org/results/dashboard/tarballs/31489/

UNH-IOL DPDK Community Lab

To manage your email subscriptions, visit: 
https://lab.dpdk.org/results/dashboard/preferences/subscriptions/