From mboxrd@z Thu Jan  1 00:00:00 1970
Return-Path: <test-report-bounces@dpdk.org>
Received: from mails.dpdk.org (mails.dpdk.org [217.70.189.124])
	by inbox.dpdk.org (Postfix) with ESMTP id 3347C45CF3
	for <public@inbox.dpdk.org>; Wed, 13 Nov 2024 11:52:09 +0100 (CET)
Received: from mails.dpdk.org (localhost [127.0.0.1])
	by mails.dpdk.org (Postfix) with ESMTP id 294114042E;
	Wed, 13 Nov 2024 11:52:09 +0100 (CET)
Received: from mail-oo1-f100.google.com (mail-oo1-f100.google.com
 [209.85.161.100])
 by mails.dpdk.org (Postfix) with ESMTP id ECEDF40290
 for <test-report@dpdk.org>; Wed, 13 Nov 2024 11:52:07 +0100 (CET)
Received: by mail-oo1-f100.google.com with SMTP id
 006d021491bc7-5ebc5b4190eso3155739eaf.3
 for <test-report@dpdk.org>; Wed, 13 Nov 2024 02:52:07 -0800 (PST)
DKIM-Signature: v=1; a=rsa-sha256; c=relaxed/relaxed;
 d=iol.unh.edu; s=unh-iol; t=1731495127; x=1732099927; darn=dpdk.org;
 h=references:in-reply-to:cc:to:from:subject:message-id:date:from:to
 :cc:subject:date:message-id:reply-to;
 bh=XF3nTiIsbZWiCAuvgS0DoK5igjlVZy9RQG8m5WTRlJE=;
 b=bjETv9aUZwDd/KU7UaHqINoOeE7WU/t8nFi2uOD+zZ/KPUUTNOPwa/vNBQa9YWC+SX
 J/8U/HdwzHQFs5KSbtQWCQ3ngTPgt0cj6IZEdwE1PG2VAX39iGs+rbPEf+Azon4sqG7n
 0RIDsH02xh1347s4D+E/Jse4vYKzdJI5y8oJE=
X-Google-DKIM-Signature: v=1; a=rsa-sha256; c=relaxed/relaxed;
 d=1e100.net; s=20230601; t=1731495127; x=1732099927;
 h=references:in-reply-to:cc:to:from:subject:message-id:date
 :x-gm-message-state:from:to:cc:subject:date:message-id:reply-to;
 bh=XF3nTiIsbZWiCAuvgS0DoK5igjlVZy9RQG8m5WTRlJE=;
 b=oCOLeSQGdUM12/AazwO62VxabJnWB9wENHKqeWVPfi2gSc1IUICjb8gan/rkr/zxwJ
 kgYqgy7J4PXnlgBwueOo9MjbpL9T4DCV2sT1LFYlrGId0HoBbOmyqqRQUVWi5LuljgZr
 6PAPh67qFJiRU7m3xX2rdTN8fs/q7oDG6Yk5xER6tXEtA7SHbFVB582auxGQQFOim7W3
 D3e+kriJI232Ohq1/8KCmDlBLETIp1a8hak9BLc1u1pjDNhxXBwHlrnl4aPMrfPJFDeF
 v9okM5gR5mEgmcbZWuSH6U4yO+5G4FVd4avM+IXI9ZaoMWHw+AuwVC7zdoOHtX3w3Dth
 sNOQ==
X-Gm-Message-State: AOJu0YxJylZj1KnhCvRxJObAIxNvZCn9fEgw2KBiqwvzv4uSTHJpEUal
 QR/7uW6VAVSVnZTNogxQ8MpDMctSwf6Zt22NcZykCnj4HdAlSIvRq5zRaXRaXRluvwN0yfJgwtI
 3dvsUrmkF/0IZhz84AoTwpB5X1GqMQwkBXleP4jf/
X-Google-Smtp-Source: AGHT+IG7vP2caVUUsuh7hcQwvMbebGCuBDNbn1aKnRrjMbOa9Z4BmAAsdwSY9tuthOr0M5qpOH6k2U2kK0w8
X-Received: by 2002:a4a:ec46:0:b0:5e5:941c:ca5a with SMTP id
 006d021491bc7-5ee920bb43amr2155679eaf.1.1731495127035; 
 Wed, 13 Nov 2024 02:52:07 -0800 (PST)
Received: from postal.iol.unh.edu (postal.iol.unh.edu. [132.177.123.84])
 by smtp-relay.gmail.com with ESMTPS id
 006d021491bc7-5ee4950b478sm1077525eaf.6.2024.11.13.02.52.06
 (version=TLS1_2 cipher=ECDHE-ECDSA-AES128-GCM-SHA256 bits=128/128);
 Wed, 13 Nov 2024 02:52:07 -0800 (PST)
X-Relaying-Domain: iol.unh.edu
Date: Wed, 13 Nov 2024 02:52:07 -0800 (PST)
Message-ID: <673484d7.050a0220.27d044.1cbfSMTPIN_ADDED_MISSING@mx.google.com>
Received: from [172.17.0.3] (unknown [172.18.0.215])
 by postal.iol.unh.edu (Postfix) with ESMTP id 96EEF6052471;
 Wed, 13 Nov 2024 05:52:06 -0500 (EST)
Subject: |SUCCESS| pw148387 [PATCH] doc/guides: add security document
From: dpdklab@iol.unh.edu
To: Test Report <test-report@dpdk.org>
Cc: dpdk-test-reports@iol.unh.edu
In-Reply-To: <20241113043813.67751-1-nandinipersad361@gmail.com>
References: <20241113043813.67751-1-nandinipersad361@gmail.com>
Content-Type: text/plain
X-BeenThere: test-report@dpdk.org
X-Mailman-Version: 2.1.29
Precedence: list
List-Id: automatic DPDK test reports <test-report.dpdk.org>
List-Unsubscribe: <https://mails.dpdk.org/options/test-report>,
 <mailto:test-report-request@dpdk.org?subject=unsubscribe>
List-Archive: <http://mails.dpdk.org/archives/test-report/>
List-Post: <mailto:test-report@dpdk.org>
List-Help: <mailto:test-report-request@dpdk.org?subject=help>
List-Subscribe: <https://mails.dpdk.org/listinfo/test-report>,
 <mailto:test-report-request@dpdk.org?subject=subscribe>
Errors-To: test-report-bounces@dpdk.org

Test-Label: iol-unit-amd64-testing
Test-Status: SUCCESS
http://dpdk.org/patch/148387

_Testing PASS_

Submitter: Nandini Persad <nandinipersad361@gmail.com>
Date: Wednesday, November 13 2024 04:38:13 
DPDK git baseline: Repo:dpdk
  Branch: master
  CommitID:c5df7a373ad07413d9652479272cd16adf989b06

148387 --> testing pass

Upstream job id: Generic-Unit-Test-DPDK#290741

Test environment and result as below:

+-------------------+----------------+
|    Environment    | dpdk_unit_test |
+===================+================+
| Debian 12         | PASS           |
+-------------------+----------------+
| CentOS Stream 9   | PASS           |
+-------------------+----------------+
| Fedora 39         | PASS           |
+-------------------+----------------+
| Fedora 40         | PASS           |
+-------------------+----------------+
| Fedora 39 (Clang) | PASS           |
+-------------------+----------------+
| RHEL8             | PASS           |
+-------------------+----------------+
| Fedora 40 (Clang) | PASS           |
+-------------------+----------------+
| Ubuntu 20.04      | PASS           |
+-------------------+----------------+
| RHEL9             | PASS           |
+-------------------+----------------+
| Ubuntu 22.04      | PASS           |
+-------------------+----------------+
| Ubuntu 24.04      | PASS           |
+-------------------+----------------+


Debian 12
	Kernel: Depends on container host
	Compiler: gcc (Debian 12.2.0-14) 12.2.0

CentOS Stream 9
	Kernel: Depends on container host
	Compiler: gcc 11.4.1 20231218 (Red Hat 11.4.1-3)

Fedora 39
	Kernel: Depends on container host
	Compiler: gcc 13.3.1 20240522 (Red Hat 13.3.1-1)

Fedora 40
	Kernel: Depends on container host
	Compiler: gcc 14.2.1 20240801 (Red Hat 14.2.1-1)

Fedora 39 (Clang)
	Kernel: Depends on container host
	Compiler: clang 17.0.6 (Fedora 17.0.6-2.fc39)

RHEL8
	Kernel: Depends on container host
	Compiler: gcc 8.5.0 20210514 (Red Hat 8.5.0-22)

Fedora 40 (Clang)
	Kernel: Depends on container host
	Compiler: clang 18.1.6 (Fedora 18.1.6-3.fc40)

Ubuntu 20.04
	Kernel: Depends on container host
	Compiler: gcc (Ubuntu 9.4.0-1ubuntu1~20.04.2) 9.4.0

RHEL9
	Kernel: Depends on container host
	Compiler: gcc 11.4.1 20231218 (Red Hat 11.4.1-3)

Ubuntu 22.04
	Kernel: Depends on container host
	Compiler: gcc (Ubuntu 11.4.0-1ubuntu1~22.04) 11.4.0

Ubuntu 24.04
	Kernel: Depends on container host
	Compiler: gcc (Ubuntu 13.2.0-23ubuntu4) 13.2.0

To view detailed results, visit:
https://lab.dpdk.org/results/dashboard/patchsets/31904/

UNH-IOL DPDK Community Lab

To manage your email subscriptions, visit: 
https://lab.dpdk.org/results/dashboard/preferences/subscriptions/