From mboxrd@z Thu Jan  1 00:00:00 1970
Return-Path: <test-report-bounces@dpdk.org>
Received: from mails.dpdk.org (mails.dpdk.org [217.70.189.124])
	by inbox.dpdk.org (Postfix) with ESMTP id 991A145CF9
	for <public@inbox.dpdk.org>; Wed, 13 Nov 2024 18:28:07 +0100 (CET)
Received: from mails.dpdk.org (localhost [127.0.0.1])
	by mails.dpdk.org (Postfix) with ESMTP id 924DD406BC;
	Wed, 13 Nov 2024 18:28:07 +0100 (CET)
Received: from mail-qv1-f100.google.com (mail-qv1-f100.google.com
 [209.85.219.100])
 by mails.dpdk.org (Postfix) with ESMTP id DA6654025C
 for <test-report@dpdk.org>; Wed, 13 Nov 2024 18:28:05 +0100 (CET)
Received: by mail-qv1-f100.google.com with SMTP id
 6a1803df08f44-6cbd550b648so52824276d6.0
 for <test-report@dpdk.org>; Wed, 13 Nov 2024 09:28:05 -0800 (PST)
DKIM-Signature: v=1; a=rsa-sha256; c=relaxed/relaxed;
 d=iol.unh.edu; s=unh-iol; t=1731518885; x=1732123685; darn=dpdk.org;
 h=references:in-reply-to:cc:to:from:subject:message-id:date:from:to
 :cc:subject:date:message-id:reply-to;
 bh=lZdKISTafMu7Ff1XKa+rVmXEV3rGIXIh29UVBjUAnKE=;
 b=RgjyhLtZPDn/6uDo8r3Fu3xGFPvVjO6mNVP/0vOvBvvuYyQhUjqeb7i65jHJbGi0hu
 KAzj6LvHtFiukYlqAplbikDo5iuBxWbwDwJ06IAfSf3UGL0oTBQbpOxSb1RXNiqAOOY2
 pviZ/+GF+Ld5BUYexOOZCpKHnsL/X4DWid1aw=
X-Google-DKIM-Signature: v=1; a=rsa-sha256; c=relaxed/relaxed;
 d=1e100.net; s=20230601; t=1731518885; x=1732123685;
 h=references:in-reply-to:cc:to:from:subject:message-id:date
 :x-gm-message-state:from:to:cc:subject:date:message-id:reply-to;
 bh=lZdKISTafMu7Ff1XKa+rVmXEV3rGIXIh29UVBjUAnKE=;
 b=LQrcsO5ShbNz8nte78jf1CXzj6k4K3GssRDedUXcjVgfV08U7YoP+X4yaY0mld0XQo
 RRkz24+MmZR6jc8+YJa2dl9UA9QthAfy21YPz6FyxIBy9OqPQrr335FoMXNOuz0TAvu3
 CmuX9UumHIX6DwUrY8+9JktCEEWAaUxnMr2REbZ/4vdb3axOxCRZf6ALgmUy3p6Fglpg
 7c/1q+WXuJfTrkNtnFzxTlYdp20yg0BH+xd/pPJehg/6heNMPHagFtDFBvDXI5urJIvN
 YAmTK16V38ZCuMDu7idLVLL2TDKduXIF6rR1+SvOy4MRBdfdtudiWcV9VgBl5Imix3bG
 mFjg==
X-Gm-Message-State: AOJu0YzF2i9r/EBed9IHLxP5ThZ2dJjiZ3hQZT4Kpc9QUCOlRguvW+kp
 5bSD4sgJfWFY/b4ZJxix1Ou7amO9nUEt7zNp46bOiMltbEHZyYPYSvGEQVclbO0Q8QQS51Blu0e
 NnLx98MoRupuA+0Y1KTtGQB5hC8VZ9PP/kTCSqb09grt67AxBLbpolYZw
X-Google-Smtp-Source: AGHT+IFLyk2prl28NCR1WKAPf45kylJmFUafkgOlaEo/8bfk4YojuHMIuhbKezBjm3trClP2zLNCnn1vESLA
X-Received: by 2002:a05:6214:3202:b0:6d3:6542:8496 with SMTP id
 6a1803df08f44-6d39e107d0fmr310739636d6.10.1731518885277; 
 Wed, 13 Nov 2024 09:28:05 -0800 (PST)
Received: from postal.iol.unh.edu (postal.iol.unh.edu.
 [2606:4100:3880:1234::84]) by smtp-relay.gmail.com with ESMTPS id
 6a1803df08f44-6d3961df219sm12055016d6.9.2024.11.13.09.28.05
 (version=TLS1_2 cipher=ECDHE-ECDSA-AES128-GCM-SHA256 bits=128/128);
 Wed, 13 Nov 2024 09:28:05 -0800 (PST)
X-Relaying-Domain: iol.unh.edu
Date: Wed, 13 Nov 2024 09:28:05 -0800 (PST)
Message-ID: <6734e1a5.050a0220.df6ec.7359SMTPIN_ADDED_MISSING@mx.google.com>
Received: from [172.21.0.5] (unknown [172.18.0.240])
 by postal.iol.unh.edu (Postfix) with ESMTP id DF5616052471;
 Wed, 13 Nov 2024 12:28:04 -0500 (EST)
Subject: |SUCCESS| pw148366-148369 [PATCH] [4/4] net/bnx2x: fix duplicate bra
From: dpdklab@iol.unh.edu
To: Test Report <test-report@dpdk.org>
Cc: dpdk-test-reports@iol.unh.edu
In-Reply-To: <20241112174613.326565-5-stephen@networkplumber.org>
References: <20241112174613.326565-5-stephen@networkplumber.org>
Content-Type: text/plain
X-BeenThere: test-report@dpdk.org
X-Mailman-Version: 2.1.29
Precedence: list
List-Id: automatic DPDK test reports <test-report.dpdk.org>
List-Unsubscribe: <https://mails.dpdk.org/options/test-report>,
 <mailto:test-report-request@dpdk.org?subject=unsubscribe>
List-Archive: <http://mails.dpdk.org/archives/test-report/>
List-Post: <mailto:test-report@dpdk.org>
List-Help: <mailto:test-report-request@dpdk.org?subject=help>
List-Subscribe: <https://mails.dpdk.org/listinfo/test-report>,
 <mailto:test-report-request@dpdk.org?subject=subscribe>
Errors-To: test-report-bounces@dpdk.org

Test-Label: iol-compile-amd64-testing
Test-Status: SUCCESS
http://dpdk.org/patch/148369

_Testing PASS_

Submitter: Stephen Hemminger <stephen@networkplumber.org>
Date: Tuesday, November 12 2024 17:43:56 
DPDK git baseline: Repo:dpdk
  Branch: master
  CommitID:e44189836424fa8c30a3ace643c25defe0c618f2

148366-148369 --> testing pass

Upstream job id: Generic-DPDK-Compile-Meson#332814

Test environment and result as below:

+-------------------+--------------------+------------------+-------------------+
|    Environment    | dpdk_meson_compile | dpdk_compile_ovs | dpdk_compile_spdk |
+===================+====================+==================+===================+
| CentOS Stream 9   | PASS               | PASS             | PASS              |
+-------------------+--------------------+------------------+-------------------+
| Debian 12         | PASS               | PASS             | PASS              |
+-------------------+--------------------+------------------+-------------------+
| Fedora 39 (Clang) | PASS               | PASS             | PASS              |
+-------------------+--------------------+------------------+-------------------+
| Fedora 39         | PASS               | PASS             | PASS              |
+-------------------+--------------------+------------------+-------------------+
| Fedora 40 (Clang) | PASS               | PASS             | PASS              |
+-------------------+--------------------+------------------+-------------------+
| RHEL8             | PASS               | PASS             | SKIPPED           |
+-------------------+--------------------+------------------+-------------------+
| RHEL9             | PASS               | PASS             | SKIPPED           |
+-------------------+--------------------+------------------+-------------------+
| Ubuntu 20.04      | PASS               | PASS             | SKIPPED           |
+-------------------+--------------------+------------------+-------------------+
| Ubuntu 24.04      | PASS               | PASS             | PASS              |
+-------------------+--------------------+------------------+-------------------+
| Alpine            | PASS               | PASS             | SKIPPED           |
+-------------------+--------------------+------------------+-------------------+
| FreeBSD 13.4      | PASS               | SKIPPED          | SKIPPED           |
+-------------------+--------------------+------------------+-------------------+
| FreeBSD 14.1      | PASS               | SKIPPED          | SKIPPED           |
+-------------------+--------------------+------------------+-------------------+
| Ubuntu 22.04      | PASS               | PASS             | PASS              |
+-------------------+--------------------+------------------+-------------------+
| openSUSE Leap 15  | PASS               | PASS             | SKIPPED           |
+-------------------+--------------------+------------------+-------------------+


CentOS Stream 9
	Kernel: Depends on container host
	Compiler: gcc 11.4.1 20231218 (Red Hat 11.4.1-3)

Debian 12
	Kernel: Depends on container host
	Compiler: gcc (Debian 12.2.0-14) 12.2.0

Fedora 39 (Clang)
	Kernel: Depends on container host
	Compiler: clang 17.0.6 (Fedora 17.0.6-2.fc39)

Fedora 39
	Kernel: Depends on container host
	Compiler: gcc 13.3.1 20240522 (Red Hat 13.3.1-1)

Fedora 40 (Clang)
	Kernel: Depends on container host
	Compiler: clang 18.1.6 (Fedora 18.1.6-3.fc40)

RHEL8
	Kernel: Depends on container host
	Compiler: gcc 8.5.0 20210514 (Red Hat 8.5.0-22)

RHEL9
	Kernel: Depends on container host
	Compiler: gcc 11.4.1 20231218 (Red Hat 11.4.1-3)

Ubuntu 20.04
	Kernel: Depends on container host
	Compiler: gcc (Ubuntu 9.4.0-1ubuntu1~20.04.2) 9.4.0

Ubuntu 24.04
	Kernel: Depends on container host
	Compiler: gcc (Ubuntu 13.2.0-23ubuntu4) 13.2.0

Alpine
	Kernel: Depends on container host
	Compiler: gcc (Alpine 13.2.1_git20240309) 13.2.1 20240309

FreeBSD 13.4
	Kernel: 13.4-RELEASE-p1
	Compiler: clang 18.1.6

FreeBSD 14.1
	Kernel: 14.1-RELEASE-p3
	Compiler: clang 18.1.5

Ubuntu 22.04
	Kernel: Depends on container host
	Compiler: gcc (Ubuntu 11.4.0-1ubuntu1~22.04) 11.4.0

openSUSE Leap 15
	Kernel: Depends on container host
	Compiler: gcc (SUSE Linux) 7.5.0

To view detailed results, visit:
https://lab.dpdk.org/results/dashboard/patchsets/31898/

UNH-IOL DPDK Community Lab

To manage your email subscriptions, visit: 
https://lab.dpdk.org/results/dashboard/preferences/subscriptions/