From mboxrd@z Thu Jan  1 00:00:00 1970
Return-Path: <test-report-bounces@dpdk.org>
Received: from mails.dpdk.org (mails.dpdk.org [217.70.189.124])
	by inbox.dpdk.org (Postfix) with ESMTP id A6DDF45D03
	for <public@inbox.dpdk.org>; Thu, 14 Nov 2024 10:27:13 +0100 (CET)
Received: from mails.dpdk.org (localhost [127.0.0.1])
	by mails.dpdk.org (Postfix) with ESMTP id 9EDF342E68;
	Thu, 14 Nov 2024 10:27:13 +0100 (CET)
Received: from mail-il1-f225.google.com (mail-il1-f225.google.com
 [209.85.166.225])
 by mails.dpdk.org (Postfix) with ESMTP id BE75142E5E
 for <test-report@dpdk.org>; Thu, 14 Nov 2024 10:27:11 +0100 (CET)
Received: by mail-il1-f225.google.com with SMTP id
 e9e14a558f8ab-3a6ababa9f7so1529185ab.1
 for <test-report@dpdk.org>; Thu, 14 Nov 2024 01:27:11 -0800 (PST)
DKIM-Signature: v=1; a=rsa-sha256; c=relaxed/relaxed;
 d=iol.unh.edu; s=unh-iol; t=1731576431; x=1732181231; darn=dpdk.org;
 h=cc:to:from:subject:message-id:date:from:to:cc:subject:date
 :message-id:reply-to;
 bh=4SkPKmZArx+rsc1y4BTvMOPPRbSJUxKma+/OvKTerWw=;
 b=jYEHpQnVRUMV8b7syWw3ancSg2GglpxhaIxXCA5rIHkBiawXW5do4Dddi98h6dk1j1
 JE0tbmwztHvguwHqjyi3MryIpu3Dzh/yrtMgORJmrXNdXNvJRW/hpy8U+lpLo0VIwZeR
 lj6Znv+AbRtB0aOSKhZYeN6/CMhQEuhyVYnEw=
X-Google-DKIM-Signature: v=1; a=rsa-sha256; c=relaxed/relaxed;
 d=1e100.net; s=20230601; t=1731576431; x=1732181231;
 h=cc:to:from:subject:message-id:date:x-gm-message-state:from:to:cc
 :subject:date:message-id:reply-to;
 bh=4SkPKmZArx+rsc1y4BTvMOPPRbSJUxKma+/OvKTerWw=;
 b=fYO7ZD5FtzOLwKP08XMvFxVgKVphsLDO+rkM7kUvH0SgJ3DkGkz0g8tCnXMutkxkv0
 N+/AEjfQMo1z5VyA5NwoXJzrGNSgeZGntDCEuGziO8cQVztrt0B85iDb1Nrg61JfLS4W
 5b/I6i8beo0X18Dzzi8LjFMjPSD1GDOLmX9PcULBpC49PDbdML6nPbMGjOaLrYAgxgTB
 7797nDFfCnw7dfWMWXQhtKKoLNJWu85G3LG+kszTSVkwycGJEXQNhT7ebiNb0sf10Lyl
 FS3eBlHLJoUR/GPSVXIB+QLgeAO2KJmoFpPZXv4fnnX9kFjsUodfY6lfDUBJsWaGSlKY
 7PJw==
X-Gm-Message-State: AOJu0YwRuYNEa6GwF/qkTuLMsydMoepxKE2Fwew98NhkicfR2J3cPfv4
 4kzmp+C9dNE/uEYynfY5GfRt6y+82tnqyldlqK+aoDedXwVp88uwUnvKfYCOU2YYUbHYm9ZCRmG
 bmlwNm4OTWgshGLB0c/H1UdYLB3tmfXLY
X-Google-Smtp-Source: AGHT+IEl5J83p3izVMZNNLBEJxK+4TmZvGIGzRbaa/7h2iJN+/2eNWhnap0w15K05cWBQntcTek5+qUCkUzD
X-Received: by 2002:a05:6e02:1fc4:b0:3a6:c86b:6d53 with SMTP id
 e9e14a558f8ab-3a6f1a59017mr207189235ab.24.1731576430999; 
 Thu, 14 Nov 2024 01:27:10 -0800 (PST)
Received: from postal.iol.unh.edu (postal.iol.unh.edu. [132.177.123.84])
 by smtp-relay.gmail.com with ESMTPS id
 e9e14a558f8ab-3a721be5b5dsm1076525ab.70.2024.11.14.01.27.10
 (version=TLS1_2 cipher=ECDHE-ECDSA-AES128-GCM-SHA256 bits=128/128);
 Thu, 14 Nov 2024 01:27:10 -0800 (PST)
X-Relaying-Domain: iol.unh.edu
Date: Thu, 14 Nov 2024 01:27:10 -0800 (PST)
Message-ID: <6735c26e.050a0220.21335d.1be7SMTPIN_ADDED_MISSING@mx.google.com>
Received: from [172.17.0.2] (unknown [172.18.0.217])
 by postal.iol.unh.edu (Postfix) with ESMTP id 7260A6052471;
 Thu, 14 Nov 2024 04:27:10 -0500 (EST)
Subject: |SUCCESS| [GIT MASTER] e8eb14e00d56027bef8569d68cf00e39670edca2
From: dpdklab@iol.unh.edu
To: Test Report <test-report@dpdk.org>
Cc: dpdk-test-reports@iol.unh.edu, Xueming Li <xuemingl@nvidia.com>,
 Christian Ehrhardt <christian.ehrhardt@canonical.com>,
 Kevin Traynor <ktraynor@redhat.com>, Luca Boccassi <bluca@debian.org>
Content-Type: text/plain
X-BeenThere: test-report@dpdk.org
X-Mailman-Version: 2.1.29
Precedence: list
List-Id: automatic DPDK test reports <test-report.dpdk.org>
List-Unsubscribe: <https://mails.dpdk.org/options/test-report>,
 <mailto:test-report-request@dpdk.org?subject=unsubscribe>
List-Archive: <http://mails.dpdk.org/archives/test-report/>
List-Post: <mailto:test-report@dpdk.org>
List-Help: <mailto:test-report-request@dpdk.org?subject=help>
List-Subscribe: <https://mails.dpdk.org/listinfo/test-report>,
 <mailto:test-report-request@dpdk.org?subject=subscribe>
Errors-To: test-report-bounces@dpdk.org

_Testing PASS_

Branch: tags/v23.11

e8eb14e00d56027bef8569d68cf00e39670edca2 --> testing pass

Upstream job id: Generic-DPDK-Compile-ABI#106629

Test environment and result as below:

+-------------------+----------+
|    Environment    | abi_test |
+===================+==========+
| CentOS Stream 9   | PASS     |
+-------------------+----------+
| Debian 12         | PASS     |
+-------------------+----------+
| Fedora 39         | PASS     |
+-------------------+----------+
| Fedora 40 (Clang) | PASS     |
+-------------------+----------+
| openSUSE Leap 15  | PASS     |
+-------------------+----------+
| RHEL8             | PASS     |
+-------------------+----------+
| Ubuntu 24.04      | PASS     |
+-------------------+----------+
| Ubuntu 22.04      | PASS     |
+-------------------+----------+
| RHEL9             | PASS     |
+-------------------+----------+


CentOS Stream 9
	Kernel: Depends on container host
	Compiler: gcc 11.4.1 20231218 (Red Hat 11.4.1-3)

Debian 12
	Kernel: Depends on container host
	Compiler: gcc (Debian 12.2.0-14) 12.2.0

Fedora 39
	Kernel: Depends on container host
	Compiler: gcc 13.3.1 20240522 (Red Hat 13.3.1-1)

Fedora 40 (Clang)
	Kernel: Depends on container host
	Compiler: clang 18.1.6 (Fedora 18.1.6-3.fc40)

openSUSE Leap 15
	Kernel: Depends on container host
	Compiler: gcc (SUSE Linux) 7.5.0

RHEL8
	Kernel: Depends on container host
	Compiler: gcc 8.5.0 20210514 (Red Hat 8.5.0-22)

Ubuntu 24.04
	Kernel: Depends on container host
	Compiler: gcc (Ubuntu 13.2.0-23ubuntu4) 13.2.0

Ubuntu 22.04
	Kernel: Depends on container host
	Compiler: gcc (Ubuntu 11.4.0-1ubuntu1~22.04) 11.4.0

RHEL9
	Kernel: Depends on container host
	Compiler: gcc 11.4.1 20231218 (Red Hat 11.4.1-3)

To view detailed results, visit:
https://lab.dpdk.org/results/dashboard/tarballs/31563/

UNH-IOL DPDK Community Lab

To manage your email subscriptions, visit: 
https://lab.dpdk.org/results/dashboard/preferences/subscriptions/