From mboxrd@z Thu Jan  1 00:00:00 1970
Return-Path: <test-report-bounces@dpdk.org>
Received: from mails.dpdk.org (mails.dpdk.org [217.70.189.124])
	by inbox.dpdk.org (Postfix) with ESMTP id 09D2045D04
	for <public@inbox.dpdk.org>; Thu, 14 Nov 2024 12:58:11 +0100 (CET)
Received: from mails.dpdk.org (localhost [127.0.0.1])
	by mails.dpdk.org (Postfix) with ESMTP id F2771402C2;
	Thu, 14 Nov 2024 12:58:10 +0100 (CET)
Received: from mail-oo1-f100.google.com (mail-oo1-f100.google.com
 [209.85.161.100])
 by mails.dpdk.org (Postfix) with ESMTP id 05E604025D
 for <test-report@dpdk.org>; Thu, 14 Nov 2024 12:58:10 +0100 (CET)
Received: by mail-oo1-f100.google.com with SMTP id
 006d021491bc7-5edfe8c17c4so216234eaf.2
 for <test-report@dpdk.org>; Thu, 14 Nov 2024 03:58:09 -0800 (PST)
DKIM-Signature: v=1; a=rsa-sha256; c=relaxed/relaxed;
 d=iol.unh.edu; s=unh-iol; t=1731585489; x=1732190289; darn=dpdk.org;
 h=cc:to:from:subject:message-id:date:from:to:cc:subject:date
 :message-id:reply-to;
 bh=uvtwS70GXGjBLgg5gKyaobD/N5Ux53nKj8t9oD8ZTmI=;
 b=DXWlk1AermhtBar15e9Pp3Putmqspag9ZUUx/RtwrRQPM3C8WuWSKzexhRfIRB+/Qt
 TfaAV3MBzHONLUqiQWRzXELyMHwJj8Dfky8tdwnti8dGBYOlE9WHUCHDDe/XOKiv/glk
 aYyltqKKRA+ToMORc520IOhmNPQoKFWL/Aw9w=
X-Google-DKIM-Signature: v=1; a=rsa-sha256; c=relaxed/relaxed;
 d=1e100.net; s=20230601; t=1731585489; x=1732190289;
 h=cc:to:from:subject:message-id:date:x-gm-message-state:from:to:cc
 :subject:date:message-id:reply-to;
 bh=uvtwS70GXGjBLgg5gKyaobD/N5Ux53nKj8t9oD8ZTmI=;
 b=C/+1iONao0J0naMKxd0B845L8xJAqT+UtABkrdKUwDkPfSqSIUPyjgdQK+apFwDK89
 QpFiKrRmNiUFR3397brfXP3HoQLIw9ghqbMYohgTmb+ikgN7GRY2bhq7jfJA+1jhJAl8
 19wWpZ3ylupatB96QYEsSdc6dvTg7D7khM5oLp5Kwz9ho42bO6f+wotyo4rpZMG1eCba
 jPhH57Yy99c1NOwMuC5iNU3g+mSAxXu1sf+cFFMToZeGMGItRDkpLcFhX0NLKejxt/cU
 A33e9JUyaiAWCiUGwZcS8tmY7go0TSWpCnuhNdC5E0hw35poUgzNMY2I7wCBS6c1rX/4
 F4Yg==
X-Gm-Message-State: AOJu0Yx7pv6By6QME/GM+J6RjUfXwq9UFI8ZZcJWz6UtC1Q+4j9ZUTpe
 9fLRQhAGTBjbzqOvbD6TkSrnaCrN8c9QpHqjBJXIGW0FdYjGbqwMelaeEDQfuODeYetw1t1GqgN
 e4P3O/7izddbCnspFE9kpqbWyTVbYE4sm
X-Google-Smtp-Source: AGHT+IFRVvBjJ9MjOYui4gqn2mTVhYlUkW3+u73GTSQ06dZGjtGR1h1cQC2cBA4Qe53k2fwi87pJpbBEco8T
X-Received: by 2002:a05:6870:2e0a:b0:25d:f0ba:eab7 with SMTP id
 586e51a60fabf-296103464d5mr1940323fac.18.1731585487602; 
 Thu, 14 Nov 2024 03:58:07 -0800 (PST)
Received: from postal.iol.unh.edu (postal.iol.unh.edu. [132.177.123.84])
 by smtp-relay.gmail.com with ESMTPS id
 006d021491bc7-5eea00f3c00sm141803eaf.6.2024.11.14.03.58.07
 (version=TLS1_2 cipher=ECDHE-ECDSA-AES128-GCM-SHA256 bits=128/128);
 Thu, 14 Nov 2024 03:58:07 -0800 (PST)
X-Relaying-Domain: iol.unh.edu
Date: Thu, 14 Nov 2024 03:58:07 -0800 (PST)
Message-ID: <6735e5cf.050a0220.bcbdf.231aSMTPIN_ADDED_MISSING@mx.google.com>
Received: from [172.21.0.6] (unknown [172.18.0.240])
 by postal.iol.unh.edu (Postfix) with ESMTP id 043626052471;
 Thu, 14 Nov 2024 06:58:07 -0500 (EST)
Subject: |SUCCESS| [GIT MASTER] e8eb14e00d56027bef8569d68cf00e39670edca2
From: dpdklab@iol.unh.edu
To: Test Report <test-report@dpdk.org>
Cc: dpdk-test-reports@iol.unh.edu, Xueming Li <xuemingl@nvidia.com>,
 Christian Ehrhardt <christian.ehrhardt@canonical.com>,
 Kevin Traynor <ktraynor@redhat.com>, Luca Boccassi <bluca@debian.org>
Content-Type: text/plain
X-BeenThere: test-report@dpdk.org
X-Mailman-Version: 2.1.29
Precedence: list
List-Id: automatic DPDK test reports <test-report.dpdk.org>
List-Unsubscribe: <https://mails.dpdk.org/options/test-report>,
 <mailto:test-report-request@dpdk.org?subject=unsubscribe>
List-Archive: <http://mails.dpdk.org/archives/test-report/>
List-Post: <mailto:test-report@dpdk.org>
List-Help: <mailto:test-report-request@dpdk.org?subject=help>
List-Subscribe: <https://mails.dpdk.org/listinfo/test-report>,
 <mailto:test-report-request@dpdk.org?subject=subscribe>
Errors-To: test-report-bounces@dpdk.org

_Testing PASS_

Branch: tags/v23.11

e8eb14e00d56027bef8569d68cf00e39670edca2 --> testing pass

Upstream job id: Generic-Unit-Test-DPDK#291423

Test environment and result as below:

+-------------------+----------------+
|    Environment    | dpdk_unit_test |
+===================+================+
| CentOS Stream 9   | PASS           |
+-------------------+----------------+
| Debian 12         | PASS           |
+-------------------+----------------+
| Fedora 39         | PASS           |
+-------------------+----------------+
| Ubuntu 20.04      | PASS           |
+-------------------+----------------+
| Fedora 40         | PASS           |
+-------------------+----------------+
| Fedora 39 (Clang) | PASS           |
+-------------------+----------------+
| RHEL9             | PASS           |
+-------------------+----------------+
| Fedora 40 (Clang) | PASS           |
+-------------------+----------------+
| RHEL8             | PASS           |
+-------------------+----------------+
| Ubuntu 24.04      | PASS           |
+-------------------+----------------+
| Ubuntu 22.04      | PASS           |
+-------------------+----------------+


CentOS Stream 9
	Kernel: Depends on container host
	Compiler: gcc 11.4.1 20231218 (Red Hat 11.4.1-3)

Debian 12
	Kernel: Depends on container host
	Compiler: gcc (Debian 12.2.0-14) 12.2.0

Fedora 39
	Kernel: Depends on container host
	Compiler: gcc 13.3.1 20240522 (Red Hat 13.3.1-1)

Ubuntu 20.04
	Kernel: Depends on container host
	Compiler: gcc (Ubuntu 9.4.0-1ubuntu1~20.04.2) 9.4.0

Fedora 40
	Kernel: Depends on container host
	Compiler: gcc 14.2.1 20240801 (Red Hat 14.2.1-1)

Fedora 39 (Clang)
	Kernel: Depends on container host
	Compiler: clang 17.0.6 (Fedora 17.0.6-2.fc39)

RHEL9
	Kernel: Depends on container host
	Compiler: gcc 11.4.1 20231218 (Red Hat 11.4.1-3)

Fedora 40 (Clang)
	Kernel: Depends on container host
	Compiler: clang 18.1.6 (Fedora 18.1.6-3.fc40)

RHEL8
	Kernel: Depends on container host
	Compiler: gcc 8.5.0 20210514 (Red Hat 8.5.0-22)

Ubuntu 24.04
	Kernel: Depends on container host
	Compiler: gcc (Ubuntu 13.2.0-23ubuntu4) 13.2.0

Ubuntu 22.04
	Kernel: Depends on container host
	Compiler: gcc (Ubuntu 11.4.0-1ubuntu1~22.04) 11.4.0

To view detailed results, visit:
https://lab.dpdk.org/results/dashboard/tarballs/31563/

UNH-IOL DPDK Community Lab

To manage your email subscriptions, visit: 
https://lab.dpdk.org/results/dashboard/preferences/subscriptions/