From mboxrd@z Thu Jan  1 00:00:00 1970
Return-Path: <test-report-bounces@dpdk.org>
Received: from mails.dpdk.org (mails.dpdk.org [217.70.189.124])
	by inbox.dpdk.org (Postfix) with ESMTP id 33B0B45D03
	for <public@inbox.dpdk.org>; Thu, 14 Nov 2024 23:30:18 +0100 (CET)
Received: from mails.dpdk.org (localhost [127.0.0.1])
	by mails.dpdk.org (Postfix) with ESMTP id 30A6942EBB;
	Thu, 14 Nov 2024 23:30:18 +0100 (CET)
Received: from mail-yw1-f228.google.com (mail-yw1-f228.google.com
 [209.85.128.228])
 by mails.dpdk.org (Postfix) with ESMTP id 7509F4027E
 for <test-report@dpdk.org>; Thu, 14 Nov 2024 23:30:17 +0100 (CET)
Received: by mail-yw1-f228.google.com with SMTP id
 00721157ae682-6eb0c2dda3cso12892227b3.1
 for <test-report@dpdk.org>; Thu, 14 Nov 2024 14:30:17 -0800 (PST)
DKIM-Signature: v=1; a=rsa-sha256; c=relaxed/relaxed;
 d=iol.unh.edu; s=unh-iol; t=1731623417; x=1732228217; darn=dpdk.org;
 h=references:in-reply-to:cc:to:from:subject:message-id:date:from:to
 :cc:subject:date:message-id:reply-to;
 bh=A644jutGLsUonHi3D/w/AU61JrvTJ8Chl7EBScZVg6o=;
 b=Y1tqRexp5nkhXjxAuDIAPW7uSyvkfAUXPLAHzhlctk/c+KsX8sX5RkyXPaG+j4T/z/
 9B7q4TIM9a5WSCmyvyluULv/kB9RJ7Rt7deRnaaXJlX7wrBgIeZFbsieRYRZ9A9b4v1e
 f1ybaGk5F8n15l/LzZ+leBmw2pMeTaq5SROU8=
X-Google-DKIM-Signature: v=1; a=rsa-sha256; c=relaxed/relaxed;
 d=1e100.net; s=20230601; t=1731623417; x=1732228217;
 h=references:in-reply-to:cc:to:from:subject:message-id:date
 :x-gm-message-state:from:to:cc:subject:date:message-id:reply-to;
 bh=A644jutGLsUonHi3D/w/AU61JrvTJ8Chl7EBScZVg6o=;
 b=SSuWM6O496joc98muluK2XSOQOt4V0z+1IWyBCZUo1bFy0Jr3NtFfDehLc7LKHxKn+
 kqE0miCorPMKnf1gYkzubDLQVmfHlDRaSq8eHS7ctHXxkpHQSld/NABHGfyy8H55OdU+
 ITV5C/wqI1Q7rZiQvGJIHE/b1MyxmJ24sRx64RTGTWQ/Y+24kTqnYKK4UlXD1bymZCDz
 b/BH7c4Jqne9Od0WD3oftmz7m/4mSj8aPDr8HJrQNWQKeM7cYen1+cC4w1pN4wTqgrWF
 5XdBSJzdNxh93rYwRjA9nFcIE6EIvVh69vF+yZd/B+VGUWLtp0tQ+pHxxZQHIgJ815+S
 cVyA==
X-Gm-Message-State: AOJu0Yy6A0qtdxt51XWT5Yb+WKdd+P8v0FZ/vepgwbexu5RXS3+IMZy/
 Srf702KVzfoOFIYTzFfC7ykbrF/2aFHhyYRxkD+vrHqj4tsn3r1Q1iNy2u+NroQejja8/Ji1vUI
 TrJKICKGwdOZZCX1ryaZ93CEqDrAKeY+On57RU7+5MSN3i1iTX9EJlw+d
X-Google-Smtp-Source: AGHT+IHimCfPptWPG64PQL08cIuFwUAyC407c9+w3HhXXL1CaaKNkjksh3dsSnifIA5OpXK78nFiBM8I8m/c
X-Received: by 2002:a05:690c:4b0f:b0:6ea:8a5e:7fbd with SMTP id
 00721157ae682-6ee55bbbe47mr11109857b3.2.1731623416745; 
 Thu, 14 Nov 2024 14:30:16 -0800 (PST)
Received: from postal.iol.unh.edu (postal.iol.unh.edu.
 [2606:4100:3880:1234::84]) by smtp-relay.gmail.com with ESMTPS id
 d75a77b69052e-4635a922800sm2250391cf.5.2024.11.14.14.30.16
 (version=TLS1_2 cipher=ECDHE-ECDSA-AES128-GCM-SHA256 bits=128/128);
 Thu, 14 Nov 2024 14:30:16 -0800 (PST)
X-Relaying-Domain: iol.unh.edu
Date: Thu, 14 Nov 2024 14:30:16 -0800 (PST)
Message-ID: <673679f8.c80a0220.4163.516cSMTPIN_ADDED_MISSING@mx.google.com>
Received: from [172.21.0.5] (unknown [172.18.0.240])
 by postal.iol.unh.edu (Postfix) with ESMTP id 4BEF96052471;
 Thu, 14 Nov 2024 17:30:16 -0500 (EST)
Subject: |WARNING| pw148478-148480 [PATCH] [v4,3/3] test/graph: fix graph aut
From: dpdklab@iol.unh.edu
To: Test Report <test-report@dpdk.org>
Cc: dpdk-test-reports@iol.unh.edu
In-Reply-To: <20241114090806.3266673-3-kirankumark@marvell.com>
References: <20241114090806.3266673-3-kirankumark@marvell.com>
Content-Type: text/plain
X-BeenThere: test-report@dpdk.org
X-Mailman-Version: 2.1.29
Precedence: list
List-Id: automatic DPDK test reports <test-report.dpdk.org>
List-Unsubscribe: <https://mails.dpdk.org/options/test-report>,
 <mailto:test-report-request@dpdk.org?subject=unsubscribe>
List-Archive: <http://mails.dpdk.org/archives/test-report/>
List-Post: <mailto:test-report@dpdk.org>
List-Help: <mailto:test-report-request@dpdk.org?subject=help>
List-Subscribe: <https://mails.dpdk.org/listinfo/test-report>,
 <mailto:test-report-request@dpdk.org?subject=subscribe>
Errors-To: test-report-bounces@dpdk.org

Test-Label: iol-compile-amd64-testing
Test-Status: WARNING
http://dpdk.org/patch/148480

_Testing issues_

Submitter: Kiran Kumar Kokkilagadda <kirankumark@marvell.com>
Date: Thursday, November 14 2024 09:08:06 
DPDK git baseline: Repo:dpdk
  Branch: master
  CommitID:78383e9816a8efe2ba16ec2ce65d51b94e6114e7

148478-148480 --> testing issues

Upstream job id: Generic-DPDK-Compile-Meson#333810

Test environment and result as below:

+-------------------+--------------------+------------------+-------------------+
|    Environment    | dpdk_meson_compile | dpdk_compile_ovs | dpdk_compile_spdk |
+===================+====================+==================+===================+
| FreeBSD 13.4      | PASS               | SKIPPED          | SKIPPED           |
+-------------------+--------------------+------------------+-------------------+
| FreeBSD 14.1      | PASS               | SKIPPED          | SKIPPED           |
+-------------------+--------------------+------------------+-------------------+
| CentOS Stream 9   | PASS               | PASS             | WARN              |
+-------------------+--------------------+------------------+-------------------+
| Debian 12         | PASS               | PASS             | WARN              |
+-------------------+--------------------+------------------+-------------------+
| Fedora 39 (Clang) | PASS               | PASS             | WARN              |
+-------------------+--------------------+------------------+-------------------+
| Fedora 39         | PASS               | PASS             | WARN              |
+-------------------+--------------------+------------------+-------------------+
| Fedora 40 (Clang) | PASS               | PASS             | WARN              |
+-------------------+--------------------+------------------+-------------------+
| Fedora 40         | PASS               | PASS             | WARN              |
+-------------------+--------------------+------------------+-------------------+
| openSUSE Leap 15  | PASS               | PASS             | SKIPPED           |
+-------------------+--------------------+------------------+-------------------+
| RHEL8             | PASS               | PASS             | SKIPPED           |
+-------------------+--------------------+------------------+-------------------+
| RHEL9             | PASS               | PASS             | SKIPPED           |
+-------------------+--------------------+------------------+-------------------+
| Ubuntu 20.04      | PASS               | PASS             | SKIPPED           |
+-------------------+--------------------+------------------+-------------------+
| Ubuntu 22.04      | PASS               | PASS             | WARN              |
+-------------------+--------------------+------------------+-------------------+
| Ubuntu 24.04      | PASS               | PASS             | WARN              |
+-------------------+--------------------+------------------+-------------------+
| Alpine            | PASS               | PASS             | SKIPPED           |
+-------------------+--------------------+------------------+-------------------+

==== 20 line log output for Ubuntu 24.04 (dpdk_compile_spdk): ====
 --- Failed to get log output --- 
==== End log output ====

FreeBSD 13.4
	Kernel: 13.4-RELEASE-p1
	Compiler: clang 18.1.6

FreeBSD 14.1
	Kernel: 14.1-RELEASE-p3
	Compiler: clang 18.1.5

CentOS Stream 9
	Kernel: Depends on container host
	Compiler: gcc 11.4.1 20231218 (Red Hat 11.4.1-3)

Debian 12
	Kernel: Depends on container host
	Compiler: gcc (Debian 12.2.0-14) 12.2.0

Fedora 39 (Clang)
	Kernel: Depends on container host
	Compiler: clang 17.0.6 (Fedora 17.0.6-2.fc39)

Fedora 39
	Kernel: Depends on container host
	Compiler: gcc 13.3.1 20240522 (Red Hat 13.3.1-1)

Fedora 40 (Clang)
	Kernel: Depends on container host
	Compiler: clang 18.1.6 (Fedora 18.1.6-3.fc40)

Fedora 40
	Kernel: Depends on container host
	Compiler: gcc 14.2.1 20240801 (Red Hat 14.2.1-1)

openSUSE Leap 15
	Kernel: Depends on container host
	Compiler: gcc (SUSE Linux) 7.5.0

RHEL8
	Kernel: Depends on container host
	Compiler: gcc 8.5.0 20210514 (Red Hat 8.5.0-22)

RHEL9
	Kernel: Depends on container host
	Compiler: gcc 11.4.1 20231218 (Red Hat 11.4.1-3)

Ubuntu 20.04
	Kernel: Depends on container host
	Compiler: gcc (Ubuntu 9.4.0-1ubuntu1~20.04.2) 9.4.0

Ubuntu 22.04
	Kernel: Depends on container host
	Compiler: gcc (Ubuntu 11.4.0-1ubuntu1~22.04) 11.4.0

Ubuntu 24.04
	Kernel: Depends on container host
	Compiler: gcc (Ubuntu 13.2.0-23ubuntu4) 13.2.0

Alpine
	Kernel: Depends on container host
	Compiler: gcc (Alpine 13.2.1_git20240309) 13.2.1 20240309

To view detailed results, visit:
https://lab.dpdk.org/results/dashboard/patchsets/31932/

UNH-IOL DPDK Community Lab

To manage your email subscriptions, visit: 
https://lab.dpdk.org/results/dashboard/preferences/subscriptions/