From mboxrd@z Thu Jan  1 00:00:00 1970
Return-Path: <test-report-bounces@dpdk.org>
Received: from mails.dpdk.org (mails.dpdk.org [217.70.189.124])
	by inbox.dpdk.org (Postfix) with ESMTP id 2372045D17
	for <public@inbox.dpdk.org>; Sat, 16 Nov 2024 01:07:53 +0100 (CET)
Received: from mails.dpdk.org (localhost [127.0.0.1])
	by mails.dpdk.org (Postfix) with ESMTP id 14CCF402BB;
	Sat, 16 Nov 2024 01:07:53 +0100 (CET)
Received: from mail-io1-f99.google.com (mail-io1-f99.google.com
 [209.85.166.99]) by mails.dpdk.org (Postfix) with ESMTP id 44EE2402A7
 for <test-report@dpdk.org>; Sat, 16 Nov 2024 01:07:51 +0100 (CET)
Received: by mail-io1-f99.google.com with SMTP id
 ca18e2360f4ac-83e5dc9af36so79891439f.0
 for <test-report@dpdk.org>; Fri, 15 Nov 2024 16:07:51 -0800 (PST)
DKIM-Signature: v=1; a=rsa-sha256; c=relaxed/relaxed;
 d=iol.unh.edu; s=unh-iol; t=1731715670; x=1732320470; darn=dpdk.org;
 h=cc:to:from:subject:message-id:date:from:to:cc:subject:date
 :message-id:reply-to;
 bh=C/1YFj1IeD+wGWtpcxsZgTOMtDBrWiKw0tIPwYmWiSk=;
 b=jtczioW75NlUgyUvYXQy1rUI58TZw5AXKNixHCkPE2Nn6XFGc2x8zJ057ZtDdtMvvA
 tU00GszjyNUQDjwCIKR58Er5fI7ZnDX/uuJxmk3hgQlbLaNpDB8x6mNY9Id+Vdhb+8YH
 bnPf4vXSePcxSb17UvxZ077Bms+tA5pqF/1kk=
X-Google-DKIM-Signature: v=1; a=rsa-sha256; c=relaxed/relaxed;
 d=1e100.net; s=20230601; t=1731715670; x=1732320470;
 h=cc:to:from:subject:message-id:date:x-gm-message-state:from:to:cc
 :subject:date:message-id:reply-to;
 bh=C/1YFj1IeD+wGWtpcxsZgTOMtDBrWiKw0tIPwYmWiSk=;
 b=ecqxm5LKpI+7zribtYQtT5vsQtJk9vMiAAfP+kXN55VbTLijtjHIvYQZgKp5OkJXTm
 ak3cUAHKO7KhIbRL4xZ4mfHwG9OFkHrFcp3yd8wy9VqQprNi6Na+BapjGmJ+ZQDoTW1E
 6Vy01z8QO6nZJTJJm0o+/P+UWWk0GmnjTXwyyjG0GIJaPegGBUrmME0cKX9V016qtda2
 IVoFfIFABp8MrYNA8uSyGxGgeLACJwX9UcQINANAXTVbyE9VqOCduU/K0hevObL9jCXs
 En3SAmghdCIjYgOnHAJQIM0TpsULNdQb+k36SpoLmjyJAIW2ZVsuVfq9vw8vMQjYzTP0
 jHJg==
X-Gm-Message-State: AOJu0YxQ643XQ/+K1hhTDwcnmSA6oInmFJ3b18exVdyt9uyoBGYw6IzL
 syKx+D668Ov8rXbxZvOKFCDYFL8oJccXUzTzimGqgjXDq8VwOTWWMhq9QTSnpmALclocRPkbqrr
 ZFz6+8xRT6pUs2cZKGt7oUFSt29AhYLsy/SgVh+uxjDWiWDyF
X-Google-Smtp-Source: AGHT+IGd4vRQzhvS5zESdmXe9fa/leIqgfu3Xck4A5xtK49xI/FO30prfbwEpWDvEbZNable+S4FHqA4H1+n
X-Received: by 2002:a05:6602:e0b:b0:83a:f19d:ce48 with SMTP id
 ca18e2360f4ac-83e5cd85392mr906664739f.3.1731715670613; 
 Fri, 15 Nov 2024 16:07:50 -0800 (PST)
Received: from postal.iol.unh.edu (postal.iol.unh.edu.
 [2606:4100:3880:1234::84]) by smtp-relay.gmail.com with ESMTPS id
 8926c6da1cb9f-4e0756c7d0dsm164676173.77.2024.11.15.16.07.50
 (version=TLS1_2 cipher=ECDHE-ECDSA-AES128-GCM-SHA256 bits=128/128);
 Fri, 15 Nov 2024 16:07:50 -0800 (PST)
X-Relaying-Domain: iol.unh.edu
Date: Fri, 15 Nov 2024 16:07:50 -0800 (PST)
Message-ID: <6737e256.050a0220.1eb5ea.6af9SMTPIN_ADDED_MISSING@mx.google.com>
Received: from [172.21.0.5] (unknown [172.18.0.240])
 by postal.iol.unh.edu (Postfix) with ESMTP id 260E46052471;
 Fri, 15 Nov 2024 19:07:50 -0500 (EST)
Subject: |SUCCESS| [GIT MASTER] d20fd65f258afb5b572fe686b7d1032aeb95e079
From: dpdklab@iol.unh.edu
To: Test Report <test-report@dpdk.org>
Cc: dpdk-test-reports@iol.unh.edu, Xueming Li <xuemingl@nvidia.com>,
 Christian Ehrhardt <christian.ehrhardt@canonical.com>,
 Kevin Traynor <ktraynor@redhat.com>, Luca Boccassi <bluca@debian.org>
Content-Type: text/plain
X-BeenThere: test-report@dpdk.org
X-Mailman-Version: 2.1.29
Precedence: list
List-Id: automatic DPDK test reports <test-report.dpdk.org>
List-Unsubscribe: <https://mails.dpdk.org/options/test-report>,
 <mailto:test-report-request@dpdk.org?subject=unsubscribe>
List-Archive: <http://mails.dpdk.org/archives/test-report/>
List-Post: <mailto:test-report@dpdk.org>
List-Help: <mailto:test-report-request@dpdk.org?subject=help>
List-Subscribe: <https://mails.dpdk.org/listinfo/test-report>,
 <mailto:test-report-request@dpdk.org?subject=subscribe>
Errors-To: test-report-bounces@dpdk.org

_Testing PASS_

Branch: tags/v21.11

d20fd65f258afb5b572fe686b7d1032aeb95e079 --> testing pass

Upstream job id: Generic-DPDK-Compile-ABI#106635

Test environment and result as below:

+-------------------+----------+
|    Environment    | abi_test |
+===================+==========+
| CentOS Stream 9   | PASS     |
+-------------------+----------+
| Debian 12         | PASS     |
+-------------------+----------+
| Fedora 39 (Clang) | PASS     |
+-------------------+----------+
| RHEL8             | PASS     |
+-------------------+----------+
| Fedora 39         | PASS     |
+-------------------+----------+
| Fedora 40         | PASS     |
+-------------------+----------+
| Ubuntu 22.04      | PASS     |
+-------------------+----------+
| Ubuntu 24.04      | PASS     |
+-------------------+----------+
| RHEL9             | PASS     |
+-------------------+----------+
| Fedora 40 (Clang) | PASS     |
+-------------------+----------+


CentOS Stream 9
	Kernel: Depends on container host
	Compiler: gcc 11.4.1 20231218 (Red Hat 11.4.1-3)

Debian 12
	Kernel: Depends on container host
	Compiler: gcc (Debian 12.2.0-14) 12.2.0

Fedora 39 (Clang)
	Kernel: Depends on container host
	Compiler: clang 17.0.6 (Fedora 17.0.6-2.fc39)

RHEL8
	Kernel: Depends on container host
	Compiler: gcc 8.5.0 20210514 (Red Hat 8.5.0-22)

Fedora 39
	Kernel: Depends on container host
	Compiler: gcc 13.3.1 20240522 (Red Hat 13.3.1-1)

Fedora 40
	Kernel: Depends on container host
	Compiler: gcc 14.2.1 20240801 (Red Hat 14.2.1-1)

Ubuntu 22.04
	Kernel: Depends on container host
	Compiler: gcc (Ubuntu 11.4.0-1ubuntu1~22.04) 11.4.0

Ubuntu 24.04
	Kernel: Depends on container host
	Compiler: gcc (Ubuntu 13.2.0-23ubuntu4) 13.2.0

RHEL9
	Kernel: Depends on container host
	Compiler: gcc 11.4.1 20231218 (Red Hat 11.4.1-3)

Fedora 40 (Clang)
	Kernel: Depends on container host
	Compiler: clang 18.1.6 (Fedora 18.1.6-3.fc40)

To view detailed results, visit:
https://lab.dpdk.org/results/dashboard/tarballs/31592/

UNH-IOL DPDK Community Lab

To manage your email subscriptions, visit: 
https://lab.dpdk.org/results/dashboard/preferences/subscriptions/