From mboxrd@z Thu Jan  1 00:00:00 1970
Return-Path: <test-report-bounces@dpdk.org>
Received: from mails.dpdk.org (mails.dpdk.org [217.70.189.124])
	by inbox.dpdk.org (Postfix) with ESMTP id D8DBD45D17
	for <public@inbox.dpdk.org>; Sat, 16 Nov 2024 01:52:22 +0100 (CET)
Received: from mails.dpdk.org (localhost [127.0.0.1])
	by mails.dpdk.org (Postfix) with ESMTP id A5B77402BB;
	Sat, 16 Nov 2024 01:52:22 +0100 (CET)
Received: from mail-yb1-f228.google.com (mail-yb1-f228.google.com
 [209.85.219.228])
 by mails.dpdk.org (Postfix) with ESMTP id 29E1B402A7
 for <test-report@dpdk.org>; Sat, 16 Nov 2024 01:52:21 +0100 (CET)
Received: by mail-yb1-f228.google.com with SMTP id
 3f1490d57ef6-e382589e8fdso1375520276.0
 for <test-report@dpdk.org>; Fri, 15 Nov 2024 16:52:21 -0800 (PST)
DKIM-Signature: v=1; a=rsa-sha256; c=relaxed/relaxed;
 d=iol.unh.edu; s=unh-iol; t=1731718340; x=1732323140; darn=dpdk.org;
 h=references:in-reply-to:cc:to:from:subject:message-id:date:from:to
 :cc:subject:date:message-id:reply-to;
 bh=XqQiqzkyAGThIa4oHu45BKyqeX0SOAYWYxRvm0RdRDI=;
 b=JDaLzfifdjW2A+tdnQ3+t5XZl9evVxwVt7DiMtAr6g90PXotrcr+OQPG4DsU+KHMSX
 rLJ+O2SiqfLe4d5UE4rZVYGmQ/uHbffF8dKjcTbK1YbdGc0k1nrh13/VXALeKjXoVRoR
 owNnlpzE97UTBgoy6IJUEaLZ3kzK5jls90Bsg=
X-Google-DKIM-Signature: v=1; a=rsa-sha256; c=relaxed/relaxed;
 d=1e100.net; s=20230601; t=1731718340; x=1732323140;
 h=references:in-reply-to:cc:to:from:subject:message-id:date
 :x-gm-message-state:from:to:cc:subject:date:message-id:reply-to;
 bh=XqQiqzkyAGThIa4oHu45BKyqeX0SOAYWYxRvm0RdRDI=;
 b=X6ciquV2jmK+DFTTqYipyet5ylXLDG4MwneqCqr18fWD2BvRq0PSBybTOxwPxOCEKS
 ZLkx4shuRefeIbdddlyHYTTz3Vk6mgWoa86u8W/w4fnja1LoxLHmF9RX9rs/c7X30eEL
 ONAkAMBZt9+blCtqLnJ8zPiXDJ13lxV/Wldr+0B+avhsQ6WwOgX/JYLcq9Bpvnz30aoE
 H/2+2iO27OK6o40/1ajpqyZTXRbrCipEREDRJRcJsEDzYi7E0WFdQ2dLIX3yPCTGHLWj
 zG2hJEmdHA9md7qrzLVjkORQOJoAg9szmoH5r6ita8jZxKtKDD0t4XOVlMAU1IWvly78
 ZcUg==
X-Gm-Message-State: AOJu0YwD7FbVOfsSAtV6AGnmaBzVF8icPIoxvxVcyikRKws0VeJInYF6
 02WW3G9xd+Ip/ywA+q6pcMAwthwamB+t6xoflTRlF9CZtBAR7m03Qph+bNydfJ7dFkCR5h1lH6X
 EPLM8IMuBZxK0ilGmV56k6jPqEmADUCBlSoUaMD2dCyObS1FrTn0Rl/KS
X-Google-Smtp-Source: AGHT+IEw2EwfCUHzCQZRR3ICPGGjZi7fxqR+YX8e3RR+oLTaf/DtakcuF61RhH1tNgdMsKqQmN7ojg91E00X
X-Received: by 2002:a05:6902:c0a:b0:e38:7b08:867d with SMTP id
 3f1490d57ef6-e387b0886c7mr1752823276.40.1731718338970; 
 Fri, 15 Nov 2024 16:52:18 -0800 (PST)
Received: from postal.iol.unh.edu (postal.iol.unh.edu.
 [2606:4100:3880:1234::84]) by smtp-relay.gmail.com with ESMTPS id
 3f1490d57ef6-e387e74ea05sm9732276.19.2024.11.15.16.52.18
 (version=TLS1_2 cipher=ECDHE-ECDSA-AES128-GCM-SHA256 bits=128/128);
 Fri, 15 Nov 2024 16:52:18 -0800 (PST)
X-Relaying-Domain: iol.unh.edu
Date: Fri, 15 Nov 2024 16:52:18 -0800 (PST)
Message-ID: <6737ecc2.250a0220.2bb3fd.0ad5SMTPIN_ADDED_MISSING@mx.google.com>
Received: from [172.21.0.9] (unknown [172.18.0.240])
 by postal.iol.unh.edu (Postfix) with ESMTP id 92DC46052471;
 Fri, 15 Nov 2024 19:52:18 -0500 (EST)
Subject: |SUCCESS| pw148532-148547 [PATCH] [16/16] net/dpaa2: fix bitmask tru
From: dpdklab@iol.unh.edu
To: Test Report <test-report@dpdk.org>
Cc: dpdk-test-reports@iol.unh.edu
In-Reply-To: <20241115060738.313190-17-stephen@networkplumber.org>
References: <20241115060738.313190-17-stephen@networkplumber.org>
Content-Type: text/plain
X-BeenThere: test-report@dpdk.org
X-Mailman-Version: 2.1.29
Precedence: list
List-Id: automatic DPDK test reports <test-report.dpdk.org>
List-Unsubscribe: <https://mails.dpdk.org/options/test-report>,
 <mailto:test-report-request@dpdk.org?subject=unsubscribe>
List-Archive: <http://mails.dpdk.org/archives/test-report/>
List-Post: <mailto:test-report@dpdk.org>
List-Help: <mailto:test-report-request@dpdk.org?subject=help>
List-Subscribe: <https://mails.dpdk.org/listinfo/test-report>,
 <mailto:test-report-request@dpdk.org?subject=subscribe>
Errors-To: test-report-bounces@dpdk.org

Test-Label: iol-unit-arm64-testing
Test-Status: SUCCESS
http://dpdk.org/patch/148547

_Testing PASS_

Submitter: Stephen Hemminger <stephen@networkplumber.org>
Date: Friday, November 15 2024 06:05:53 
DPDK git baseline: Repo:dpdk
  Branch: master
  CommitID:78383e9816a8efe2ba16ec2ce65d51b94e6114e7

148532-148547 --> testing pass

Upstream job id: Generic-Unit-Test-DPDK#292131

Test environment and result as below:

+-----------------------------+--------------+---------------------------+------------------------------+----------------+
|         Environment         | lpm_autotest | cryptodev_sw_zuc_autotest | cryptodev_sw_snow3g_autotest | dpdk_unit_test |
+=============================+==============+===========================+==============================+================+
| Ubuntu 20.04 ARM SVE        | PASS         | SKIPPED                   | SKIPPED                      | SKIPPED        |
+-----------------------------+--------------+---------------------------+------------------------------+----------------+
| Debian 12 (arm)             | SKIPPED      | PASS                      | PASS                         | PASS           |
+-----------------------------+--------------+---------------------------+------------------------------+----------------+
| CentOS Stream 9 (ARM)       | SKIPPED      | SKIPPED                   | SKIPPED                      | PASS           |
+-----------------------------+--------------+---------------------------+------------------------------+----------------+
| Fedora 39 (ARM)             | SKIPPED      | SKIPPED                   | SKIPPED                      | PASS           |
+-----------------------------+--------------+---------------------------+------------------------------+----------------+
| Fedora 39 (ARM Clang)       | SKIPPED      | SKIPPED                   | SKIPPED                      | PASS           |
+-----------------------------+--------------+---------------------------+------------------------------+----------------+
| Fedora 40 (ARM)             | SKIPPED      | SKIPPED                   | SKIPPED                      | PASS           |
+-----------------------------+--------------+---------------------------+------------------------------+----------------+
| Fedora 40 (ARM Clang)       | SKIPPED      | SKIPPED                   | SKIPPED                      | PASS           |
+-----------------------------+--------------+---------------------------+------------------------------+----------------+
| RHEL9 (ARM)                 | SKIPPED      | SKIPPED                   | SKIPPED                      | PASS           |
+-----------------------------+--------------+---------------------------+------------------------------+----------------+
| Ubuntu 20.04 (ARM)          | SKIPPED      | SKIPPED                   | SKIPPED                      | PASS           |
+-----------------------------+--------------+---------------------------+------------------------------+----------------+
| Ubuntu 22.04 (ARM)          | SKIPPED      | SKIPPED                   | SKIPPED                      | PASS           |
+-----------------------------+--------------+---------------------------+------------------------------+----------------+
| Ubuntu 24.04 (ARM)          | SKIPPED      | SKIPPED                   | SKIPPED                      | PASS           |
+-----------------------------+--------------+---------------------------+------------------------------+----------------+
| 32-bit Ubuntu 22.04.4 (ARM) | SKIPPED      | SKIPPED                   | SKIPPED                      | PASS           |
+-----------------------------+--------------+---------------------------+------------------------------+----------------+


Ubuntu 20.04 ARM SVE
	Kernel: Depends on container host
	Compiler: gcc (Ubuntu 10.5.0-1ubuntu1~20.04) 10.5.0

Debian 12 (arm)
	Kernel: Depends on container host
	Compiler: gcc (Debian 12.2.0-14) 12.2.0

CentOS Stream 9 (ARM)
	Kernel: Depends on container host
	Compiler: gcc 11.4.1 20231218 (Red Hat 11.4.1-3)

Fedora 39 (ARM)
	Kernel: Depends on container host
	Compiler: gcc 13.3.1 20240522 (Red Hat 13.3.1-1)

Fedora 39 (ARM Clang)
	Kernel: Depends on container host
	Compiler: clang 17.0.6 (Fedora 17.0.6-2.fc39)

Fedora 40 (ARM)
	Kernel: Depends on container host
	Compiler: gcc 14.2.1 20240801 (Red Hat 14.2.1-1)

Fedora 40 (ARM Clang)
	Kernel: Depends on container host
	Compiler: clang 18.1.6 (Fedora 18.1.6-3.fc40)

RHEL9 (ARM)
	Kernel: Depends on container host
	Compiler: gcc 11.4.1 20231218 (Red Hat 11.4.1-3)

Ubuntu 20.04 (ARM)
	Kernel: Depends on container host
	Compiler: gcc (Ubuntu 9.4.0-1ubuntu1~20.04.2) 9.4.0

Ubuntu 22.04 (ARM)
	Kernel: Depends on container host
	Compiler: gcc (Ubuntu 11.4.0-1ubuntu1~22.04) 11.4.0

Ubuntu 24.04 (ARM)
	Kernel: Depends on container host
	Compiler: gcc (Ubuntu 13.2.0-23ubuntu4) 13.2.0

32-bit Ubuntu 22.04.4 (ARM)
	Kernel: 5.15.83+ aarch64
	Compiler: gcc (Ubuntu 11.4.0-1ubuntu1~22.04) 11.4.0

To view detailed results, visit:
https://lab.dpdk.org/results/dashboard/patchsets/31944/

UNH-IOL DPDK Community Lab

To manage your email subscriptions, visit: 
https://lab.dpdk.org/results/dashboard/preferences/subscriptions/