From mboxrd@z Thu Jan  1 00:00:00 1970
Return-Path: <test-report-bounces@dpdk.org>
Received: from mails.dpdk.org (mails.dpdk.org [217.70.189.124])
	by inbox.dpdk.org (Postfix) with ESMTP id BB0FF45D1B
	for <public@inbox.dpdk.org>; Sat, 16 Nov 2024 06:40:39 +0100 (CET)
Received: from mails.dpdk.org (localhost [127.0.0.1])
	by mails.dpdk.org (Postfix) with ESMTP id B7CAF40269;
	Sat, 16 Nov 2024 06:40:39 +0100 (CET)
Received: from mail-il1-f225.google.com (mail-il1-f225.google.com
 [209.85.166.225])
 by mails.dpdk.org (Postfix) with ESMTP id CE3E840151
 for <test-report@dpdk.org>; Sat, 16 Nov 2024 06:40:38 +0100 (CET)
Received: by mail-il1-f225.google.com with SMTP id
 e9e14a558f8ab-3a758251b7bso145555ab.2
 for <test-report@dpdk.org>; Fri, 15 Nov 2024 21:40:38 -0800 (PST)
DKIM-Signature: v=1; a=rsa-sha256; c=relaxed/relaxed;
 d=iol.unh.edu; s=unh-iol; t=1731735638; x=1732340438; darn=dpdk.org;
 h=references:in-reply-to:cc:to:from:subject:message-id:date:from:to
 :cc:subject:date:message-id:reply-to;
 bh=4P3JxIiJIvMQjU/vkjgYgLEedGXJ/zimRmWWM37KnnY=;
 b=EwLKFylMh3Vp5ccpFNUzBuw0dOpxGuWc1+RB+CrPCQT0ux+uEbVDIaoEcZ/AnQFjhG
 1VyC6zPf3LvdWRdBHs0B+k6avssW3iRdNIlhHi15nGiVLNGb3OXTy/s8A8zbvIHyXinp
 cQlY8e6kzSF8DuuLtH9ab/PiVMtbX5NnR5ciQ=
X-Google-DKIM-Signature: v=1; a=rsa-sha256; c=relaxed/relaxed;
 d=1e100.net; s=20230601; t=1731735638; x=1732340438;
 h=references:in-reply-to:cc:to:from:subject:message-id:date
 :x-gm-message-state:from:to:cc:subject:date:message-id:reply-to;
 bh=4P3JxIiJIvMQjU/vkjgYgLEedGXJ/zimRmWWM37KnnY=;
 b=sSRPbxzw2ZTyboWEL7ir05gMEVdr5S7yovXAastlCqa21H6G0H1TKvW+lSsKoy86Mn
 zhg8B+W7cvktNeMZU3yQFcuBxdB+Lp4deHkmaFS+Zj7oHF34Qf2+2IxJC9I8SCxipQZ7
 glLZSNGKQ7ueLG0s9GeSHccYpjbyB9YEBSxSosRigOWwGo7or9iYoTUZTj3S3moG/xCO
 oqknFVJ1T4OWmxxFXDh0SAfA+vVUuUqdv4MjK9HXgX6jP8CacaMHVjcFYUgFOU3j1pte
 7tG+7PQaz57vvLId1CE6bPEHLdG6wsqsQ7fFiPNmpOomI3awh+i5U+jqFeWESlrhmfvN
 dCNQ==
X-Gm-Message-State: AOJu0YzyfwGmXCZg63WIWQEzwygze0lFdTld/ss6bwHPMUtEG7vTtnwJ
 1FQ3ZaTZRKhNh8s4cjCp79aoXQTNB74IFNw/oXlXGCRz5fzVD4YBOTCCoGjFOWA3tDrUKoksITB
 PZSZcAwu7IM9QK1Lc6kB/UF0ORVW/G1GT1UkFdbbrWGP0mcSBDztyahpq
X-Google-Smtp-Source: AGHT+IHf8V7+/sOl/muSx2VuNqm6u1gXQvGaLf8HxYmsP9rmtdCQ/wRHz5NQ7NjFqzRn4xpk4IjTP5SKKZuJ
X-Received: by 2002:a05:6e02:214f:b0:3a7:159d:2dd8 with SMTP id
 e9e14a558f8ab-3a74801389bmr49418445ab.7.1731735638182; 
 Fri, 15 Nov 2024 21:40:38 -0800 (PST)
Received: from postal.iol.unh.edu (postal.iol.unh.edu.
 [2606:4100:3880:1234::84]) by smtp-relay.gmail.com with ESMTPS id
 e9e14a558f8ab-3a751e50dd5sm199805ab.11.2024.11.15.21.40.38
 (version=TLS1_2 cipher=ECDHE-ECDSA-AES128-GCM-SHA256 bits=128/128);
 Fri, 15 Nov 2024 21:40:38 -0800 (PST)
X-Relaying-Domain: iol.unh.edu
Date: Fri, 15 Nov 2024 21:40:38 -0800 (PST)
Message-ID: <67383056.920a0220.d849a.1663SMTPIN_ADDED_MISSING@mx.google.com>
Received: from [172.21.0.6] (unknown [172.18.0.240])
 by postal.iol.unh.edu (Postfix) with ESMTP id 9BEA66052471;
 Sat, 16 Nov 2024 00:40:37 -0500 (EST)
Subject: |SUCCESS| pw148532-148547 [PATCH] [16/16] net/dpaa2: fix bitmask tru
From: dpdklab@iol.unh.edu
To: Test Report <test-report@dpdk.org>
Cc: dpdk-test-reports@iol.unh.edu
In-Reply-To: <20241115060738.313190-17-stephen@networkplumber.org>
References: <20241115060738.313190-17-stephen@networkplumber.org>
Content-Type: text/plain
X-BeenThere: test-report@dpdk.org
X-Mailman-Version: 2.1.29
Precedence: list
List-Id: automatic DPDK test reports <test-report.dpdk.org>
List-Unsubscribe: <https://mails.dpdk.org/options/test-report>,
 <mailto:test-report-request@dpdk.org?subject=unsubscribe>
List-Archive: <http://mails.dpdk.org/archives/test-report/>
List-Post: <mailto:test-report@dpdk.org>
List-Help: <mailto:test-report-request@dpdk.org?subject=help>
List-Subscribe: <https://mails.dpdk.org/listinfo/test-report>,
 <mailto:test-report-request@dpdk.org?subject=subscribe>
Errors-To: test-report-bounces@dpdk.org

Test-Label: iol-compile-arm64-testing
Test-Status: SUCCESS
http://dpdk.org/patch/148547

_Testing PASS_

Submitter: Stephen Hemminger <stephen@networkplumber.org>
Date: Friday, November 15 2024 06:05:53 
DPDK git baseline: Repo:dpdk
  Branch: master
  CommitID:78383e9816a8efe2ba16ec2ce65d51b94e6114e7

148532-148547 --> testing pass

Upstream job id: Generic-DPDK-Compile-Meson#334456

Test environment and result as below:

+----------------------------------------+--------------------+
|              Environment               | dpdk_meson_compile |
+========================================+====================+
| RHEL9 (ARM)                            | PASS               |
+----------------------------------------+--------------------+
| Debian 12 with MUSDK                   | PASS               |
+----------------------------------------+--------------------+
| Ubuntu 20.04 ARM GCC Cross Compile     | PASS               |
+----------------------------------------+--------------------+
| Ubuntu 20.04 ARM SVE                   | PASS               |
+----------------------------------------+--------------------+
| Ubuntu 24.04 (ARM)                     | PASS               |
+----------------------------------------+--------------------+
| Fedora 39 (ARM Clang)                  | PASS               |
+----------------------------------------+--------------------+
| Ubuntu 22.04 (ARM)                     | PASS               |
+----------------------------------------+--------------------+
| Fedora 40 (ARM)                        | PASS               |
+----------------------------------------+--------------------+
| Fedora 40 (ARM Clang)                  | PASS               |
+----------------------------------------+--------------------+
| Ubuntu 20.04 (ARM)                     | PASS               |
+----------------------------------------+--------------------+
| Fedora 39 (ARM)                        | PASS               |
+----------------------------------------+--------------------+
| CentOS Stream 9 (ARM)                  | PASS               |
+----------------------------------------+--------------------+
| Debian 12 (arm)                        | PASS               |
+----------------------------------------+--------------------+
| Ubuntu 20.04 ARM Clang Cross Compile   | PASS               |
+----------------------------------------+--------------------+
| Ubuntu 20.04 aarch32 GCC Cross Compile | PASS               |
+----------------------------------------+--------------------+


RHEL9 (ARM)
	Kernel: Depends on container host
	Compiler: gcc 11.4.1 20231218 (Red Hat 11.4.1-3)

Debian 12 with MUSDK
	Kernel: Depends on container host
	Compiler: gcc (Debian 12.2.0-14) 12.2.0

Ubuntu 20.04 ARM GCC Cross Compile
	Kernel: Depends on container host
	Compiler: aarch64-linux-gnu-gcc (Ubuntu 9.4.0-1ubuntu1~20.04.2) 9.4.0

Ubuntu 20.04 ARM SVE
	Kernel: Depends on container host
	Compiler: gcc (Ubuntu 10.5.0-1ubuntu1~20.04) 10.5.0

Ubuntu 24.04 (ARM)
	Kernel: Depends on container host
	Compiler: gcc (Ubuntu 13.2.0-23ubuntu4) 13.2.0

Fedora 39 (ARM Clang)
	Kernel: Depends on container host
	Compiler: clang 17.0.6 (Fedora 17.0.6-2.fc39)

Ubuntu 22.04 (ARM)
	Kernel: Depends on container host
	Compiler: gcc (Ubuntu 11.4.0-1ubuntu1~22.04) 11.4.0

Fedora 40 (ARM)
	Kernel: Depends on container host
	Compiler: gcc 14.2.1 20240801 (Red Hat 14.2.1-1)

Fedora 40 (ARM Clang)
	Kernel: Depends on container host
	Compiler: clang 18.1.6 (Fedora 18.1.6-3.fc40)

Ubuntu 20.04 (ARM)
	Kernel: Depends on container host
	Compiler: gcc (Ubuntu 9.4.0-1ubuntu1~20.04.2) 9.4.0

Fedora 39 (ARM)
	Kernel: Depends on container host
	Compiler: gcc 13.3.1 20240522 (Red Hat 13.3.1-1)

CentOS Stream 9 (ARM)
	Kernel: Depends on container host
	Compiler: gcc 11.4.1 20231218 (Red Hat 11.4.1-3)

Debian 12 (arm)
	Kernel: Depends on container host
	Compiler: gcc (Debian 12.2.0-14) 12.2.0

Ubuntu 20.04 ARM Clang Cross Compile
	Kernel: Depends on container host
	Compiler: clang 10.0.0-4ubuntu1

Ubuntu 20.04 aarch32 GCC Cross Compile
	Kernel: Depends on container host
	Compiler: gcc 9.4.0

To view detailed results, visit:
https://lab.dpdk.org/results/dashboard/patchsets/31944/

UNH-IOL DPDK Community Lab

To manage your email subscriptions, visit: 
https://lab.dpdk.org/results/dashboard/preferences/subscriptions/