From mboxrd@z Thu Jan  1 00:00:00 1970
Return-Path: <test-report-bounces@dpdk.org>
Received: from mails.dpdk.org (mails.dpdk.org [217.70.189.124])
	by inbox.dpdk.org (Postfix) with ESMTP id 8729445D1F
	for <public@inbox.dpdk.org>; Sat, 16 Nov 2024 11:50:47 +0100 (CET)
Received: from mails.dpdk.org (localhost [127.0.0.1])
	by mails.dpdk.org (Postfix) with ESMTP id 847EC402E3;
	Sat, 16 Nov 2024 11:50:47 +0100 (CET)
Received: from mail-oa1-f98.google.com (mail-oa1-f98.google.com
 [209.85.160.98]) by mails.dpdk.org (Postfix) with ESMTP id 77A71402AB
 for <test-report@dpdk.org>; Sat, 16 Nov 2024 11:50:46 +0100 (CET)
Received: by mail-oa1-f98.google.com with SMTP id
 586e51a60fabf-2958ddf99a7so2176544fac.2
 for <test-report@dpdk.org>; Sat, 16 Nov 2024 02:50:46 -0800 (PST)
DKIM-Signature: v=1; a=rsa-sha256; c=relaxed/relaxed;
 d=iol.unh.edu; s=unh-iol; t=1731754245; x=1732359045; darn=dpdk.org;
 h=cc:to:from:subject:message-id:date:from:to:cc:subject:date
 :message-id:reply-to;
 bh=3i6cDJeu0pNkm6oYI2xn6RLYj09NlKpjYjXYGcGSHZM=;
 b=MMDiUW/CkvswW7XolEQigYjtRDxSUVe12S+R54hCVSGe3JITJ1BgMrYy3pUQouFtsG
 Wq6B3KfzaoY8GxOMLaHTZpyXmV46egES7HQyS6+wS1TfCJ3TEs+io12ONcIP1wTa7lIf
 fUuxx2uIdyinXQHfNlwseRw56ZHqjOSm11azE=
X-Google-DKIM-Signature: v=1; a=rsa-sha256; c=relaxed/relaxed;
 d=1e100.net; s=20230601; t=1731754245; x=1732359045;
 h=cc:to:from:subject:message-id:date:x-gm-message-state:from:to:cc
 :subject:date:message-id:reply-to;
 bh=3i6cDJeu0pNkm6oYI2xn6RLYj09NlKpjYjXYGcGSHZM=;
 b=VUOHS8hU4ir8Xa2rKS/PQDV7NDP+gHeD/5zCnU2xvqv/7yp0pUr9vcrwKm4ucFBOc7
 L3LCu3SChZiEWY6vSKcO83BTnjqIMRXEamAsRkY0F8ziR5iR3L0ZGpNEf9HtyKnNDMIp
 oUTe08HDIiM/XBcE2eDBPfSTDHYOFn6rTICYK6HIlYlXYdOW6kFPVIRonSEvAxLUBTiN
 TF6HoXokWI91r7ijHS59w/xYaS2y8Dp+Z0NmV59G/d9W+RFhP9+xFpmHg0MASeKMny1K
 6K6QBcf5xDoDrIlUWvIL5N4GZfpu/BsmFpR9j7KF2IxPYksa1IlIXUdP3nsDYPn144Jb
 J8kQ==
X-Gm-Message-State: AOJu0YxgsCyoW8tR0tB6oqR/yIZuTE6x99Yr1ozZ0Z0cBM02InBEUPkX
 HYLH1ty9EXN+49zDmJbE2GQi3B30F2fvkUq6r5x1ixBVe65KLeTjmfCWxbAG53oXKOv4TBorGQR
 mUn+lqmx8GZjsNiXSbzdkQFlxH4eH2Vlk
X-Google-Smtp-Source: AGHT+IFPf8yUK95IEFyG4xikmYzMgXuDQ82CzerJn4XQaZZE6tFMa0gEVR4sTgPDNPe8x5L7W0ZgSW46lY5+
X-Received: by 2002:a05:6871:d20f:b0:261:17e7:59b3 with SMTP id
 586e51a60fabf-2962dc9fffamr4746272fac.3.1731754245651; 
 Sat, 16 Nov 2024 02:50:45 -0800 (PST)
Received: from postal.iol.unh.edu (postal.iol.unh.edu. [132.177.123.84])
 by smtp-relay.gmail.com with ESMTPS id
 586e51a60fabf-296518d485esm77047fac.12.2024.11.16.02.50.45
 (version=TLS1_2 cipher=ECDHE-ECDSA-AES128-GCM-SHA256 bits=128/128);
 Sat, 16 Nov 2024 02:50:45 -0800 (PST)
X-Relaying-Domain: iol.unh.edu
Date: Sat, 16 Nov 2024 02:50:45 -0800 (PST)
Message-ID: <67387905.050a0220.ce8fe.5283SMTPIN_ADDED_MISSING@mx.google.com>
Received: from [172.21.0.7] (unknown [172.18.0.240])
 by postal.iol.unh.edu (Postfix) with ESMTP id 1D5DE6052471;
 Sat, 16 Nov 2024 05:50:45 -0500 (EST)
Subject: |SUCCESS| [GIT MASTER] e8eb14e00d56027bef8569d68cf00e39670edca2
From: dpdklab@iol.unh.edu
To: Test Report <test-report@dpdk.org>
Cc: dpdk-test-reports@iol.unh.edu, Xueming Li <xuemingl@nvidia.com>,
 Christian Ehrhardt <christian.ehrhardt@canonical.com>,
 Kevin Traynor <ktraynor@redhat.com>, Luca Boccassi <bluca@debian.org>
Content-Type: text/plain
X-BeenThere: test-report@dpdk.org
X-Mailman-Version: 2.1.29
Precedence: list
List-Id: automatic DPDK test reports <test-report.dpdk.org>
List-Unsubscribe: <https://mails.dpdk.org/options/test-report>,
 <mailto:test-report-request@dpdk.org?subject=unsubscribe>
List-Archive: <http://mails.dpdk.org/archives/test-report/>
List-Post: <mailto:test-report@dpdk.org>
List-Help: <mailto:test-report-request@dpdk.org?subject=help>
List-Subscribe: <https://mails.dpdk.org/listinfo/test-report>,
 <mailto:test-report-request@dpdk.org?subject=subscribe>
Errors-To: test-report-bounces@dpdk.org

_Testing PASS_

Branch: tags/v23.11

e8eb14e00d56027bef8569d68cf00e39670edca2 --> testing pass

Upstream job id: Generic-DPDK-Compile-Meson#334752

Test environment and result as below:

+-------------------+--------------------+------------------+-------------------+
|    Environment    | dpdk_meson_compile | dpdk_compile_ovs | dpdk_compile_spdk |
+===================+====================+==================+===================+
| Debian 12         | PASS               | PASS             | PASS              |
+-------------------+--------------------+------------------+-------------------+
| Fedora 39 (Clang) | PASS               | PASS             | PASS              |
+-------------------+--------------------+------------------+-------------------+
| Fedora 40 (Clang) | PASS               | PASS             | PASS              |
+-------------------+--------------------+------------------+-------------------+
| Fedora 39         | PASS               | PASS             | PASS              |
+-------------------+--------------------+------------------+-------------------+
| RHEL9             | PASS               | PASS             | SKIPPED           |
+-------------------+--------------------+------------------+-------------------+
| openSUSE Leap 15  | PASS               | PASS             | SKIPPED           |
+-------------------+--------------------+------------------+-------------------+
| RHEL8             | PASS               | PASS             | SKIPPED           |
+-------------------+--------------------+------------------+-------------------+
| Ubuntu 22.04      | PASS               | PASS             | PASS              |
+-------------------+--------------------+------------------+-------------------+
| Alpine            | PASS               | PASS             | SKIPPED           |
+-------------------+--------------------+------------------+-------------------+
| FreeBSD 13.4      | PASS               | SKIPPED          | SKIPPED           |
+-------------------+--------------------+------------------+-------------------+
| FreeBSD 14.1      | PASS               | SKIPPED          | SKIPPED           |
+-------------------+--------------------+------------------+-------------------+


Debian 12
	Kernel: Depends on container host
	Compiler: gcc (Debian 12.2.0-14) 12.2.0

Fedora 39 (Clang)
	Kernel: Depends on container host
	Compiler: clang 17.0.6 (Fedora 17.0.6-2.fc39)

Fedora 40 (Clang)
	Kernel: Depends on container host
	Compiler: clang 18.1.6 (Fedora 18.1.6-3.fc40)

Fedora 39
	Kernel: Depends on container host
	Compiler: gcc 13.3.1 20240522 (Red Hat 13.3.1-1)

RHEL9
	Kernel: Depends on container host
	Compiler: gcc 11.4.1 20231218 (Red Hat 11.4.1-3)

openSUSE Leap 15
	Kernel: Depends on container host
	Compiler: gcc (SUSE Linux) 7.5.0

RHEL8
	Kernel: Depends on container host
	Compiler: gcc 8.5.0 20210514 (Red Hat 8.5.0-22)

Ubuntu 22.04
	Kernel: Depends on container host
	Compiler: gcc (Ubuntu 11.4.0-1ubuntu1~22.04) 11.4.0

Alpine
	Kernel: Depends on container host
	Compiler: gcc (Alpine 13.2.1_git20240309) 13.2.1 20240309

FreeBSD 13.4
	Kernel: 13.4-RELEASE-p1
	Compiler: clang 18.1.6

FreeBSD 14.1
	Kernel: 14.1-RELEASE-p3
	Compiler: clang 18.1.5

To view detailed results, visit:
https://lab.dpdk.org/results/dashboard/tarballs/31606/

UNH-IOL DPDK Community Lab

To manage your email subscriptions, visit: 
https://lab.dpdk.org/results/dashboard/preferences/subscriptions/