From mboxrd@z Thu Jan  1 00:00:00 1970
Return-Path: <test-report-bounces@dpdk.org>
Received: from mails.dpdk.org (mails.dpdk.org [217.70.189.124])
	by inbox.dpdk.org (Postfix) with ESMTP id 91AA445D23
	for <public@inbox.dpdk.org>; Sun, 17 Nov 2024 01:42:22 +0100 (CET)
Received: from mails.dpdk.org (localhost [127.0.0.1])
	by mails.dpdk.org (Postfix) with ESMTP id 87A3D402DA;
	Sun, 17 Nov 2024 01:42:22 +0100 (CET)
Received: from mail-oa1-f100.google.com (mail-oa1-f100.google.com
 [209.85.160.100])
 by mails.dpdk.org (Postfix) with ESMTP id A2203402BD
 for <test-report@dpdk.org>; Sun, 17 Nov 2024 01:42:20 +0100 (CET)
Received: by mail-oa1-f100.google.com with SMTP id
 586e51a60fabf-2884910c846so779258fac.0
 for <test-report@dpdk.org>; Sat, 16 Nov 2024 16:42:20 -0800 (PST)
DKIM-Signature: v=1; a=rsa-sha256; c=relaxed/relaxed;
 d=iol.unh.edu; s=unh-iol; t=1731804140; x=1732408940; darn=dpdk.org;
 h=references:in-reply-to:cc:to:from:subject:message-id:date:from:to
 :cc:subject:date:message-id:reply-to;
 bh=i/NuA9vd+ui89WCAg+3az1/VghpNDYjVUIe1iHOzomg=;
 b=Ie891Jj3rTHxcM376+A16IyIPVPSaQLiCe/xA8s6cbax0ltcvBOMwVMLEHjA1yOMML
 GoHDHEu84xIj3P7YQ+ttcDlHaXO6bK913VdJUD5O9Plh0s1UUuHNc3L6FcD+U3pIxZPT
 NNPTlgkZYntaa/7OHHAujoN/EktXtIXORPp9M=
X-Google-DKIM-Signature: v=1; a=rsa-sha256; c=relaxed/relaxed;
 d=1e100.net; s=20230601; t=1731804140; x=1732408940;
 h=references:in-reply-to:cc:to:from:subject:message-id:date
 :x-gm-message-state:from:to:cc:subject:date:message-id:reply-to;
 bh=i/NuA9vd+ui89WCAg+3az1/VghpNDYjVUIe1iHOzomg=;
 b=I/mffOjgaJTbPqP8Q5TUBJCHdvCj6fxRDkGzsbgF8CFEEsRLcDlqM72rqyCP2KfFiB
 UWQ9/qlJGLiSquvCwJaOT7ZIVDGB0CAJM09OPlh0vagb3eucnRKbXSRh96ALYUMtBxOx
 6r2EvzzBYu2sKr/I9jWjF5LKf7tZ7lJeRAE48yqQPio44KeBZ1BJxZGWL9oP0LDZG3QF
 3chuwZdRHd1f+8iAbscMxe2LHyziIqIzzlpbQcBUKbO0IdumK+6ZZmjdd9ykt6dVdrll
 7RhR0F6/j4a2K0HhDe12Vd2UZy5+Fb5BHPpdDdzi5z7sH1aRAIwM+m8PavZIOwPsbpqR
 aM+A==
X-Gm-Message-State: AOJu0YyEXz1ztHXJvqnk8+FlzujV9Z5c5/V/MRxZAKTf0gqPYnzv4mc1
 9qi6CQeeQDXlI4vglloDYNc9hY4hMO9s3UuEVca16WmnvRlXxowKLZ7vzu0gsJV4+mKYeQQNTzo
 CnBYCfzpSYKgZrckFe7xKYUWAJdnCLL+a/KQy7/qfQxbyZYbEmEob7iFv
X-Google-Smtp-Source: AGHT+IH/BGumJDlk5qpMgWRIrFAlZE+jF6ZumTeLb1m1UJuWmw3Q7NjKqvOoV1Lne5mxAUFeH/mnq1ZXxLsQ
X-Received: by 2002:a05:6871:8086:b0:287:32f7:ef42 with SMTP id
 586e51a60fabf-2962dfa145dmr5935124fac.16.1731804139924; 
 Sat, 16 Nov 2024 16:42:19 -0800 (PST)
Received: from postal.iol.unh.edu (postal.iol.unh.edu.
 [2606:4100:3880:1234::84]) by smtp-relay.gmail.com with ESMTPS id
 586e51a60fabf-29651ae115bsm122176fac.33.2024.11.16.16.42.19
 (version=TLS1_2 cipher=ECDHE-ECDSA-AES128-GCM-SHA256 bits=128/128);
 Sat, 16 Nov 2024 16:42:19 -0800 (PST)
X-Relaying-Domain: iol.unh.edu
Date: Sat, 16 Nov 2024 16:42:19 -0800 (PST)
Message-ID: <67393beb.050a0220.57328.855eSMTPIN_ADDED_MISSING@mx.google.com>
Received: from [172.17.0.2] (unknown [172.18.0.217])
 by postal.iol.unh.edu (Postfix) with ESMTP id 8AA546052471;
 Sat, 16 Nov 2024 19:42:19 -0500 (EST)
Subject: |WARNING| pw148564-148565 [PATCH] [2/2] net/bnxt: add support for Rx
From: dpdklab@iol.unh.edu
To: Test Report <test-report@dpdk.org>
Cc: dpdk-test-reports@iol.unh.edu
In-Reply-To: <20241116011249.48013-2-ajit.khaparde@broadcom.com>
References: <20241116011249.48013-2-ajit.khaparde@broadcom.com>
Content-Type: text/plain
X-BeenThere: test-report@dpdk.org
X-Mailman-Version: 2.1.29
Precedence: list
List-Id: automatic DPDK test reports <test-report.dpdk.org>
List-Unsubscribe: <https://mails.dpdk.org/options/test-report>,
 <mailto:test-report-request@dpdk.org?subject=unsubscribe>
List-Archive: <http://mails.dpdk.org/archives/test-report/>
List-Post: <mailto:test-report@dpdk.org>
List-Help: <mailto:test-report-request@dpdk.org?subject=help>
List-Subscribe: <https://mails.dpdk.org/listinfo/test-report>,
 <mailto:test-report-request@dpdk.org?subject=subscribe>
Errors-To: test-report-bounces@dpdk.org

Test-Label: iol-sample-apps-testing
Test-Status: WARNING
http://dpdk.org/patch/148565

_Testing issues_

Submitter: Ajit Khaparde <ajit.khaparde@broadcom.com>
Date: Saturday, November 16 2024 01:12:49 
DPDK git baseline: Repo:dpdk
  Branch: master
  CommitID:664c2350a92549c0754f1ead6514a3dc626d089a

148564-148565 --> testing issues

Upstream job id: ACVP-FIPS-testing#7999

Test environment and result as below:

+--------------------+----------------------+----------------------+
|    Environment     | compressdev_zlib_pmd | dpdk_fips_validation |
+====================+======================+======================+
| Ubuntu 22.04 (ARM) | PASS                 | SKIPPED              |
+--------------------+----------------------+----------------------+
| Ubuntu 22.04       | PASS                 | SKIPPED              |
+--------------------+----------------------+----------------------+
| Ubuntu 20.04       | SKIPPED              | WARN                 |
+--------------------+----------------------+----------------------+

==== 20 line log output for Ubuntu 20.04 (dpdk_fips_validation): ====
[3115/3133] Compiling C object examples/dpdk-fips_validation.p/fips_validation_fips_validation_gcm.c.o
[3116/3133] Compiling C object examples/dpdk-fips_validation.p/fips_validation_fips_validation_tdes.c.o
[3117/3133] Compiling C object examples/dpdk-fips_validation.p/fips_validation_fips_validation_ccm.c.o
[3118/3133] Compiling C object examples/dpdk-fips_validation.p/fips_validation_fips_validation_cmac.c.o
[3119/3133] Compiling C object examples/dpdk-fips_validation.p/fips_validation_fips_validation_sha.c.o
[3120/3133] Compiling C object examples/dpdk-fips_validation.p/fips_validation_fips_validation.c.o
[3121/3133] Compiling C object examples/dpdk-fips_validation.p/fips_validation_fips_validation_xts.c.o
[3122/3133] Compiling C object app/dpdk-test.p/test_test_table_combined.c.o
[3123/3133] Compiling C object examples/dpdk-fips_validation.p/fips_validation_fips_validation_ecdsa.c.o
[3124/3133] Compiling C object examples/dpdk-fips_validation.p/fips_validation_fips_validation_eddsa.c.o
[3125/3133] Compiling C object examples/dpdk-fips_validation.p/fips_validation_fips_validation_rsa.c.o
[3126/3133] Compiling C object examples/dpdk-fips_validation.p/fips_validation_fips_dev_self_test.c.o
[3127/3133] Compiling C object app/dpdk-test.p/test_virtual_pmd.c.o
[3128/3133] Compiling C object examples/dpdk-fips_validation.p/fips_validation_main.c.o
[3129/3133] Linking target examples/dpdk-fips_validation
[3130/3133] Compiling C object app/dpdk-test.p/test_test_trace_perf.c.o
[3131/3133] Compiling C object app/dpdk-test.p/test_test_ring_perf.c.o
[3132/3133] Compiling C object app/dpdk-test.p/test_test_ring.c.o
[3133/3133] Linking target app/dpdk-test
Processing file ../out/acvp-aes-cbc-vectors.json... Processing file ../out/cmac-aes-vectors.json... Processing file ../out/acvp-aes-gmac-vectors.json... Processing file ../out/hmac-sha-1-vectors.json... Processing file ../out/acvp-tdes-cbc-vectors.json... Processing file ../out/acvp-aes-ctr-vectors.json...
==== End log output ====

Ubuntu 22.04 (ARM)
	Kernel: 5.15.0-97-generic
	Compiler: gcc gcc (Ubuntu 11.4.0-1ubuntu1~22.04) 11.4.0

Ubuntu 22.04
	Kernel: 5.15.0-100-generic
	Compiler: gcc gcc (Ubuntu 11.4.0-1ubuntu1~22.04) 11.4.0

Ubuntu 20.04
	Kernel: Depends on container host
	Compiler: gcc (Ubuntu 9.4.0-1ubuntu1~20.04.2) 9.4.0

To view detailed results, visit:
https://lab.dpdk.org/results/dashboard/patchsets/31952/

UNH-IOL DPDK Community Lab

To manage your email subscriptions, visit: 
https://lab.dpdk.org/results/dashboard/preferences/subscriptions/