From mboxrd@z Thu Jan  1 00:00:00 1970
Return-Path: <test-report-bounces@dpdk.org>
Received: from mails.dpdk.org (mails.dpdk.org [217.70.189.124])
	by inbox.dpdk.org (Postfix) with ESMTP id 06B7245D39
	for <public@inbox.dpdk.org>; Tue, 19 Nov 2024 01:31:43 +0100 (CET)
Received: from mails.dpdk.org (localhost [127.0.0.1])
	by mails.dpdk.org (Postfix) with ESMTP id 00A7740674;
	Tue, 19 Nov 2024 01:31:43 +0100 (CET)
Received: from mail-il1-f227.google.com (mail-il1-f227.google.com
 [209.85.166.227])
 by mails.dpdk.org (Postfix) with ESMTP id 1E49E4042C
 for <test-report@dpdk.org>; Tue, 19 Nov 2024 01:31:42 +0100 (CET)
Received: by mail-il1-f227.google.com with SMTP id
 e9e14a558f8ab-3a7222089aaso12634665ab.1
 for <test-report@dpdk.org>; Mon, 18 Nov 2024 16:31:42 -0800 (PST)
DKIM-Signature: v=1; a=rsa-sha256; c=relaxed/relaxed;
 d=iol.unh.edu; s=unh-iol; t=1731976301; x=1732581101; darn=dpdk.org;
 h=references:in-reply-to:cc:to:from:subject:message-id:date:from:to
 :cc:subject:date:message-id:reply-to;
 bh=/lECTxa83C8/ZigL3+LNFbdPWG9FK1BY+pntLGWDmLo=;
 b=azRVplK4S/OsVXlFXQh5BfXCFGMrq4vsgLKPt3flfwjB0FReY6UoTwEFvzOfuU3r4S
 EKjA/N1c0efVVxC5yCLpnVgOxy1hREHx472eOZaW5QuOMzxhGUwUBVJKpn00zUVJi5ZO
 UpJgJWZRLciqvKLQ69C4OiKJ9yD7iVhrEafHM=
X-Google-DKIM-Signature: v=1; a=rsa-sha256; c=relaxed/relaxed;
 d=1e100.net; s=20230601; t=1731976301; x=1732581101;
 h=references:in-reply-to:cc:to:from:subject:message-id:date
 :x-gm-message-state:from:to:cc:subject:date:message-id:reply-to;
 bh=/lECTxa83C8/ZigL3+LNFbdPWG9FK1BY+pntLGWDmLo=;
 b=m7BViOGjW/Hyv1RM7huFJ9RWkddFlg9lGJPrPGOvZSKG++BZC1YhQ1R+dakYlQRfFZ
 h7YMdOwy7mnnpu8XvLZS6vvcAe3cjlIV3wQrFecGZNUTYl98LQl51RP9auEjo/8YOxvy
 fMz9BMNx3+M9SMT+DPIII6IIUQOWYVC4tknFSy07NUeEb8kMisWKHELauqwdU7DZeVce
 IZ/1zyWcJCjyZXEU8Nki03NgmQ8n10574WLz3wdJMcHymM77QWLadqiwblk4tFG9eIdk
 RxKGktMynNys9mss6T2CvLAx/lRWxSDXLGuL4hJo044kRSXMWgeCpidRHEgvaGbKPFcY
 T/QQ==
X-Gm-Message-State: AOJu0Yy0dteoonKbfHkWgJ1Ng3z9BwMVccCRolDcr0VggpLruww4oY17
 m5d8S4YsNEbNndQ9Uz97Xnfojwznh2MpzTKAJn9gDqAsKFMXava3LDVSiN42xg7BvO6+Os5vhSN
 7WlVH4MjWI/X/EF3k4qXNjDZ/YICDfaF198nAZG4F
X-Google-Smtp-Source: AGHT+IFf5sVJ/2p9Yxx4+8wNAEsfEgNVFEftSB1QyejQGthaN0loOymflw1N5m0T0DOXB05/UC9Rg5/xifLa
X-Received: by 2002:a92:c107:0:b0:3a7:6639:b1db with SMTP id
 e9e14a558f8ab-3a7773c92a7mr12325595ab.4.1731976301415; 
 Mon, 18 Nov 2024 16:31:41 -0800 (PST)
Received: from postal.iol.unh.edu (postal.iol.unh.edu. [132.177.123.84])
 by smtp-relay.gmail.com with ESMTPS id
 8926c6da1cb9f-4e0756c7693sm391710173.74.2024.11.18.16.31.41
 (version=TLS1_2 cipher=ECDHE-ECDSA-AES128-GCM-SHA256 bits=128/128);
 Mon, 18 Nov 2024 16:31:41 -0800 (PST)
X-Relaying-Domain: iol.unh.edu
Date: Mon, 18 Nov 2024 16:31:41 -0800 (PST)
Message-ID: <673bdc6d.050a0220.3d8cde.632eSMTPIN_ADDED_MISSING@mx.google.com>
Received: from [172.17.0.2] (unknown [172.18.0.217])
 by postal.iol.unh.edu (Postfix) with ESMTP id F2B2B6052471;
 Mon, 18 Nov 2024 19:31:40 -0500 (EST)
Subject: |SUCCESS| pw148612-148613 [PATCH] [v3,2/2] net/bnxt: add support for
From: dpdklab@iol.unh.edu
To: Test Report <test-report@dpdk.org>
Cc: dpdk-test-reports@iol.unh.edu
In-Reply-To: <20241118211312.6181-3-ajit.khaparde@broadcom.com>
References: <20241118211312.6181-3-ajit.khaparde@broadcom.com>
Content-Type: text/plain
X-BeenThere: test-report@dpdk.org
X-Mailman-Version: 2.1.29
Precedence: list
List-Id: automatic DPDK test reports <test-report.dpdk.org>
List-Unsubscribe: <https://mails.dpdk.org/options/test-report>,
 <mailto:test-report-request@dpdk.org?subject=unsubscribe>
List-Archive: <http://mails.dpdk.org/archives/test-report/>
List-Post: <mailto:test-report@dpdk.org>
List-Help: <mailto:test-report-request@dpdk.org?subject=help>
List-Subscribe: <https://mails.dpdk.org/listinfo/test-report>,
 <mailto:test-report-request@dpdk.org?subject=subscribe>
Errors-To: test-report-bounces@dpdk.org

Test-Label: iol-unit-amd64-testing
Test-Status: SUCCESS
http://dpdk.org/patch/148613

_Testing PASS_

Submitter: Ajit Khaparde <ajit.khaparde@broadcom.com>
Date: Monday, November 18 2024 21:13:12 
DPDK git baseline: Repo:dpdk
  Branch: master
  CommitID:07e3bebf3c93750c52ed9be87edd212fbc22da0a

148612-148613 --> testing pass

Upstream job id: Generic-VM-Unit-Test-DPDK#26303

Test environment and result as below:

+---------------------+----------------+
|     Environment     | dpdk_unit_test |
+=====================+================+
| CentOS Stream 9     | PASS           |
+---------------------+----------------+
| Debian 12           | PASS           |
+---------------------+----------------+
| Fedora 39           | PASS           |
+---------------------+----------------+
| Fedora 39 (Clang)   | PASS           |
+---------------------+----------------+
| Fedora 40           | PASS           |
+---------------------+----------------+
| Fedora 40 (Clang)   | PASS           |
+---------------------+----------------+
| Ubuntu 20.04        | PASS           |
+---------------------+----------------+
| RHEL8               | PASS           |
+---------------------+----------------+
| Ubuntu 22.04        | PASS           |
+---------------------+----------------+
| RHEL9               | PASS           |
+---------------------+----------------+
| Ubuntu 24.04        | PASS           |
+---------------------+----------------+
| Windows Server 2022 | PASS           |
+---------------------+----------------+


CentOS Stream 9
	Kernel: Depends on container host
	Compiler: gcc 11.4.1 20231218 (Red Hat 11.4.1-3)

Debian 12
	Kernel: Depends on container host
	Compiler: gcc (Debian 12.2.0-14) 12.2.0

Fedora 39
	Kernel: Depends on container host
	Compiler: gcc 13.3.1 20240522 (Red Hat 13.3.1-1)

Fedora 39 (Clang)
	Kernel: Depends on container host
	Compiler: clang 17.0.6 (Fedora 17.0.6-2.fc39)

Fedora 40
	Kernel: Depends on container host
	Compiler: gcc 14.2.1 20240801 (Red Hat 14.2.1-1)

Fedora 40 (Clang)
	Kernel: Depends on container host
	Compiler: clang 18.1.6 (Fedora 18.1.6-3.fc40)

Ubuntu 20.04
	Kernel: Depends on container host
	Compiler: gcc (Ubuntu 9.4.0-1ubuntu1~20.04.2) 9.4.0

RHEL8
	Kernel: Depends on container host
	Compiler: gcc 8.5.0 20210514 (Red Hat 8.5.0-22)

Ubuntu 22.04
	Kernel: Depends on container host
	Compiler: gcc (Ubuntu 11.4.0-1ubuntu1~22.04) 11.4.0

RHEL9
	Kernel: Depends on container host
	Compiler: gcc 11.4.1 20231218 (Red Hat 11.4.1-3)

Ubuntu 24.04
	Kernel: Depends on container host
	Compiler: gcc (Ubuntu 13.2.0-23ubuntu4) 13.2.0

Windows Server 2022
	Kernel: 10.0.20348.2031
	Compiler: clang 15.0.7, gcc 14.1.0 (MinGW), and MSVC VS 19.39.33521

To view detailed results, visit:
https://lab.dpdk.org/results/dashboard/patchsets/31968/

UNH-IOL DPDK Community Lab

To manage your email subscriptions, visit: 
https://lab.dpdk.org/results/dashboard/preferences/subscriptions/