From mboxrd@z Thu Jan  1 00:00:00 1970
Return-Path: <test-report-bounces@dpdk.org>
Received: from mails.dpdk.org (mails.dpdk.org [217.70.189.124])
	by inbox.dpdk.org (Postfix) with ESMTP id 0BD9045D3A
	for <public@inbox.dpdk.org>; Tue, 19 Nov 2024 02:14:50 +0100 (CET)
Received: from mails.dpdk.org (localhost [127.0.0.1])
	by mails.dpdk.org (Postfix) with ESMTP id 148064042C;
	Tue, 19 Nov 2024 02:14:49 +0100 (CET)
Received: from mail-pl1-f228.google.com (mail-pl1-f228.google.com
 [209.85.214.228])
 by mails.dpdk.org (Postfix) with ESMTP id EAB99402BC
 for <test-report@dpdk.org>; Tue, 19 Nov 2024 02:14:47 +0100 (CET)
Received: by mail-pl1-f228.google.com with SMTP id
 d9443c01a7336-2120f9ec28eso12734405ad.1
 for <test-report@dpdk.org>; Mon, 18 Nov 2024 17:14:47 -0800 (PST)
DKIM-Signature: v=1; a=rsa-sha256; c=relaxed/relaxed;
 d=iol.unh.edu; s=unh-iol; t=1731978887; x=1732583687; darn=dpdk.org;
 h=references:in-reply-to:cc:to:from:subject:message-id:date:from:to
 :cc:subject:date:message-id:reply-to;
 bh=K6eTIiBQCwBnKaT5ZV7KwH5AMjw3rMzP+l/WRG3EaPI=;
 b=MI24ToR9bRXHTHaj40pNwBSy+RQCaLGK76hiTTiM0VEQTvuLAh1y3GPul9F0S8TAxh
 GLvg3Bm8S27gEF2iB/armvyYV5sT9HdtaFEriKIjQexjsrnsE2MH2cIgTUzgasBchcMD
 fwrve2PhUPr/JF+jGhifeQCTb58NuLqmOXrjQ=
X-Google-DKIM-Signature: v=1; a=rsa-sha256; c=relaxed/relaxed;
 d=1e100.net; s=20230601; t=1731978887; x=1732583687;
 h=references:in-reply-to:cc:to:from:subject:message-id:date
 :x-gm-message-state:from:to:cc:subject:date:message-id:reply-to;
 bh=K6eTIiBQCwBnKaT5ZV7KwH5AMjw3rMzP+l/WRG3EaPI=;
 b=w6xm7UCsR12+pf4z7C0axdswTd/dPdE8LQyB4/9mVVTAtG9TB9PvCb5Beckjf73pLj
 RNN+Wv0L5mVDVE6G40+EhCedNc6XPSLgDI0l1EUFaYVzVYmP5bM2KxcshA377r/3a/7i
 ru8piVTrAKZmESHVGiGfD2px990dGs4Sf5L/TuwVSWtFzcv4MnHL620AcNdhDsrrAgRQ
 4x2YWTdnZTwdVXcI+XOjIRCHxpG2tqTjxfGUbNskccvLbpCxoRW3VsxGJUzXxf55dgVe
 oMCLMRkWxN/bPHkkr2rOGbce4Bj3WrZyoUnfsQAIvVpRkEL9ejZ5ksVe4xLa7FI7k5js
 eAyA==
X-Gm-Message-State: AOJu0YzdRGltbzIRb6ogme8D8Nwx2kV/na6HPaSsjE/B1pF3Gv382feb
 LhJ5Onk/JlP8mEj5HnxeMN+NkhRv4t7l0iz0OyCdDyacncaAWkBldo+X1aJSQTRMltiRgse/1wW
 bs25Z5i3rIE0yJAmmYNDX41u/1LTta1opK8zNzzVmGd6R9h2Ly5gqytwo
X-Google-Smtp-Source: AGHT+IFuuT0+p7auPj2gEj2BwVIUs5yePtQ+98eu67+elOVJJkl9etNQRATHRqcpSc6HWW/mdC3W27QoCO7l
X-Received: by 2002:a17:902:ea0c:b0:20c:a04a:1e22 with SMTP id
 d9443c01a7336-2124e8d02f0mr17560925ad.5.1731978887071; 
 Mon, 18 Nov 2024 17:14:47 -0800 (PST)
Received: from postal.iol.unh.edu (postal.iol.unh.edu.
 [2606:4100:3880:1234::84]) by smtp-relay.gmail.com with ESMTPS id
 d9443c01a7336-211d0ecc43fsm4041005ad.30.2024.11.18.17.14.46
 (version=TLS1_2 cipher=ECDHE-ECDSA-AES128-GCM-SHA256 bits=128/128);
 Mon, 18 Nov 2024 17:14:47 -0800 (PST)
X-Relaying-Domain: iol.unh.edu
Date: Mon, 18 Nov 2024 17:14:47 -0800 (PST)
Message-ID: <673be687.170a0220.2967bc.666fSMTPIN_ADDED_MISSING@mx.google.com>
Received: from [172.17.0.3] (unknown [172.18.0.217])
 by postal.iol.unh.edu (Postfix) with ESMTP id AB3126052471;
 Mon, 18 Nov 2024 20:14:45 -0500 (EST)
Subject: |SUCCESS| pw148591-148590 [PATCH] [v3,2/2] app/testpmd: fix aged flo
From: dpdklab@iol.unh.edu
To: Test Report <test-report@dpdk.org>
Cc: dpdk-test-reports@iol.unh.edu
In-Reply-To: <20241118180323.2046886-3-dvo-plv@napatech.com>
References: <20241118180323.2046886-3-dvo-plv@napatech.com>
Content-Type: text/plain
X-BeenThere: test-report@dpdk.org
X-Mailman-Version: 2.1.29
Precedence: list
List-Id: automatic DPDK test reports <test-report.dpdk.org>
List-Unsubscribe: <https://mails.dpdk.org/options/test-report>,
 <mailto:test-report-request@dpdk.org?subject=unsubscribe>
List-Archive: <http://mails.dpdk.org/archives/test-report/>
List-Post: <mailto:test-report@dpdk.org>
List-Help: <mailto:test-report-request@dpdk.org?subject=help>
List-Subscribe: <https://mails.dpdk.org/listinfo/test-report>,
 <mailto:test-report-request@dpdk.org?subject=subscribe>
Errors-To: test-report-bounces@dpdk.org

Test-Label: iol-compile-arm64-testing
Test-Status: SUCCESS
http://dpdk.org/patch/148590

_Testing PASS_

Submitter: Danylo Vodopianov <dvo-plv@napatech.com>
Date: Monday, November 18 2024 18:03:23 
DPDK git baseline: Repo:dpdk
  Branch: master
  CommitID:f275665c45d5f1bf84fe04de39f936af049ba991

148591-148590 --> testing pass

Upstream job id: Generic-DPDK-Compile-Meson#335343

Test environment and result as below:

+----------------------------------------+--------------------+
|              Environment               | dpdk_meson_compile |
+========================================+====================+
| RHEL9 (ARM)                            | PASS               |
+----------------------------------------+--------------------+
| Fedora 39 (ARM)                        | PASS               |
+----------------------------------------+--------------------+
| Debian 12 with MUSDK                   | PASS               |
+----------------------------------------+--------------------+
| Ubuntu 20.04 ARM SVE                   | PASS               |
+----------------------------------------+--------------------+
| Ubuntu 20.04 ARM GCC Cross Compile     | PASS               |
+----------------------------------------+--------------------+
| Fedora 40 (ARM Clang)                  | PASS               |
+----------------------------------------+--------------------+
| Fedora 40 (ARM)                        | PASS               |
+----------------------------------------+--------------------+
| Fedora 39 (ARM Clang)                  | PASS               |
+----------------------------------------+--------------------+
| Ubuntu 22.04 (ARM)                     | PASS               |
+----------------------------------------+--------------------+
| Ubuntu 20.04 (ARM)                     | PASS               |
+----------------------------------------+--------------------+
| Ubuntu 24.04 (ARM)                     | PASS               |
+----------------------------------------+--------------------+
| CentOS Stream 9 (ARM)                  | PASS               |
+----------------------------------------+--------------------+
| Debian 12 (arm)                        | PASS               |
+----------------------------------------+--------------------+
| Ubuntu 20.04 aarch32 GCC Cross Compile | PASS               |
+----------------------------------------+--------------------+
| Ubuntu 20.04 ARM Clang Cross Compile   | PASS               |
+----------------------------------------+--------------------+


RHEL9 (ARM)
	Kernel: Depends on container host
	Compiler: gcc 11.4.1 20231218 (Red Hat 11.4.1-3)

Fedora 39 (ARM)
	Kernel: Depends on container host
	Compiler: gcc 13.3.1 20240522 (Red Hat 13.3.1-1)

Debian 12 with MUSDK
	Kernel: Depends on container host
	Compiler: gcc (Debian 12.2.0-14) 12.2.0

Ubuntu 20.04 ARM SVE
	Kernel: Depends on container host
	Compiler: gcc (Ubuntu 10.5.0-1ubuntu1~20.04) 10.5.0

Ubuntu 20.04 ARM GCC Cross Compile
	Kernel: Depends on container host
	Compiler: aarch64-linux-gnu-gcc (Ubuntu 9.4.0-1ubuntu1~20.04.2) 9.4.0

Fedora 40 (ARM Clang)
	Kernel: Depends on container host
	Compiler: clang 18.1.6 (Fedora 18.1.6-3.fc40)

Fedora 40 (ARM)
	Kernel: Depends on container host
	Compiler: gcc 14.2.1 20240801 (Red Hat 14.2.1-1)

Fedora 39 (ARM Clang)
	Kernel: Depends on container host
	Compiler: clang 17.0.6 (Fedora 17.0.6-2.fc39)

Ubuntu 22.04 (ARM)
	Kernel: Depends on container host
	Compiler: gcc (Ubuntu 11.4.0-1ubuntu1~22.04) 11.4.0

Ubuntu 20.04 (ARM)
	Kernel: Depends on container host
	Compiler: gcc (Ubuntu 9.4.0-1ubuntu1~20.04.2) 9.4.0

Ubuntu 24.04 (ARM)
	Kernel: Depends on container host
	Compiler: gcc (Ubuntu 13.2.0-23ubuntu4) 13.2.0

CentOS Stream 9 (ARM)
	Kernel: Depends on container host
	Compiler: gcc 11.4.1 20231218 (Red Hat 11.4.1-3)

Debian 12 (arm)
	Kernel: Depends on container host
	Compiler: gcc (Debian 12.2.0-14) 12.2.0

Ubuntu 20.04 aarch32 GCC Cross Compile
	Kernel: Depends on container host
	Compiler: gcc 9.4.0

Ubuntu 20.04 ARM Clang Cross Compile
	Kernel: Depends on container host
	Compiler: clang 10.0.0-4ubuntu1

To view detailed results, visit:
https://lab.dpdk.org/results/dashboard/patchsets/31965/

UNH-IOL DPDK Community Lab

To manage your email subscriptions, visit: 
https://lab.dpdk.org/results/dashboard/preferences/subscriptions/