From mboxrd@z Thu Jan  1 00:00:00 1970
Return-Path: <test-report-bounces@dpdk.org>
Received: from mails.dpdk.org (mails.dpdk.org [217.70.189.124])
	by inbox.dpdk.org (Postfix) with ESMTP id 77F0945D3A
	for <public@inbox.dpdk.org>; Tue, 19 Nov 2024 02:15:47 +0100 (CET)
Received: from mails.dpdk.org (localhost [127.0.0.1])
	by mails.dpdk.org (Postfix) with ESMTP id 70A224042C;
	Tue, 19 Nov 2024 02:15:47 +0100 (CET)
Received: from mail-pl1-f227.google.com (mail-pl1-f227.google.com
 [209.85.214.227])
 by mails.dpdk.org (Postfix) with ESMTP id 0125F402BC
 for <test-report@dpdk.org>; Tue, 19 Nov 2024 02:15:45 +0100 (CET)
Received: by mail-pl1-f227.google.com with SMTP id
 d9443c01a7336-212348d391cso13067105ad.2
 for <test-report@dpdk.org>; Mon, 18 Nov 2024 17:15:45 -0800 (PST)
DKIM-Signature: v=1; a=rsa-sha256; c=relaxed/relaxed;
 d=iol.unh.edu; s=unh-iol; t=1731978945; x=1732583745; darn=dpdk.org;
 h=references:in-reply-to:cc:to:from:subject:message-id:date:from:to
 :cc:subject:date:message-id:reply-to;
 bh=eX4HaH/Xnlo+xeWrSgyMkUHywhse/5ytbL7bUVwfq8A=;
 b=HE5lmeWkBXYa+EtmLAqFIAsIVtAA0iPy4RITWT4UPnx9r028XEf8dwm5FrAeUopDTI
 UYQy/EWFFM77qT0lmGXPH1rD634Eylgv/WfkNhFIuErhem73wfzTpZLsSFY91MJ/0uv2
 ZOIpXfqf5o8eZ3UPb5/kec1ykco1bsNmZ+I+k=
X-Google-DKIM-Signature: v=1; a=rsa-sha256; c=relaxed/relaxed;
 d=1e100.net; s=20230601; t=1731978945; x=1732583745;
 h=references:in-reply-to:cc:to:from:subject:message-id:date
 :x-gm-message-state:from:to:cc:subject:date:message-id:reply-to;
 bh=eX4HaH/Xnlo+xeWrSgyMkUHywhse/5ytbL7bUVwfq8A=;
 b=G6h0pLnCdRZbZTpPddURpB1/Smxtk+XH8x1kIhcw+pbKWjimcOe5U4TZiYMGgGu+Xk
 eqseb8EUIyOMz2x8vd/AtAzCd7MwXwJp/ol579bMNa1yJT00Eh2U9S1VYa87ry2meM/Z
 3RXAZOKJlS8KFwMBKeMzsyHwFW+Y97SxiMIq/WEXbGweYYHnHpi9IYT5r4O/Uzuuhcnv
 61oxlxJxj1nqqDOn/nwBQUBd/cGbOrwzM9SyWBuAKwOjTXM9RF9RD5M+PFHO811hmr5J
 x/wB5HrdCdJeeypk+oEb/+0sNSZcL5zrmwJ0DhXFf2MzG81URBllJTL02FQNcMjYqep8
 OZkg==
X-Gm-Message-State: AOJu0YyR0cYEArQ8rwgz6eZkBkpcKXbSEZMIHtC+UuNA3HQotvzytnss
 rrtMZ0kuL9OZp8aXHyipWLltg7Qxp+suXnnefcetkFd0fPAEwgccG9MvKBbui/KI+UG04wolcwl
 uEtugyXbrLm+HaJ5RFszDhOvPFRLNdMSZKhvlwkxw
X-Google-Smtp-Source: AGHT+IGta7HYbqV76kC0eD+DNLtV9TzY5N+pirm6VJHaeAuFw+jXaFPZZom7lCyXkUCSfrHSPDfirWdKtDvN
X-Received: by 2002:a17:902:d4c7:b0:212:10de:4aba with SMTP id
 d9443c01a7336-21210de4d78mr93530695ad.28.1731978945232; 
 Mon, 18 Nov 2024 17:15:45 -0800 (PST)
Received: from postal.iol.unh.edu (postal.iol.unh.edu. [132.177.123.84])
 by smtp-relay.gmail.com with ESMTPS id
 d9443c01a7336-2120ac1c1fesm1837525ad.104.2024.11.18.17.15.45
 (version=TLS1_2 cipher=ECDHE-ECDSA-AES128-GCM-SHA256 bits=128/128);
 Mon, 18 Nov 2024 17:15:45 -0800 (PST)
X-Relaying-Domain: iol.unh.edu
Date: Mon, 18 Nov 2024 17:15:45 -0800 (PST)
Message-ID: <673be6c1.170a0220.1e9d2e.cde1SMTPIN_ADDED_MISSING@mx.google.com>
Received: from [172.17.0.2] (unknown [172.18.0.217])
 by postal.iol.unh.edu (Postfix) with ESMTP id 4B8AA6052471;
 Mon, 18 Nov 2024 20:15:44 -0500 (EST)
Subject: |SUCCESS| pw148581 [PATCH] [v2] doc: add security document
From: dpdklab@iol.unh.edu
To: Test Report <test-report@dpdk.org>
Cc: dpdk-test-reports@iol.unh.edu
In-Reply-To: <20241118171325.10871-1-nandinipersad361@gmail.com>
References: <20241118171325.10871-1-nandinipersad361@gmail.com>
Content-Type: text/plain
X-BeenThere: test-report@dpdk.org
X-Mailman-Version: 2.1.29
Precedence: list
List-Id: automatic DPDK test reports <test-report.dpdk.org>
List-Unsubscribe: <https://mails.dpdk.org/options/test-report>,
 <mailto:test-report-request@dpdk.org?subject=unsubscribe>
List-Archive: <http://mails.dpdk.org/archives/test-report/>
List-Post: <mailto:test-report@dpdk.org>
List-Help: <mailto:test-report-request@dpdk.org?subject=help>
List-Subscribe: <https://mails.dpdk.org/listinfo/test-report>,
 <mailto:test-report-request@dpdk.org?subject=subscribe>
Errors-To: test-report-bounces@dpdk.org

Test-Label: iol-sample-apps-testing
Test-Status: SUCCESS
http://dpdk.org/patch/148581

_Testing PASS_

Submitter: Nandini Persad <nandinipersad361@gmail.com>
Date: Monday, November 18 2024 17:13:26 
DPDK git baseline: Repo:dpdk
  Branch: master
  CommitID:68508c18a91064ced34c664697ce0c6e25b5f787

148581 --> testing pass

Upstream job id: ACVP-FIPS-testing#8019

Test environment and result as below:

+--------------------+----------------------+----------------------+
|    Environment     | compressdev_zlib_pmd | dpdk_fips_validation |
+====================+======================+======================+
| Ubuntu 22.04 (ARM) | PASS                 | SKIPPED              |
+--------------------+----------------------+----------------------+
| Ubuntu 22.04       | PASS                 | SKIPPED              |
+--------------------+----------------------+----------------------+
| Ubuntu 20.04       | SKIPPED              | PASS                 |
+--------------------+----------------------+----------------------+


Ubuntu 22.04 (ARM)
	Kernel: 5.15.0-97-generic
	Compiler: gcc gcc (Ubuntu 11.4.0-1ubuntu1~22.04) 11.4.0

Ubuntu 22.04
	Kernel: 5.15.0-100-generic
	Compiler: gcc gcc (Ubuntu 11.4.0-1ubuntu1~22.04) 11.4.0

Ubuntu 20.04
	Kernel: Depends on container host
	Compiler: gcc (Ubuntu 9.4.0-1ubuntu1~20.04.2) 9.4.0

To view detailed results, visit:
https://lab.dpdk.org/results/dashboard/patchsets/31961/

UNH-IOL DPDK Community Lab

To manage your email subscriptions, visit: 
https://lab.dpdk.org/results/dashboard/preferences/subscriptions/