From mboxrd@z Thu Jan  1 00:00:00 1970
Return-Path: <test-report-bounces@dpdk.org>
Received: from mails.dpdk.org (mails.dpdk.org [217.70.189.124])
	by inbox.dpdk.org (Postfix) with ESMTP id D0B9845D3A
	for <public@inbox.dpdk.org>; Tue, 19 Nov 2024 02:59:46 +0100 (CET)
Received: from mails.dpdk.org (localhost [127.0.0.1])
	by mails.dpdk.org (Postfix) with ESMTP id AC680402BC;
	Tue, 19 Nov 2024 02:59:46 +0100 (CET)
Received: from mail-yb1-f228.google.com (mail-yb1-f228.google.com
 [209.85.219.228])
 by mails.dpdk.org (Postfix) with ESMTP id E568A4025F
 for <test-report@dpdk.org>; Tue, 19 Nov 2024 02:59:44 +0100 (CET)
Received: by mail-yb1-f228.google.com with SMTP id
 3f1490d57ef6-e0875f1e9edso363274276.1
 for <test-report@dpdk.org>; Mon, 18 Nov 2024 17:59:44 -0800 (PST)
DKIM-Signature: v=1; a=rsa-sha256; c=relaxed/relaxed;
 d=iol.unh.edu; s=unh-iol; t=1731981584; x=1732586384; darn=dpdk.org;
 h=references:in-reply-to:cc:to:from:subject:message-id:date:from:to
 :cc:subject:date:message-id:reply-to;
 bh=SvR5QwFs8F7xoUMfQ0FDUUy6pVxDkzTglLsPlWPkN1A=;
 b=CR85PYfXlrwDPQKbRRz1GSwQ0Vo66DjVItG37HDGljxhraZRHkxAa22Uyuh+sCXg9I
 h9OJ/5IzY/9mQHINA5AjJLC6kR6V98g2Aw0EAaLK2kRzw1h9Ou4Ql2iPE8qABy+U4sp6
 gjZPBjjZ6lyFc/LlTPac9e4/txDBzIL7VosMw=
X-Google-DKIM-Signature: v=1; a=rsa-sha256; c=relaxed/relaxed;
 d=1e100.net; s=20230601; t=1731981584; x=1732586384;
 h=references:in-reply-to:cc:to:from:subject:message-id:date
 :x-gm-message-state:from:to:cc:subject:date:message-id:reply-to;
 bh=SvR5QwFs8F7xoUMfQ0FDUUy6pVxDkzTglLsPlWPkN1A=;
 b=Td5EPTtKRUI9z+j06YPDu9GM8zBPVeOa2WFtbuxKhWdfD9sUDCbMV/Ej6diB5cFl76
 LMEJtfYpJ/j4O0DyZHVjsK9nF5EEM8omvmrCy/kL++dVzddtJL2VF7IJEZhxq8uzLgvH
 SeunDO/atnDiUk8EV+QWjH9O8BNwq/e3IOAChkD3oZgC1uQUyzHkpihxbnjyezEfNVuy
 qZpQp8QPbP9vLJ9Dl1LTMB3LeT0A6+kBe3lYkuTBF1rJ5YbnRr9sroWQy0M9g9tQ3fUd
 RnN3rC3ICd0LScdn+g2HjP4meofFJe3lKitttM4JYD/mFZzKc1ldXwiV7jtsOEB1VI96
 U7Fw==
X-Gm-Message-State: AOJu0Yy5c8u8skLnGXAzLAO76mrTuUzUwKbdPMc2ONCXpQGXjt4/1A/3
 xmDUy7gyETZptL9Qgpx3GtLe646wN5SG6BEibWJYm3IxH2i91x0+mtgrrEejH1pwnRM8wVWaxH6
 msVSWaQwRZD5zmMhzgwm9GgG2TuHleoNjmOpb4lDJfpMzgLauvnAnXTpM
X-Google-Smtp-Source: AGHT+IE6jL3/kheYw+sYtYa9iNwzVmN1zMpousXHtRT1T1tElmPS1VEMYFKocNExFPn1IWpNOwU0pATtDDnG
X-Received: by 2002:a05:6902:2e04:b0:e33:67d8:654e with SMTP id
 3f1490d57ef6-e38264e86dfmr10382327276.49.1731981584145; 
 Mon, 18 Nov 2024 17:59:44 -0800 (PST)
Received: from postal.iol.unh.edu (postal.iol.unh.edu.
 [2606:4100:3880:1234::84]) by smtp-relay.gmail.com with ESMTPS id
 3f1490d57ef6-e387e7db722sm297536276.28.2024.11.18.17.59.44
 (version=TLS1_2 cipher=ECDHE-ECDSA-AES128-GCM-SHA256 bits=128/128);
 Mon, 18 Nov 2024 17:59:44 -0800 (PST)
X-Relaying-Domain: iol.unh.edu
Date: Mon, 18 Nov 2024 17:59:44 -0800 (PST)
Message-ID: <673bf110.250a0220.530d0.3da8SMTPIN_ADDED_MISSING@mx.google.com>
Received: from [172.17.0.2] (unknown [172.18.0.217])
 by postal.iol.unh.edu (Postfix) with ESMTP id C36056052471;
 Mon, 18 Nov 2024 20:59:43 -0500 (EST)
Subject: |SUCCESS| pw148582-148583 [PATCH] [v2,2/2] app/testpmd: fix aged flo
From: dpdklab@iol.unh.edu
To: Test Report <test-report@dpdk.org>
Cc: dpdk-test-reports@iol.unh.edu
In-Reply-To: <20241118102528.1858308-3-dvo-plv@napatech.com>
References: <20241118102528.1858308-3-dvo-plv@napatech.com>
Content-Type: text/plain
X-BeenThere: test-report@dpdk.org
X-Mailman-Version: 2.1.29
Precedence: list
List-Id: automatic DPDK test reports <test-report.dpdk.org>
List-Unsubscribe: <https://mails.dpdk.org/options/test-report>,
 <mailto:test-report-request@dpdk.org?subject=unsubscribe>
List-Archive: <http://mails.dpdk.org/archives/test-report/>
List-Post: <mailto:test-report@dpdk.org>
List-Help: <mailto:test-report-request@dpdk.org?subject=help>
List-Subscribe: <https://mails.dpdk.org/listinfo/test-report>,
 <mailto:test-report-request@dpdk.org?subject=subscribe>
Errors-To: test-report-bounces@dpdk.org

Test-Label: iol-sample-apps-testing
Test-Status: SUCCESS
http://dpdk.org/patch/148583

_Testing PASS_

Submitter: Danylo Vodopianov <dvo-plv@napatech.com>
Date: Monday, November 18 2024 10:25:28 
DPDK git baseline: Repo:dpdk
  Branch: master
  CommitID:f275665c45d5f1bf84fe04de39f936af049ba991

148582-148583 --> testing pass

Upstream job id: ACVP-FIPS-testing#8020

Test environment and result as below:

+--------------------+----------------------+----------------------+
|    Environment     | compressdev_zlib_pmd | dpdk_fips_validation |
+====================+======================+======================+
| Ubuntu 22.04 (ARM) | PASS                 | SKIPPED              |
+--------------------+----------------------+----------------------+
| Ubuntu 22.04       | PASS                 | SKIPPED              |
+--------------------+----------------------+----------------------+
| Ubuntu 20.04       | SKIPPED              | PASS                 |
+--------------------+----------------------+----------------------+


Ubuntu 22.04 (ARM)
	Kernel: 5.15.0-97-generic
	Compiler: gcc gcc (Ubuntu 11.4.0-1ubuntu1~22.04) 11.4.0

Ubuntu 22.04
	Kernel: 5.15.0-100-generic
	Compiler: gcc gcc (Ubuntu 11.4.0-1ubuntu1~22.04) 11.4.0

Ubuntu 20.04
	Kernel: Depends on container host
	Compiler: gcc (Ubuntu 9.4.0-1ubuntu1~20.04.2) 9.4.0

To view detailed results, visit:
https://lab.dpdk.org/results/dashboard/patchsets/31962/

UNH-IOL DPDK Community Lab

To manage your email subscriptions, visit: 
https://lab.dpdk.org/results/dashboard/preferences/subscriptions/