From mboxrd@z Thu Jan  1 00:00:00 1970
Return-Path: <test-report-bounces@dpdk.org>
Received: from mails.dpdk.org (mails.dpdk.org [217.70.189.124])
	by inbox.dpdk.org (Postfix) with ESMTP id B7A8E45D42
	for <public@inbox.dpdk.org>; Tue, 19 Nov 2024 12:19:09 +0100 (CET)
Received: from mails.dpdk.org (localhost [127.0.0.1])
	by mails.dpdk.org (Postfix) with ESMTP id B39F240268;
	Tue, 19 Nov 2024 12:19:09 +0100 (CET)
Received: from mail-yw1-f227.google.com (mail-yw1-f227.google.com
 [209.85.128.227])
 by mails.dpdk.org (Postfix) with ESMTP id 99A6840041
 for <test-report@dpdk.org>; Tue, 19 Nov 2024 12:19:08 +0100 (CET)
Received: by mail-yw1-f227.google.com with SMTP id
 00721157ae682-6eeb3741880so2907987b3.1
 for <test-report@dpdk.org>; Tue, 19 Nov 2024 03:19:08 -0800 (PST)
DKIM-Signature: v=1; a=rsa-sha256; c=relaxed/relaxed;
 d=iol.unh.edu; s=unh-iol; t=1732015148; x=1732619948; darn=dpdk.org;
 h=cc:to:from:subject:message-id:date:from:to:cc:subject:date
 :message-id:reply-to;
 bh=EAGSYOvwLImNEsfdfbdUcNXJ4NGMOCYGlJyiU8A+7a8=;
 b=fy69JcyA58jq3tQAXISO1l8F1274DLpTY50ejBViidoE0U0jIYBOOy4gLf9pILsZWU
 LBNJkTQcdjlo3bzOF7KAVkkKs9Cnm2prOkwZ6c8qxdM2qSkAEfnwmnE+j3Kcb32iVaP+
 3B2Y8eOXPtDzddeY4TwirwHZydwqt+LGdwew8=
X-Google-DKIM-Signature: v=1; a=rsa-sha256; c=relaxed/relaxed;
 d=1e100.net; s=20230601; t=1732015148; x=1732619948;
 h=cc:to:from:subject:message-id:date:x-gm-message-state:from:to:cc
 :subject:date:message-id:reply-to;
 bh=EAGSYOvwLImNEsfdfbdUcNXJ4NGMOCYGlJyiU8A+7a8=;
 b=tyTAAZKY13SMuHILsIQ4uh3NxyXXwgwdn9TG4TuHolKrqpBvqVdzRNH8s36AbE6xb6
 HGa00n9yUKx0wV1iLzhpOCAjw2ypOImfVZ4Jm3LjNMCWslz9RNL9G+7gNRw/1lPe9d2Q
 /sAwRFT055h6QO6UymCkxWF6KCoYXGB0CD8IpTz5XIkLsXAsXgexy+DzlPK+PmpELlO6
 Y63aghbikVZ4T7weA7+VfB+pOX7nSJ6fYTS5C+1AmZlyb/TYaRTZFSvhHN68x08o4l+s
 hZtBjMDhq1EADO2LMVEPJhivtQjTPbA9WyDAoFjejClIGUoYCVxLWDXzgyFy3M/Pw3Gp
 fAlQ==
X-Gm-Message-State: AOJu0Yw6ySdHvz6f/s5vAZmnGGuUbeZgV1yFux3osRvd99uTMpYlfJk4
 EVaJ1TqUf4YkfwfpbbrPLzDmVyu7MgsbHL0K0n5huqFVJ+flAH7pHkNVhMgPTSjzax2HKbwNi6l
 xW/IVrqb5Dy37KsbgITSwmXZvoyDrsaOonmJPJcJiikzpJ++E
X-Google-Smtp-Source: AGHT+IEaLsGyhqUFy6ZNjKvKDfh2kJiRoEFooRIimniYihTw/j40H6GEtmY6WOC0+9Ze56D39kseL2+Z4JNP
X-Received: by 2002:a05:690c:63c8:b0:6ee:9052:8e0e with SMTP id
 00721157ae682-6ee90529257mr69146657b3.34.1732015148056; 
 Tue, 19 Nov 2024 03:19:08 -0800 (PST)
Received: from postal.iol.unh.edu (postal.iol.unh.edu.
 [2606:4100:3880:1234::84]) by smtp-relay.gmail.com with ESMTPS id
 00721157ae682-6ee712aa238sm613317b3.22.2024.11.19.03.19.07
 (version=TLS1_2 cipher=ECDHE-ECDSA-AES128-GCM-SHA256 bits=128/128);
 Tue, 19 Nov 2024 03:19:08 -0800 (PST)
X-Relaying-Domain: iol.unh.edu
Date: Tue, 19 Nov 2024 03:19:08 -0800 (PST)
Message-ID: <673c742c.050a0220.247075.3f6aSMTPIN_ADDED_MISSING@mx.google.com>
Received: from [172.21.0.8] (unknown [172.18.0.240])
 by postal.iol.unh.edu (Postfix) with ESMTP id AB8B16052471;
 Tue, 19 Nov 2024 06:19:07 -0500 (EST)
Subject: |SUCCESS| [GIT MASTER] e8eb14e00d56027bef8569d68cf00e39670edca2
From: dpdklab@iol.unh.edu
To: Test Report <test-report@dpdk.org>
Cc: dpdk-test-reports@iol.unh.edu, Xueming Li <xuemingl@nvidia.com>,
 Christian Ehrhardt <christian.ehrhardt@canonical.com>,
 Kevin Traynor <ktraynor@redhat.com>, Luca Boccassi <bluca@debian.org>
Content-Type: text/plain
X-BeenThere: test-report@dpdk.org
X-Mailman-Version: 2.1.29
Precedence: list
List-Id: automatic DPDK test reports <test-report.dpdk.org>
List-Unsubscribe: <https://mails.dpdk.org/options/test-report>,
 <mailto:test-report-request@dpdk.org?subject=unsubscribe>
List-Archive: <http://mails.dpdk.org/archives/test-report/>
List-Post: <mailto:test-report@dpdk.org>
List-Help: <mailto:test-report-request@dpdk.org?subject=help>
List-Subscribe: <https://mails.dpdk.org/listinfo/test-report>,
 <mailto:test-report-request@dpdk.org?subject=subscribe>
Errors-To: test-report-bounces@dpdk.org

_Testing PASS_

Branch: tags/v23.11

e8eb14e00d56027bef8569d68cf00e39670edca2 --> testing pass

Upstream job id: Generic-DPDK-Compile-Meson#335470

Test environment and result as below:

+---------------------+--------------------+------------------+-------------------+-------------------+-----------------------+----------------------+
|     Environment     | dpdk_meson_compile | dpdk_compile_ovs | dpdk_compile_spdk | dpdk_msvc_compile | dpdk_win_llvm_compile | dpdk_mingw64_compile |
+=====================+====================+==================+===================+===================+=======================+======================+
| CentOS Stream 9     | PASS               | PASS             | PASS              | SKIPPED           | SKIPPED               | SKIPPED              |
+---------------------+--------------------+------------------+-------------------+-------------------+-----------------------+----------------------+
| Debian 12           | PASS               | PASS             | PASS              | SKIPPED           | SKIPPED               | SKIPPED              |
+---------------------+--------------------+------------------+-------------------+-------------------+-----------------------+----------------------+
| Fedora 40 (Clang)   | PASS               | PASS             | PASS              | SKIPPED           | SKIPPED               | SKIPPED              |
+---------------------+--------------------+------------------+-------------------+-------------------+-----------------------+----------------------+
| Fedora 39           | PASS               | PASS             | PASS              | SKIPPED           | SKIPPED               | SKIPPED              |
+---------------------+--------------------+------------------+-------------------+-------------------+-----------------------+----------------------+
| Fedora 40           | PASS               | PASS             | PASS              | SKIPPED           | SKIPPED               | SKIPPED              |
+---------------------+--------------------+------------------+-------------------+-------------------+-----------------------+----------------------+
| openSUSE Leap 15    | PASS               | PASS             | SKIPPED           | SKIPPED           | SKIPPED               | SKIPPED              |
+---------------------+--------------------+------------------+-------------------+-------------------+-----------------------+----------------------+
| RHEL8               | PASS               | PASS             | SKIPPED           | SKIPPED           | SKIPPED               | SKIPPED              |
+---------------------+--------------------+------------------+-------------------+-------------------+-----------------------+----------------------+
| Ubuntu 20.04        | PASS               | PASS             | SKIPPED           | SKIPPED           | SKIPPED               | SKIPPED              |
+---------------------+--------------------+------------------+-------------------+-------------------+-----------------------+----------------------+
| RHEL9               | PASS               | PASS             | SKIPPED           | SKIPPED           | SKIPPED               | SKIPPED              |
+---------------------+--------------------+------------------+-------------------+-------------------+-----------------------+----------------------+
| Ubuntu 22.04        | PASS               | PASS             | PASS              | SKIPPED           | SKIPPED               | SKIPPED              |
+---------------------+--------------------+------------------+-------------------+-------------------+-----------------------+----------------------+
| Ubuntu 24.04        | PASS               | PASS             | PASS              | SKIPPED           | SKIPPED               | SKIPPED              |
+---------------------+--------------------+------------------+-------------------+-------------------+-----------------------+----------------------+
| Alpine              | PASS               | PASS             | SKIPPED           | SKIPPED           | SKIPPED               | SKIPPED              |
+---------------------+--------------------+------------------+-------------------+-------------------+-----------------------+----------------------+
| FreeBSD 13.4        | PASS               | SKIPPED          | SKIPPED           | SKIPPED           | SKIPPED               | SKIPPED              |
+---------------------+--------------------+------------------+-------------------+-------------------+-----------------------+----------------------+
| FreeBSD 14.1        | PASS               | SKIPPED          | SKIPPED           | SKIPPED           | SKIPPED               | SKIPPED              |
+---------------------+--------------------+------------------+-------------------+-------------------+-----------------------+----------------------+
| Fedora 39 (Clang)   | PASS               | PASS             | PASS              | SKIPPED           | SKIPPED               | SKIPPED              |
+---------------------+--------------------+------------------+-------------------+-------------------+-----------------------+----------------------+
| Windows Server 2022 | SKIPPED            | SKIPPED          | SKIPPED           | PASS              | PASS                  | PASS                 |
+---------------------+--------------------+------------------+-------------------+-------------------+-----------------------+----------------------+


CentOS Stream 9
	Kernel: Depends on container host
	Compiler: gcc 11.4.1 20231218 (Red Hat 11.4.1-3)

Debian 12
	Kernel: Depends on container host
	Compiler: gcc (Debian 12.2.0-14) 12.2.0

Fedora 40 (Clang)
	Kernel: Depends on container host
	Compiler: clang 18.1.6 (Fedora 18.1.6-3.fc40)

Fedora 39
	Kernel: Depends on container host
	Compiler: gcc 13.3.1 20240522 (Red Hat 13.3.1-1)

Fedora 40
	Kernel: Depends on container host
	Compiler: gcc 14.2.1 20240801 (Red Hat 14.2.1-1)

openSUSE Leap 15
	Kernel: Depends on container host
	Compiler: gcc (SUSE Linux) 7.5.0

RHEL8
	Kernel: Depends on container host
	Compiler: gcc 8.5.0 20210514 (Red Hat 8.5.0-22)

Ubuntu 20.04
	Kernel: Depends on container host
	Compiler: gcc (Ubuntu 9.4.0-1ubuntu1~20.04.2) 9.4.0

RHEL9
	Kernel: Depends on container host
	Compiler: gcc 11.4.1 20231218 (Red Hat 11.4.1-3)

Ubuntu 22.04
	Kernel: Depends on container host
	Compiler: gcc (Ubuntu 11.4.0-1ubuntu1~22.04) 11.4.0

Ubuntu 24.04
	Kernel: Depends on container host
	Compiler: gcc (Ubuntu 13.2.0-23ubuntu4) 13.2.0

Alpine
	Kernel: Depends on container host
	Compiler: gcc (Alpine 13.2.1_git20240309) 13.2.1 20240309

FreeBSD 13.4
	Kernel: 13.4-RELEASE-p1
	Compiler: clang 18.1.6

FreeBSD 14.1
	Kernel: 14.1-RELEASE-p3
	Compiler: clang 18.1.5

Fedora 39 (Clang)
	Kernel: Depends on container host
	Compiler: clang 17.0.6 (Fedora 17.0.6-2.fc39)

Windows Server 2022
	Kernel: 10.0.20348.2031
	Compiler: clang 15.0.7, gcc 14.1.0 (MinGW), and MSVC VS 19.39.33521

To view detailed results, visit:
https://lab.dpdk.org/results/dashboard/tarballs/31632/

UNH-IOL DPDK Community Lab

To manage your email subscriptions, visit: 
https://lab.dpdk.org/results/dashboard/preferences/subscriptions/