From mboxrd@z Thu Jan  1 00:00:00 1970
Return-Path: <test-report-bounces@dpdk.org>
Received: from mails.dpdk.org (mails.dpdk.org [217.70.189.124])
	by inbox.dpdk.org (Postfix) with ESMTP id D211A45D57
	for <public@inbox.dpdk.org>; Wed, 20 Nov 2024 21:45:26 +0100 (CET)
Received: from mails.dpdk.org (localhost [127.0.0.1])
	by mails.dpdk.org (Postfix) with ESMTP id B3ABC40650;
	Wed, 20 Nov 2024 21:45:26 +0100 (CET)
Received: from mail-oa1-f97.google.com (mail-oa1-f97.google.com
 [209.85.160.97]) by mails.dpdk.org (Postfix) with ESMTP id C4780402C4
 for <test-report@dpdk.org>; Wed, 20 Nov 2024 21:45:24 +0100 (CET)
Received: by mail-oa1-f97.google.com with SMTP id
 586e51a60fabf-2962feec93bso180312fac.1
 for <test-report@dpdk.org>; Wed, 20 Nov 2024 12:45:24 -0800 (PST)
DKIM-Signature: v=1; a=rsa-sha256; c=relaxed/relaxed;
 d=iol.unh.edu; s=unh-iol; t=1732135524; x=1732740324; darn=dpdk.org;
 h=references:in-reply-to:cc:to:from:subject:message-id:date:from:to
 :cc:subject:date:message-id:reply-to;
 bh=cuPtVYahYau/Wu91SPYsd+6TOlRBLoqmYZGwOvyQk+U=;
 b=CBB09d2SxCCnRgW9XZmXITRL9hOGKt89imQW14NjRSm64U7hzs+iL6Nyv6rTWKjD5J
 qG5+4u4wovb46o/2gl4G5A23o7CXl3mjYKST3PhAS3uhNoqoqhVDnHIxhT2VhYNcEYBe
 LT9WAv15jgnjPsoicH/JHT5AGFUkCUUv97c2U=
X-Google-DKIM-Signature: v=1; a=rsa-sha256; c=relaxed/relaxed;
 d=1e100.net; s=20230601; t=1732135524; x=1732740324;
 h=references:in-reply-to:cc:to:from:subject:message-id:date
 :x-gm-message-state:from:to:cc:subject:date:message-id:reply-to;
 bh=cuPtVYahYau/Wu91SPYsd+6TOlRBLoqmYZGwOvyQk+U=;
 b=p/bcUaaWbp7dhbWTureXiEoyTx+4XLn2EeHgR4wLarXCpl9VZNICXiw1CjW9nQNNOr
 aUwN6x6hp+D1RFag/DYgE43ykJhEx5m+9HVarkWbKPlwIrQFWB5wPPlXRnf6rapNrLpI
 Iu8gLN0RcY4Bm+tlmvOpj7KAGL5OS3F2VnL5NVyBPrgYCYYkh/hfzBO+2D9nCmpoJEnK
 iF1x12IKpIRFzsbHunBBY3Vacyq7sEPljp1MVKsRmHnobk2bY19ceNQm+3E2GRx8oe+v
 jZH5lly6b80mPYiOf/E77ZjcEzgWlj22Q/OwMUyVaihp24MF5DNkOhw5unzXM4URT7qs
 /aKA==
X-Gm-Message-State: AOJu0YzilylPW9GC/0RTUm7JwzPjxAeu63OqXXl3mg87v1/L6ukm10Qk
 bGuVO6YAW+WSKY9O4pdJTIaGbhtUtaLT9wsX7jN94z+6YxF+2m6DFKx9ZhMntS2eldcUraZnUnk
 DrtJq//l6PTYzrFW5s/A7+NQQFoOCK7NhiNBYUrYH
X-Gm-Gg: ASbGncs9fI0ewkSK6ceaAuW2u/KgQQyUDvI5FLlMDLSGPg9sIISxFgvuGBusgGDUgjI
 2J9u7YucxdKZAn/3TcaG0LpUGIO2yFtd0N+YicC3Ob4jnO8top5mGw7oF8ZFHrpEH/L5F8n+3ow
 CEaHCuaE2+rKk0sxCR8MjI9d4wwjZXQsriniaforYx9HW1ZXysAEt842HlvlhIcm5Ku468AdnQY
 vlKpbv/sBKDxuFPfHiCkKD/DIUP1bjGLaaS9C25Cy80o5tzLVjLNxuztDAJTxD8Wj0OkZ8=
X-Google-Smtp-Source: AGHT+IECAM6GUtyDZDQRYfbCdOLewwsSVvZj2y33MEVVV0FPXEqe5Fker9KDiFkhWzWm0W1I4zayeRFL52/J
X-Received: by 2002:a05:6871:a693:b0:296:a1fc:91b5 with SMTP id
 586e51a60fabf-296d9af01f4mr3986125fac.8.1732135523978; 
 Wed, 20 Nov 2024 12:45:23 -0800 (PST)
Received: from postal.iol.unh.edu (postal.iol.unh.edu. [132.177.123.84])
 by smtp-relay.gmail.com with ESMTPS id
 41be03b00d2f7-7f8c1da63f7sm249266a12.24.2024.11.20.12.45.23
 (version=TLS1_2 cipher=ECDHE-ECDSA-AES128-GCM-SHA256 bits=128/128);
 Wed, 20 Nov 2024 12:45:23 -0800 (PST)
X-Relaying-Domain: iol.unh.edu
Date: Wed, 20 Nov 2024 12:45:23 -0800 (PST)
Message-ID: <673e4a63.050a0220.18dab4.c967SMTPIN_ADDED_MISSING@mx.google.com>
Received: from [172.17.0.2] (unknown [172.18.0.217])
 by postal.iol.unh.edu (Postfix) with ESMTP id 25D286052471;
 Wed, 20 Nov 2024 15:45:23 -0500 (EST)
Subject: |SUCCESS| pw148713-148715 [PATCH] [v1,3/3] net/ntnic: move headers t
From: dpdklab@iol.unh.edu
To: Test Report <test-report@dpdk.org>
Cc: dpdk-test-reports@iol.unh.edu
In-Reply-To: <20241120180258.64185-4-sil-plv@napatech.com>
References: <20241120180258.64185-4-sil-plv@napatech.com>
Content-Type: text/plain
X-BeenThere: test-report@dpdk.org
X-Mailman-Version: 2.1.29
Precedence: list
List-Id: automatic DPDK test reports <test-report.dpdk.org>
List-Unsubscribe: <https://mails.dpdk.org/options/test-report>,
 <mailto:test-report-request@dpdk.org?subject=unsubscribe>
List-Archive: <http://mails.dpdk.org/archives/test-report/>
List-Post: <mailto:test-report@dpdk.org>
List-Help: <mailto:test-report-request@dpdk.org?subject=help>
List-Subscribe: <https://mails.dpdk.org/listinfo/test-report>,
 <mailto:test-report-request@dpdk.org?subject=subscribe>
Errors-To: test-report-bounces@dpdk.org

Test-Label: iol-compile-amd64-testing
Test-Status: SUCCESS
http://dpdk.org/patch/148715

_Testing PASS_

Submitter: Serhii Iliushyk <sil-plv@napatech.com>
Date: Wednesday, November 20 2024 18:02:57 
DPDK git baseline: Repo:dpdk
  Branch: master
  CommitID:f4ccce58c1a33cb41e1e820da504698437987efc

148713-148715 --> testing pass

Upstream job id: Generic-DPDK-Compile-Meson#336233

Test environment and result as below:

+---------------------+--------------------+------------------+-------------------+-------------------+-----------------------+----------------------+
|     Environment     | dpdk_meson_compile | dpdk_compile_ovs | dpdk_compile_spdk | dpdk_msvc_compile | dpdk_win_llvm_compile | dpdk_mingw64_compile |
+=====================+====================+==================+===================+===================+=======================+======================+
| CentOS Stream 9     | PASS               | PASS             | PASS              | SKIPPED           | SKIPPED               | SKIPPED              |
+---------------------+--------------------+------------------+-------------------+-------------------+-----------------------+----------------------+
| Debian 12           | PASS               | PASS             | PASS              | SKIPPED           | SKIPPED               | SKIPPED              |
+---------------------+--------------------+------------------+-------------------+-------------------+-----------------------+----------------------+
| Fedora 39 (Clang)   | PASS               | PASS             | PASS              | SKIPPED           | SKIPPED               | SKIPPED              |
+---------------------+--------------------+------------------+-------------------+-------------------+-----------------------+----------------------+
| Fedora 39           | PASS               | PASS             | PASS              | SKIPPED           | SKIPPED               | SKIPPED              |
+---------------------+--------------------+------------------+-------------------+-------------------+-----------------------+----------------------+
| Fedora 40 (Clang)   | PASS               | PASS             | PASS              | SKIPPED           | SKIPPED               | SKIPPED              |
+---------------------+--------------------+------------------+-------------------+-------------------+-----------------------+----------------------+
| Fedora 40           | PASS               | PASS             | PASS              | SKIPPED           | SKIPPED               | SKIPPED              |
+---------------------+--------------------+------------------+-------------------+-------------------+-----------------------+----------------------+
| RHEL8               | PASS               | PASS             | SKIPPED           | SKIPPED           | SKIPPED               | SKIPPED              |
+---------------------+--------------------+------------------+-------------------+-------------------+-----------------------+----------------------+
| openSUSE Leap 15    | PASS               | PASS             | SKIPPED           | SKIPPED           | SKIPPED               | SKIPPED              |
+---------------------+--------------------+------------------+-------------------+-------------------+-----------------------+----------------------+
| Ubuntu 22.04        | PASS               | PASS             | PASS              | SKIPPED           | SKIPPED               | SKIPPED              |
+---------------------+--------------------+------------------+-------------------+-------------------+-----------------------+----------------------+
| Ubuntu 20.04        | PASS               | PASS             | SKIPPED           | SKIPPED           | SKIPPED               | SKIPPED              |
+---------------------+--------------------+------------------+-------------------+-------------------+-----------------------+----------------------+
| Ubuntu 24.04        | PASS               | PASS             | PASS              | SKIPPED           | SKIPPED               | SKIPPED              |
+---------------------+--------------------+------------------+-------------------+-------------------+-----------------------+----------------------+
| RHEL9               | PASS               | PASS             | SKIPPED           | SKIPPED           | SKIPPED               | SKIPPED              |
+---------------------+--------------------+------------------+-------------------+-------------------+-----------------------+----------------------+
| Alpine              | PASS               | PASS             | SKIPPED           | SKIPPED           | SKIPPED               | SKIPPED              |
+---------------------+--------------------+------------------+-------------------+-------------------+-----------------------+----------------------+
| FreeBSD 13.4        | PASS               | SKIPPED          | SKIPPED           | SKIPPED           | SKIPPED               | SKIPPED              |
+---------------------+--------------------+------------------+-------------------+-------------------+-----------------------+----------------------+
| FreeBSD 14.1        | PASS               | SKIPPED          | SKIPPED           | SKIPPED           | SKIPPED               | SKIPPED              |
+---------------------+--------------------+------------------+-------------------+-------------------+-----------------------+----------------------+
| Windows Server 2022 | SKIPPED            | SKIPPED          | SKIPPED           | PASS              | PASS                  | PASS                 |
+---------------------+--------------------+------------------+-------------------+-------------------+-----------------------+----------------------+


CentOS Stream 9
	Kernel: Depends on container host
	Compiler: gcc 11.4.1 20231218 (Red Hat 11.4.1-3)

Debian 12
	Kernel: Depends on container host
	Compiler: gcc (Debian 12.2.0-14) 12.2.0

Fedora 39 (Clang)
	Kernel: Depends on container host
	Compiler: clang 17.0.6 (Fedora 17.0.6-2.fc39)

Fedora 39
	Kernel: Depends on container host
	Compiler: gcc 13.3.1 20240522 (Red Hat 13.3.1-1)

Fedora 40 (Clang)
	Kernel: Depends on container host
	Compiler: clang 18.1.6 (Fedora 18.1.6-3.fc40)

Fedora 40
	Kernel: Depends on container host
	Compiler: gcc 14.2.1 20240801 (Red Hat 14.2.1-1)

RHEL8
	Kernel: Depends on container host
	Compiler: gcc 8.5.0 20210514 (Red Hat 8.5.0-22)

openSUSE Leap 15
	Kernel: Depends on container host
	Compiler: gcc (SUSE Linux) 7.5.0

Ubuntu 22.04
	Kernel: Depends on container host
	Compiler: gcc (Ubuntu 11.4.0-1ubuntu1~22.04) 11.4.0

Ubuntu 20.04
	Kernel: Depends on container host
	Compiler: gcc (Ubuntu 9.4.0-1ubuntu1~20.04.2) 9.4.0

Ubuntu 24.04
	Kernel: Depends on container host
	Compiler: gcc (Ubuntu 13.2.0-23ubuntu4) 13.2.0

RHEL9
	Kernel: Depends on container host
	Compiler: gcc 11.4.1 20231218 (Red Hat 11.4.1-3)

Alpine
	Kernel: Depends on container host
	Compiler: gcc (Alpine 13.2.1_git20240309) 13.2.1 20240309

FreeBSD 13.4
	Kernel: 13.4-RELEASE-p1
	Compiler: clang 18.1.6

FreeBSD 14.1
	Kernel: 14.1-RELEASE-p3
	Compiler: clang 18.1.5

Windows Server 2022
	Kernel: 10.0.20348.2031
	Compiler: clang 15.0.7, gcc 14.1.0 (MinGW), and MSVC VS 19.39.33521

To view detailed results, visit:
https://lab.dpdk.org/results/dashboard/patchsets/31987/

UNH-IOL DPDK Community Lab

To manage your email subscriptions, visit: 
https://lab.dpdk.org/results/dashboard/preferences/subscriptions/