From mboxrd@z Thu Jan  1 00:00:00 1970
Return-Path: <test-report-bounces@dpdk.org>
Received: from mails.dpdk.org (mails.dpdk.org [217.70.189.124])
	by inbox.dpdk.org (Postfix) with ESMTP id EA79545D78
	for <public@inbox.dpdk.org>; Fri, 22 Nov 2024 01:25:50 +0100 (CET)
Received: from mails.dpdk.org (localhost [127.0.0.1])
	by mails.dpdk.org (Postfix) with ESMTP id DC8594026E;
	Fri, 22 Nov 2024 01:25:50 +0100 (CET)
Received: from mail-yw1-f227.google.com (mail-yw1-f227.google.com
 [209.85.128.227])
 by mails.dpdk.org (Postfix) with ESMTP id 22C3C4026A
 for <test-report@dpdk.org>; Fri, 22 Nov 2024 01:25:49 +0100 (CET)
Received: by mail-yw1-f227.google.com with SMTP id
 00721157ae682-6ee7a48377cso14968197b3.3
 for <test-report@dpdk.org>; Thu, 21 Nov 2024 16:25:49 -0800 (PST)
DKIM-Signature: v=1; a=rsa-sha256; c=relaxed/relaxed;
 d=iol.unh.edu; s=unh-iol; t=1732235148; x=1732839948; darn=dpdk.org;
 h=references:in-reply-to:cc:to:from:subject:message-id:date:from:to
 :cc:subject:date:message-id:reply-to;
 bh=Uc3jAv8JU9j7/CbkcEFMJGT6vShbtEc8tn4/8ifu21A=;
 b=AxbkHW8Pn4izKigf5juJPsTQojoJgmvUD/+Jnj+VmTJzOurisBOIZAzrv3UM2aP/HI
 zU14GiUCTGl0AxQ++Ovz72XVqW2A9jG5k0ztXx2yqR1EuCugsL7Q4F1/KStrRCk+Q7n2
 bsffYGtUNc+g3Gur4boT/JyZfObMFdr6ObFr0=
X-Google-DKIM-Signature: v=1; a=rsa-sha256; c=relaxed/relaxed;
 d=1e100.net; s=20230601; t=1732235148; x=1732839948;
 h=references:in-reply-to:cc:to:from:subject:message-id:date
 :x-gm-message-state:from:to:cc:subject:date:message-id:reply-to;
 bh=Uc3jAv8JU9j7/CbkcEFMJGT6vShbtEc8tn4/8ifu21A=;
 b=bVOEa9TEehGY0xkY6E/6MO+XElGWsVZm5FFabNElc/pFgR40L/XxkLzjz7Ok+5vRhx
 6UbWIL9z+hfd9/drlyJGJmQzOkwIvry9cmBZBvtxyfKWEjzKOPID//ii5nK13xsE4GTP
 CsHlbBKpWFbxAY70duVHJNXHPjn9q4m3Kz8TzauwmXSVxb1GX+aAAVVrmCEJs83dJzD+
 QIT2skXSSNL0bYl0nJWCND1mIPa4TBsWOQt7Vyc67MZJPi0apn5VjpvK8Xox+ZFBvrFB
 JlhE4u8lhHyLUpu6x4CFDRDjeVxabAlWShWUR0YaZ9tDRCP6e4VyOmQ3ynYfIdGBOEto
 RnFw==
X-Gm-Message-State: AOJu0Yz3rSjiTdF1Ox7SOVFUmZFk8+55OZZMNGONWLIKZtN0Me63bcJ+
 ZTzvm0l3nGAzyypW0R08gCFMYrTF8a+ibipsQ5af5x5pljgZrSjVAeE6mY3oJQ3GA6VOv/bohzF
 MMp5+1riEfGnMxQWkEhgxpOpX8KCLCAXxRSaL9tgmeTofWNY9FAIBZHfW
X-Gm-Gg: ASbGnctfnOxjfSA/McJLQpjbVfbhBG8CnTD2lzrG9DskDZBN2w/7cwKTY4e6KAmdiS2
 Oq7B4TROw4CP0LrtHfN95Z/STMDJNZw02Ugg2aGQU5QDNW22ktuTLFQyio+woFEpKrBvLF7hGbz
 BMnlhbeUkruwTQYA6Fj463aUIlQVvrKWHs4xGb1MX/y355wW+rAgX9i0q/3b4XBxR2PiFqfZbja
 kQSXbbxgBYz2BsmQhxDBt601odILdV8R46Axf3xZYJmKtgv5alHm8XmOIoI3gRmURjMUrMTfWg=
X-Google-Smtp-Source: AGHT+IG+Auh1iV47+U/e1oZrt4SKmUqBE2rSaTwR/mNH4CjTwdwh+czcZBLad9510eAMRKNUKs/8wRoxeYjt
X-Received: by 2002:a05:690c:3704:b0:6ee:a70c:873f with SMTP id
 00721157ae682-6eee0a67d5amr15232517b3.40.1732235148567; 
 Thu, 21 Nov 2024 16:25:48 -0800 (PST)
Received: from postal.iol.unh.edu (postal.iol.unh.edu.
 [2606:4100:3880:1234::84]) by smtp-relay.gmail.com with ESMTPS id
 00721157ae682-6eee007ada1sm188227b3.52.2024.11.21.16.25.48
 (version=TLS1_2 cipher=ECDHE-ECDSA-AES128-GCM-SHA256 bits=128/128);
 Thu, 21 Nov 2024 16:25:48 -0800 (PST)
X-Relaying-Domain: iol.unh.edu
Date: Thu, 21 Nov 2024 16:25:48 -0800 (PST)
Message-ID: <673fcf8c.050a0220.1a482e.13dfSMTPIN_ADDED_MISSING@mx.google.com>
Received: from [172.17.0.2] (unknown [172.18.0.217])
 by postal.iol.unh.edu (Postfix) with ESMTP id 35B2F6052471;
 Thu, 21 Nov 2024 19:25:48 -0500 (EST)
Subject: |SUCCESS| pw148718-148726 [PATCH] [v4,9/9] app/test-pmd: avoid poten
From: dpdklab@iol.unh.edu
To: Test Report <test-report@dpdk.org>
Cc: dpdk-test-reports@iol.unh.edu
In-Reply-To: <20241121182443.68025-10-stephen@networkplumber.org>
References: <20241121182443.68025-10-stephen@networkplumber.org>
Content-Type: text/plain
X-BeenThere: test-report@dpdk.org
X-Mailman-Version: 2.1.29
Precedence: list
List-Id: automatic DPDK test reports <test-report.dpdk.org>
List-Unsubscribe: <https://mails.dpdk.org/options/test-report>,
 <mailto:test-report-request@dpdk.org?subject=unsubscribe>
List-Archive: <http://mails.dpdk.org/archives/test-report/>
List-Post: <mailto:test-report@dpdk.org>
List-Help: <mailto:test-report-request@dpdk.org?subject=help>
List-Subscribe: <https://mails.dpdk.org/listinfo/test-report>,
 <mailto:test-report-request@dpdk.org?subject=subscribe>
Errors-To: test-report-bounces@dpdk.org

Test-Label: iol-compile-amd64-testing
Test-Status: SUCCESS
http://dpdk.org/patch/148726

_Testing PASS_

Submitter: Stephen Hemminger <stephen@networkplumber.org>
Date: Thursday, November 21 2024 18:23:30 
DPDK git baseline: Repo:dpdk
  Branch: master
  CommitID:f4ccce58c1a33cb41e1e820da504698437987efc

148718-148726 --> testing pass

Upstream job id: Windows-Compile-DPDK-Native#24842

Test environment and result as below:

+---------------------+--------------------+------------------+-------------------+-------------------+-----------------------+----------------------+
|     Environment     | dpdk_meson_compile | dpdk_compile_ovs | dpdk_compile_spdk | dpdk_msvc_compile | dpdk_win_llvm_compile | dpdk_mingw64_compile |
+=====================+====================+==================+===================+===================+=======================+======================+
| CentOS Stream 9     | PASS               | PASS             | PASS              | SKIPPED           | SKIPPED               | SKIPPED              |
+---------------------+--------------------+------------------+-------------------+-------------------+-----------------------+----------------------+
| Fedora 40 (Clang)   | PASS               | PASS             | PASS              | SKIPPED           | SKIPPED               | SKIPPED              |
+---------------------+--------------------+------------------+-------------------+-------------------+-----------------------+----------------------+
| Fedora 40           | PASS               | PASS             | PASS              | SKIPPED           | SKIPPED               | SKIPPED              |
+---------------------+--------------------+------------------+-------------------+-------------------+-----------------------+----------------------+
| Fedora 39           | PASS               | PASS             | PASS              | SKIPPED           | SKIPPED               | SKIPPED              |
+---------------------+--------------------+------------------+-------------------+-------------------+-----------------------+----------------------+
| Fedora 39 (Clang)   | PASS               | PASS             | PASS              | SKIPPED           | SKIPPED               | SKIPPED              |
+---------------------+--------------------+------------------+-------------------+-------------------+-----------------------+----------------------+
| Debian 12           | PASS               | PASS             | PASS              | SKIPPED           | SKIPPED               | SKIPPED              |
+---------------------+--------------------+------------------+-------------------+-------------------+-----------------------+----------------------+
| openSUSE Leap 15    | PASS               | PASS             | SKIPPED           | SKIPPED           | SKIPPED               | SKIPPED              |
+---------------------+--------------------+------------------+-------------------+-------------------+-----------------------+----------------------+
| RHEL8               | PASS               | PASS             | SKIPPED           | SKIPPED           | SKIPPED               | SKIPPED              |
+---------------------+--------------------+------------------+-------------------+-------------------+-----------------------+----------------------+
| FreeBSD 13.4        | PASS               | SKIPPED          | SKIPPED           | SKIPPED           | SKIPPED               | SKIPPED              |
+---------------------+--------------------+------------------+-------------------+-------------------+-----------------------+----------------------+
| RHEL9               | PASS               | PASS             | SKIPPED           | SKIPPED           | SKIPPED               | SKIPPED              |
+---------------------+--------------------+------------------+-------------------+-------------------+-----------------------+----------------------+
| Ubuntu 20.04        | PASS               | PASS             | SKIPPED           | SKIPPED           | SKIPPED               | SKIPPED              |
+---------------------+--------------------+------------------+-------------------+-------------------+-----------------------+----------------------+
| Ubuntu 22.04        | PASS               | PASS             | PASS              | SKIPPED           | SKIPPED               | SKIPPED              |
+---------------------+--------------------+------------------+-------------------+-------------------+-----------------------+----------------------+
| Ubuntu 24.04        | PASS               | PASS             | PASS              | SKIPPED           | SKIPPED               | SKIPPED              |
+---------------------+--------------------+------------------+-------------------+-------------------+-----------------------+----------------------+
| Alpine              | PASS               | PASS             | SKIPPED           | SKIPPED           | SKIPPED               | SKIPPED              |
+---------------------+--------------------+------------------+-------------------+-------------------+-----------------------+----------------------+
| FreeBSD 14.1        | PASS               | SKIPPED          | SKIPPED           | SKIPPED           | SKIPPED               | SKIPPED              |
+---------------------+--------------------+------------------+-------------------+-------------------+-----------------------+----------------------+
| Windows Server 2022 | SKIPPED            | SKIPPED          | SKIPPED           | PASS              | PASS                  | PASS                 |
+---------------------+--------------------+------------------+-------------------+-------------------+-----------------------+----------------------+


CentOS Stream 9
	Kernel: Depends on container host
	Compiler: gcc 11.4.1 20231218 (Red Hat 11.4.1-3)

Fedora 40 (Clang)
	Kernel: Depends on container host
	Compiler: clang 18.1.6 (Fedora 18.1.6-3.fc40)

Fedora 40
	Kernel: Depends on container host
	Compiler: gcc 14.2.1 20240801 (Red Hat 14.2.1-1)

Fedora 39
	Kernel: Depends on container host
	Compiler: gcc 13.3.1 20240522 (Red Hat 13.3.1-1)

Fedora 39 (Clang)
	Kernel: Depends on container host
	Compiler: clang 17.0.6 (Fedora 17.0.6-2.fc39)

Debian 12
	Kernel: Depends on container host
	Compiler: gcc (Debian 12.2.0-14) 12.2.0

openSUSE Leap 15
	Kernel: Depends on container host
	Compiler: gcc (SUSE Linux) 7.5.0

RHEL8
	Kernel: Depends on container host
	Compiler: gcc 8.5.0 20210514 (Red Hat 8.5.0-22)

FreeBSD 13.4
	Kernel: 13.4-RELEASE-p1
	Compiler: clang 18.1.6

RHEL9
	Kernel: Depends on container host
	Compiler: gcc 11.4.1 20231218 (Red Hat 11.4.1-3)

Ubuntu 20.04
	Kernel: Depends on container host
	Compiler: gcc (Ubuntu 9.4.0-1ubuntu1~20.04.2) 9.4.0

Ubuntu 22.04
	Kernel: Depends on container host
	Compiler: gcc (Ubuntu 11.4.0-1ubuntu1~22.04) 11.4.0

Ubuntu 24.04
	Kernel: Depends on container host
	Compiler: gcc (Ubuntu 13.2.0-23ubuntu4) 13.2.0

Alpine
	Kernel: Depends on container host
	Compiler: gcc (Alpine 13.2.1_git20240309) 13.2.1 20240309

FreeBSD 14.1
	Kernel: 14.1-RELEASE-p3
	Compiler: clang 18.1.5

Windows Server 2022
	Kernel: 10.0.20348.2031
	Compiler: clang 15.0.7, gcc 14.1.0 (MinGW), and MSVC VS 19.39.33521

To view detailed results, visit:
https://lab.dpdk.org/results/dashboard/patchsets/31990/

UNH-IOL DPDK Community Lab

To manage your email subscriptions, visit: 
https://lab.dpdk.org/results/dashboard/preferences/subscriptions/