From mboxrd@z Thu Jan  1 00:00:00 1970
Return-Path: <test-report-bounces@dpdk.org>
Received: from mails.dpdk.org (mails.dpdk.org [217.70.189.124])
	by inbox.dpdk.org (Postfix) with ESMTP id E7FBC45D79
	for <public@inbox.dpdk.org>; Fri, 22 Nov 2024 03:16:22 +0100 (CET)
Received: from mails.dpdk.org (localhost [127.0.0.1])
	by mails.dpdk.org (Postfix) with ESMTP id C6F8C43252;
	Fri, 22 Nov 2024 03:16:22 +0100 (CET)
Received: from mail-yb1-f228.google.com (mail-yb1-f228.google.com
 [209.85.219.228])
 by mails.dpdk.org (Postfix) with ESMTP id 8B82C42FA3
 for <test-report@dpdk.org>; Fri, 22 Nov 2024 03:16:20 +0100 (CET)
Received: by mail-yb1-f228.google.com with SMTP id
 3f1490d57ef6-e3889bc7ec6so1673683276.1
 for <test-report@dpdk.org>; Thu, 21 Nov 2024 18:16:20 -0800 (PST)
DKIM-Signature: v=1; a=rsa-sha256; c=relaxed/relaxed;
 d=iol.unh.edu; s=unh-iol; t=1732241780; x=1732846580; darn=dpdk.org;
 h=references:in-reply-to:cc:to:from:subject:message-id:date:from:to
 :cc:subject:date:message-id:reply-to;
 bh=U3CllJaMKKvNHB7MbS/C4qOpq8Ab1ATjPYxfm7vYY0Y=;
 b=YLNvWqVDdty1gpkBndNYbZA68TPnwOqfgnoEXARcqxj418iBw+oXXRogmIe6gsMohX
 /EdsyNVHh8WR/KrPB/ylANHmijFhTpTX2b7/iTuk2WPpaP/4uPZyg6OH3qgB59gU4JGm
 knyYUgauFSAN4KSNxidUNAg1z5zf2d4jO9qTM=
X-Google-DKIM-Signature: v=1; a=rsa-sha256; c=relaxed/relaxed;
 d=1e100.net; s=20230601; t=1732241780; x=1732846580;
 h=references:in-reply-to:cc:to:from:subject:message-id:date
 :x-gm-message-state:from:to:cc:subject:date:message-id:reply-to;
 bh=U3CllJaMKKvNHB7MbS/C4qOpq8Ab1ATjPYxfm7vYY0Y=;
 b=jr+snIEW7w+ThDctIPb8f/RM6+blcU1JEY4zwqDCTxKpjpO/7ct9KRyq7sviPtgvvZ
 A0gXsZlgMT51rIeLbrGfNhDWB1hz0F0/0dmoMkisBWqK3zN1qQlldC9vNeYgSms1EAxX
 3/n8//VLX/DqNgCQjO2LccLshlhnta6m6RzdJiH971d1OPI1JUcyM1OPFF4YYkvWlWIa
 FOIhI5bl8NLg7L6Wu84uaXqVV+1dUT3ZdFQf4dn0QvMExWSgsRLRtphUX+CdnDpZ5f2u
 U9ZAAEL2mDfnhkCzKeIOkcZIS8inzG+/7agwVGFPZyNNTM6erzA95HwQegc5c1Gv4c39
 Mdmg==
X-Gm-Message-State: AOJu0YzsYa2mWBSo6gjKzOR/JM2XerVSLN3pUp/hAZKx7BhJWOB0+hx2
 wsLNG0q6cweffqxpbXiPJGaNIcHpi2NSv5FP0txQR2GxJa/6dXHnf2zNZQTbq3YvW8b3fK4pe0w
 w2Q7r5lmsgKM2TmDokIxyffwgn8SfK5u6hyxf+RbQ/GfoXH/0OJeNeoMe
X-Gm-Gg: ASbGncu2C7hsk6jQ1399Xpyo5bFi7LtU9CAubIAkBFmpSqFXtMfz/p35Xxx2rHsZnXz
 QUyvHx/S77yEp6B3Nuu4neDhozkqbwdG6eXn621nKRJ/3Zx1+ABGoBaK4vBkF8tsoCqn27+lXK4
 U+sgnDa5PMsGp+AFrVLzWZt3PoMsP/1NZ4AuThR9pw1hP01MitaSBAmKS8EZfxSK7G40JQ0fSji
 MQ+wznpi48T82pZwN8k+wAuJciM1nTixP0GVpiSKsYPfy0PGQub8tgVh4ghXw0+/ndbqzNVr28=
X-Google-Smtp-Source: AGHT+IE2Dyb04dksHSoICkdDcbKw1DpDvlg+DYQVgVUZHa0P5rHEd1wIb36kpeeqko0nXQe8F1ey2MVGHbKh
X-Received: by 2002:a05:6902:2210:b0:e38:bf8b:e2d0 with SMTP id
 3f1490d57ef6-e38f8c237camr1300377276.46.1732241779836; 
 Thu, 21 Nov 2024 18:16:19 -0800 (PST)
Received: from postal.iol.unh.edu (postal.iol.unh.edu.
 [2606:4100:3880:1234::84]) by smtp-relay.gmail.com with ESMTPS id
 3f1490d57ef6-e38f6043c30sm46713276.16.2024.11.21.18.16.19
 (version=TLS1_2 cipher=ECDHE-ECDSA-AES128-GCM-SHA256 bits=128/128);
 Thu, 21 Nov 2024 18:16:19 -0800 (PST)
X-Relaying-Domain: iol.unh.edu
Date: Thu, 21 Nov 2024 18:16:19 -0800 (PST)
Message-ID: <673fe973.250a0220.3c1ec9.2ec7SMTPIN_ADDED_MISSING@mx.google.com>
Received: from [172.17.0.2] (unknown [172.18.0.217])
 by postal.iol.unh.edu (Postfix) with ESMTP id 7EB306052471;
 Thu, 21 Nov 2024 21:16:19 -0500 (EST)
Subject: |SUCCESS| pw148749-148766 [PATCH] [v12,21/21] hash: remove use of VL
From: dpdklab@iol.unh.edu
To: Test Report <test-report@dpdk.org>
Cc: dpdk-test-reports@iol.unh.edu
In-Reply-To: <1732225298-10322-22-git-send-email-andremue@linux.microsoft.com>
References: <1732225298-10322-22-git-send-email-andremue@linux.microsoft.com>
Content-Type: text/plain
X-BeenThere: test-report@dpdk.org
X-Mailman-Version: 2.1.29
Precedence: list
List-Id: automatic DPDK test reports <test-report.dpdk.org>
List-Unsubscribe: <https://mails.dpdk.org/options/test-report>,
 <mailto:test-report-request@dpdk.org?subject=unsubscribe>
List-Archive: <http://mails.dpdk.org/archives/test-report/>
List-Post: <mailto:test-report@dpdk.org>
List-Help: <mailto:test-report-request@dpdk.org?subject=help>
List-Subscribe: <https://mails.dpdk.org/listinfo/test-report>,
 <mailto:test-report-request@dpdk.org?subject=subscribe>
Errors-To: test-report-bounces@dpdk.org

Test-Label: iol-sample-apps-testing
Test-Status: SUCCESS
http://dpdk.org/patch/148766

_Testing PASS_

Submitter: Andre Muezerie <andremue@linux.microsoft.com>
Date: Thursday, November 21 2024 21:41:38 
DPDK git baseline: Repo:dpdk
  Branch: master
  CommitID:f4ccce58c1a33cb41e1e820da504698437987efc

148749-148766 --> testing pass

Upstream job id: ACVP-FIPS-testing#8070

Test environment and result as below:

+--------------------+----------------------+----------------------+
|    Environment     | compressdev_zlib_pmd | dpdk_fips_validation |
+====================+======================+======================+
| Ubuntu 22.04 (ARM) | PASS                 | SKIPPED              |
+--------------------+----------------------+----------------------+
| Ubuntu 22.04       | PASS                 | SKIPPED              |
+--------------------+----------------------+----------------------+
| Ubuntu 20.04       | SKIPPED              | PASS                 |
+--------------------+----------------------+----------------------+


Ubuntu 22.04 (ARM)
	Kernel: 5.15.0-97-generic
	Compiler: gcc gcc (Ubuntu 11.4.0-1ubuntu1~22.04) 11.4.0

Ubuntu 22.04
	Kernel: 5.15.0-100-generic
	Compiler: gcc gcc (Ubuntu 11.4.0-1ubuntu1~22.04) 11.4.0

Ubuntu 20.04
	Kernel: Depends on container host
	Compiler: gcc (Ubuntu 9.4.0-1ubuntu1~20.04.2) 9.4.0

To view detailed results, visit:
https://lab.dpdk.org/results/dashboard/patchsets/31992/

UNH-IOL DPDK Community Lab

To manage your email subscriptions, visit: 
https://lab.dpdk.org/results/dashboard/preferences/subscriptions/