From mboxrd@z Thu Jan  1 00:00:00 1970
Return-Path: <test-report-bounces@dpdk.org>
Received: from mails.dpdk.org (mails.dpdk.org [217.70.189.124])
	by inbox.dpdk.org (Postfix) with ESMTP id 8EAA345D66
	for <public@inbox.dpdk.org>; Fri, 22 Nov 2024 19:15:28 +0100 (CET)
Received: from mails.dpdk.org (localhost [127.0.0.1])
	by mails.dpdk.org (Postfix) with ESMTP id 8B185402C5;
	Fri, 22 Nov 2024 19:15:28 +0100 (CET)
Received: from mail-pj1-f99.google.com (mail-pj1-f99.google.com
 [209.85.216.99]) by mails.dpdk.org (Postfix) with ESMTP id 6E3854028C
 for <test-report@dpdk.org>; Fri, 22 Nov 2024 19:15:27 +0100 (CET)
Received: by mail-pj1-f99.google.com with SMTP id
 98e67ed59e1d1-2eb1433958dso744736a91.2
 for <test-report@dpdk.org>; Fri, 22 Nov 2024 10:15:27 -0800 (PST)
DKIM-Signature: v=1; a=rsa-sha256; c=relaxed/relaxed;
 d=iol.unh.edu; s=unh-iol; t=1732299326; x=1732904126; darn=dpdk.org;
 h=references:in-reply-to:cc:to:from:subject:message-id:date:from:to
 :cc:subject:date:message-id:reply-to;
 bh=XfyVarGGm7Eic3r+pRbeXEuLbnvYajnlAzr1WMZXxc8=;
 b=Fe9dtLgcZfABtjeLQtmCVhyZsS08MjMed7gb1IBaw70lhAlo2E+9irkKA6lPn/o5ES
 j4jsILDt6O5cv1GdVAjBqJ9dJc5g+63gwa1iEJyf7Bdi8OUPf43I7StoQLBAiFwGA2Re
 17E7HrIAN3hNlmoj4reN3Y+i9Kw1R+J7VIFko=
X-Google-DKIM-Signature: v=1; a=rsa-sha256; c=relaxed/relaxed;
 d=1e100.net; s=20230601; t=1732299326; x=1732904126;
 h=references:in-reply-to:cc:to:from:subject:message-id:date
 :x-gm-message-state:from:to:cc:subject:date:message-id:reply-to;
 bh=XfyVarGGm7Eic3r+pRbeXEuLbnvYajnlAzr1WMZXxc8=;
 b=q9G93lY6KFvUmCIMHEqCfLUtSi+9sw+ony3Biu0bWLxTX3GCSg9pjspXaQ+6fxiRLv
 xqqKRRihWEKy918Jz+z67vVHbkOWAN5pHRt/JaquHRqmKR+v5pBViSLWy3lcsvWds8Ts
 JI3nlLJ6b7iNiG939cg5r+9SAnbRZw1jZVvSEhZiE/ZjXAa25BfT+h0KfRt9eGeL6upL
 t/ztUz7GtfEQdPaPyPup9qfCLbKCehOp1oN/vo436H4a+PB5e0OtwWc+IEafRzjNAjvb
 gkIf2qP4dYt+jUOS+70YP8Sl4UtoCIoNocZOs726e7XKaNv9Xr/QwibXLGwXm6cMOHa0
 W7AQ==
X-Gm-Message-State: AOJu0YxsaJybHpX2kAhzpU5mosEQ9Vgj5fNMBTx66Xg5ExBKLsuNwgys
 X1PRcmvp1/LiHXBOaWkN+zwsSIfiPETxsBdTjP8huhtbNCfaWWk/ZgPqxZutbP5qG42kpFc0myl
 a7FMU68jt5MeIzA17jGNZkWzFV2l/O0St+FilvLKLrtC/vU9sCvNcmNEw
X-Gm-Gg: ASbGncsZDrQ7mQEm0EpmsZgOYHgxhb/ybr7M0EMjk+blSVSPhxL5c40miUbtUAdn6tj
 2cTYy3cv18acsu+/8dbqlyUCGza8GI/io4POrWbCrGWwWCysURy6mtYvoo7qVw1G0FABw3zKI2Z
 GDbcprhajRcvl1KAMXyX7PWOh/bSSx4eNngQjXLNV4uS6MbLvv/in5tm6cwWQ3Jle/wJ4dJ9sFm
 ItjKrc+eak4Ihh2bdGaAa2TaGhjP7P3Ksr5ctcTs/Z+NPF+Cuu3k5buQ9G7daGuDCgamIqiLTE=
X-Google-Smtp-Source: AGHT+IEMC+i8xvqD+W62mEHxWT0i6/u6N4chm7bxGcgIHdCUdlJoSH0cPVJAC/f8P5dt+BOeBzCkD7+Y/LEU
X-Received: by 2002:a17:90b:128e:b0:2ea:c096:b706 with SMTP id
 98e67ed59e1d1-2eb0e12cd4amr4252299a91.4.1732299326626; 
 Fri, 22 Nov 2024 10:15:26 -0800 (PST)
Received: from postal.iol.unh.edu (postal.iol.unh.edu.
 [2606:4100:3880:1234::84]) by smtp-relay.gmail.com with ESMTPS id
 98e67ed59e1d1-2eb0d009855sm103327a91.7.2024.11.22.10.15.26
 (version=TLS1_2 cipher=ECDHE-ECDSA-AES128-GCM-SHA256 bits=128/128);
 Fri, 22 Nov 2024 10:15:26 -0800 (PST)
X-Relaying-Domain: iol.unh.edu
Date: Fri, 22 Nov 2024 10:15:26 -0800 (PST)
Message-ID: <6740ca3e.170a0220.9e6b0.6c21SMTPIN_ADDED_MISSING@mx.google.com>
Received: from [172.21.0.5] (unknown [172.18.0.240])
 by postal.iol.unh.edu (Postfix) with ESMTP id 19FDC6052471;
 Fri, 22 Nov 2024 13:15:26 -0500 (EST)
Subject: |SUCCESS| pw148822-148823 [PATCH] [v1,2/2] net/ntnic: fix of Toeplit
From: dpdklab@iol.unh.edu
To: Test Report <test-report@dpdk.org>
Cc: dpdk-test-reports@iol.unh.edu
In-Reply-To: <20241122165023.387393-3-sil-plv@napatech.com>
References: <20241122165023.387393-3-sil-plv@napatech.com>
Content-Type: text/plain
X-BeenThere: test-report@dpdk.org
X-Mailman-Version: 2.1.29
Precedence: list
List-Id: automatic DPDK test reports <test-report.dpdk.org>
List-Unsubscribe: <https://mails.dpdk.org/options/test-report>,
 <mailto:test-report-request@dpdk.org?subject=unsubscribe>
List-Archive: <http://mails.dpdk.org/archives/test-report/>
List-Post: <mailto:test-report@dpdk.org>
List-Help: <mailto:test-report-request@dpdk.org?subject=help>
List-Subscribe: <https://mails.dpdk.org/listinfo/test-report>,
 <mailto:test-report-request@dpdk.org?subject=subscribe>
Errors-To: test-report-bounces@dpdk.org

Test-Label: iol-unit-arm64-testing
Test-Status: SUCCESS
http://dpdk.org/patch/148823

_Testing PASS_

Submitter: Serhii Iliushyk <sil-plv@napatech.com>
Date: Friday, November 22 2024 16:50:22 
DPDK git baseline: Repo:dpdk
  Branch: master
  CommitID:f4ccce58c1a33cb41e1e820da504698437987efc

148822-148823 --> testing pass

Upstream job id: Generic-Unit-Test-DPDK#294189

Test environment and result as below:

+-----------------------------+--------------+------------------------------+---------------------------+----------------+
|         Environment         | lpm_autotest | cryptodev_sw_snow3g_autotest | cryptodev_sw_zuc_autotest | dpdk_unit_test |
+=============================+==============+==============================+===========================+================+
| Ubuntu 20.04 ARM SVE        | PASS         | SKIPPED                      | SKIPPED                   | SKIPPED        |
+-----------------------------+--------------+------------------------------+---------------------------+----------------+
| Debian 12 (arm)             | SKIPPED      | PASS                         | PASS                      | PASS           |
+-----------------------------+--------------+------------------------------+---------------------------+----------------+
| CentOS Stream 9 (ARM)       | SKIPPED      | SKIPPED                      | SKIPPED                   | PASS           |
+-----------------------------+--------------+------------------------------+---------------------------+----------------+
| Fedora 39 (ARM Clang)       | SKIPPED      | SKIPPED                      | SKIPPED                   | PASS           |
+-----------------------------+--------------+------------------------------+---------------------------+----------------+
| Fedora 39 (ARM)             | SKIPPED      | SKIPPED                      | SKIPPED                   | PASS           |
+-----------------------------+--------------+------------------------------+---------------------------+----------------+
| Fedora 40 (ARM)             | SKIPPED      | SKIPPED                      | SKIPPED                   | PASS           |
+-----------------------------+--------------+------------------------------+---------------------------+----------------+
| Fedora 40 (ARM Clang)       | SKIPPED      | SKIPPED                      | SKIPPED                   | PASS           |
+-----------------------------+--------------+------------------------------+---------------------------+----------------+
| RHEL9 (ARM)                 | SKIPPED      | SKIPPED                      | SKIPPED                   | PASS           |
+-----------------------------+--------------+------------------------------+---------------------------+----------------+
| Ubuntu 20.04 (ARM)          | SKIPPED      | SKIPPED                      | SKIPPED                   | PASS           |
+-----------------------------+--------------+------------------------------+---------------------------+----------------+
| Ubuntu 22.04 (ARM)          | SKIPPED      | SKIPPED                      | SKIPPED                   | PASS           |
+-----------------------------+--------------+------------------------------+---------------------------+----------------+
| Ubuntu 24.04 (ARM)          | SKIPPED      | SKIPPED                      | SKIPPED                   | PASS           |
+-----------------------------+--------------+------------------------------+---------------------------+----------------+
| 32-bit Ubuntu 22.04.4 (ARM) | SKIPPED      | SKIPPED                      | SKIPPED                   | PASS           |
+-----------------------------+--------------+------------------------------+---------------------------+----------------+


Ubuntu 20.04 ARM SVE
	Kernel: Depends on container host
	Compiler: gcc (Ubuntu 10.5.0-1ubuntu1~20.04) 10.5.0

Debian 12 (arm)
	Kernel: Depends on container host
	Compiler: gcc (Debian 12.2.0-14) 12.2.0

CentOS Stream 9 (ARM)
	Kernel: Depends on container host
	Compiler: gcc 11.4.1 20231218 (Red Hat 11.4.1-3)

Fedora 39 (ARM Clang)
	Kernel: Depends on container host
	Compiler: clang 17.0.6 (Fedora 17.0.6-2.fc39)

Fedora 39 (ARM)
	Kernel: Depends on container host
	Compiler: gcc 13.3.1 20240522 (Red Hat 13.3.1-1)

Fedora 40 (ARM)
	Kernel: Depends on container host
	Compiler: gcc 14.2.1 20240801 (Red Hat 14.2.1-1)

Fedora 40 (ARM Clang)
	Kernel: Depends on container host
	Compiler: clang 18.1.6 (Fedora 18.1.6-3.fc40)

RHEL9 (ARM)
	Kernel: Depends on container host
	Compiler: gcc 11.4.1 20231218 (Red Hat 11.4.1-3)

Ubuntu 20.04 (ARM)
	Kernel: Depends on container host
	Compiler: gcc (Ubuntu 9.4.0-1ubuntu1~20.04.2) 9.4.0

Ubuntu 22.04 (ARM)
	Kernel: Depends on container host
	Compiler: gcc (Ubuntu 11.4.0-1ubuntu1~22.04) 11.4.0

Ubuntu 24.04 (ARM)
	Kernel: Depends on container host
	Compiler: gcc (Ubuntu 13.2.0-23ubuntu4) 13.2.0

32-bit Ubuntu 22.04.4 (ARM)
	Kernel: 5.15.83+ aarch64
	Compiler: gcc (Ubuntu 11.4.0-1ubuntu1~22.04) 11.4.0

To view detailed results, visit:
https://lab.dpdk.org/results/dashboard/patchsets/32000/

UNH-IOL DPDK Community Lab

To manage your email subscriptions, visit: 
https://lab.dpdk.org/results/dashboard/preferences/subscriptions/