From mboxrd@z Thu Jan  1 00:00:00 1970
Return-Path: <test-report-bounces@dpdk.org>
Received: from mails.dpdk.org (mails.dpdk.org [217.70.189.124])
	by inbox.dpdk.org (Postfix) with ESMTP id 6232845D9E
	for <public@inbox.dpdk.org>; Mon, 25 Nov 2024 05:41:33 +0100 (CET)
Received: from mails.dpdk.org (localhost [127.0.0.1])
	by mails.dpdk.org (Postfix) with ESMTP id 305BB4026B;
	Mon, 25 Nov 2024 05:41:33 +0100 (CET)
Received: from mail-oo1-f97.google.com (mail-oo1-f97.google.com
 [209.85.161.97]) by mails.dpdk.org (Postfix) with ESMTP id 950464021F
 for <test-report@dpdk.org>; Mon, 25 Nov 2024 05:41:32 +0100 (CET)
Received: by mail-oo1-f97.google.com with SMTP id
 006d021491bc7-5f1e7639391so161796eaf.0
 for <test-report@dpdk.org>; Sun, 24 Nov 2024 20:41:32 -0800 (PST)
DKIM-Signature: v=1; a=rsa-sha256; c=relaxed/relaxed;
 d=iol.unh.edu; s=unh-iol; t=1732509691; x=1733114491; darn=dpdk.org;
 h=references:in-reply-to:cc:to:from:subject:message-id:date:from:to
 :cc:subject:date:message-id:reply-to;
 bh=IMuAGdvSGqT9mOn1NPFIU8LBjDmOXp0OfwRA0HrbqAY=;
 b=DIkdX+tI+mM/N64YuCRB6VF3q4D9/aB1JQi+c4pNOPLUMWBdg/Ntjn5DvyEoiL9dVz
 Qt9Vgix3NUWJe+MG2XoZg0QYlZXBy+6psIHv4NSJKbGzRLGwAt0+QNI+lXfRnRe3oa7A
 IAfCnB5TCw9VPq+yK3S2E0RYYVO2xCg4Ww8hA=
X-Google-DKIM-Signature: v=1; a=rsa-sha256; c=relaxed/relaxed;
 d=1e100.net; s=20230601; t=1732509691; x=1733114491;
 h=references:in-reply-to:cc:to:from:subject:message-id:date
 :x-gm-message-state:from:to:cc:subject:date:message-id:reply-to;
 bh=IMuAGdvSGqT9mOn1NPFIU8LBjDmOXp0OfwRA0HrbqAY=;
 b=Ms3F5EUUCPCzIxtSKG/dXn1wBb7oxkDk/TpYzfaJVfuiBJuCwPBgWbv2EoMQx0LwBo
 WGsztQPw36Gz1eAKiCduAowH2/LyUf+aNwGvF9dqeRguCb1ZnnEEKbm7cjPlVAlhu26s
 1S04IDALO65eE5Tdlgfe9TMisHQKNH0c5NO26ejzBELmQT0Lc9uvvuX71uomPMhVdkp/
 qCheTWmB3dq6ZeTZNDaM4ZB47h289Yfh8jVxcN/B11xRGpcGp0y562AZHQKgkqvFjUih
 6bwSA3zJzixmGymnijE+x1F5cB2Nj1Bs02vitZ5ideK9MOu5Iuj42c52hvFJcucbslH4
 lHzg==
X-Gm-Message-State: AOJu0YxpjN7rO4kgZa4/fV9HL1+12eWOn03bdVxBiYGFbJxWzb55x9Th
 TB/Ll4f32n7WmJAL9HgefEx4ND2B44DM7g+V4OL/DlyRtzcIb8J59SiVDlEAE9JdC3VevHHhhWA
 y6QYe46O8HG9RqnJDX/Hr/R3r/3McDw+eI7TeNhHe
X-Gm-Gg: ASbGncuUBA6E1LDq9BfHhSSZEpykoeJY/IjITRyYY7E/IAQYUBPfkSp49fH8NpVZjYo
 zIV/gM4fmJ0/TV/Lgkkh4y5Bh0rrKDWHtnENbwqzIh3eEXjtyu059lsqBF7/Kn3e/rjQgtpa98Y
 yPizlB49XAFFa14NRlMy9zSdtru6KJ5G1wVS1eeU/FOh8kWeS1TRjAJLOP9AV//GwKWSVSUHCLD
 WJVvsi2s6A+cG8Kyu5cqB6PRu6LCiw+a0MU54uARmv+Onz5Xf4UtS+WSroBgsSbw0HA82o=
X-Google-Smtp-Source: AGHT+IFjZ1mUVkGu4mzcUrNl1Z4zdOpxD/2z6ALNamwOtbz9XgYWft/KOGVNjnHxzpBJJyscQfZ6OmErM/m3
X-Received: by 2002:a05:6820:1628:b0:5ee:ebcb:e701 with SMTP id
 006d021491bc7-5f06a9ee8damr8793955eaf.6.1732509691698; 
 Sun, 24 Nov 2024 20:41:31 -0800 (PST)
Received: from postal.iol.unh.edu (postal.iol.unh.edu. [132.177.123.84])
 by smtp-relay.gmail.com with ESMTPS id
 006d021491bc7-5f06979bfe7sm250207eaf.14.2024.11.24.20.41.31
 (version=TLS1_2 cipher=ECDHE-ECDSA-AES128-GCM-SHA256 bits=128/128);
 Sun, 24 Nov 2024 20:41:31 -0800 (PST)
X-Relaying-Domain: iol.unh.edu
Date: Sun, 24 Nov 2024 20:41:31 -0800 (PST)
Message-ID: <6743fffb.4a0a0220.1631a1.0700SMTPIN_ADDED_MISSING@mx.google.com>
Received: from [172.17.0.2] (unknown [172.18.0.217])
 by postal.iol.unh.edu (Postfix) with ESMTP id CC2246052471;
 Sun, 24 Nov 2024 23:41:30 -0500 (EST)
Subject: |SUCCESS| pw148827 [PATCH] vhost: clear ring addresses when getting 
From: dpdklab@iol.unh.edu
To: Test Report <test-report@dpdk.org>
Cc: dpdk-test-reports@iol.unh.edu
In-Reply-To: <20241125031946.2102069-1-zhao305149619@gmail.com>
References: <20241125031946.2102069-1-zhao305149619@gmail.com>
Content-Type: text/plain
X-BeenThere: test-report@dpdk.org
X-Mailman-Version: 2.1.29
Precedence: list
List-Id: automatic DPDK test reports <test-report.dpdk.org>
List-Unsubscribe: <https://mails.dpdk.org/options/test-report>,
 <mailto:test-report-request@dpdk.org?subject=unsubscribe>
List-Archive: <http://mails.dpdk.org/archives/test-report/>
List-Post: <mailto:test-report@dpdk.org>
List-Help: <mailto:test-report-request@dpdk.org?subject=help>
List-Subscribe: <https://mails.dpdk.org/listinfo/test-report>,
 <mailto:test-report-request@dpdk.org?subject=subscribe>
Errors-To: test-report-bounces@dpdk.org

Test-Label: iol-unit-arm64-testing
Test-Status: SUCCESS
http://dpdk.org/patch/148827

_Testing PASS_

Submitter: Jianping Zhao <zhao305149619@gmail.com>
Date: Monday, November 25 2024 03:19:46 
DPDK git baseline: Repo:dpdk
  Branch: master
  CommitID:07e3bebf3c93750c52ed9be87edd212fbc22da0a

148827 --> testing pass

Upstream job id: Generic-Unit-Test-DPDK#294425

Test environment and result as below:

+-----------------------------+------------------------------+--------------+---------------------------+----------------+
|         Environment         | cryptodev_sw_snow3g_autotest | lpm_autotest | cryptodev_sw_zuc_autotest | dpdk_unit_test |
+=============================+==============================+==============+===========================+================+
| Debian 12 (arm)             | PASS                         | SKIPPED      | PASS                      | PASS           |
+-----------------------------+------------------------------+--------------+---------------------------+----------------+
| Ubuntu 20.04 ARM SVE        | SKIPPED                      | PASS         | SKIPPED                   | SKIPPED        |
+-----------------------------+------------------------------+--------------+---------------------------+----------------+
| Fedora 39 (ARM)             | SKIPPED                      | SKIPPED      | SKIPPED                   | PASS           |
+-----------------------------+------------------------------+--------------+---------------------------+----------------+
| CentOS Stream 9 (ARM)       | SKIPPED                      | SKIPPED      | SKIPPED                   | PASS           |
+-----------------------------+------------------------------+--------------+---------------------------+----------------+
| Fedora 40 (ARM)             | SKIPPED                      | SKIPPED      | SKIPPED                   | PASS           |
+-----------------------------+------------------------------+--------------+---------------------------+----------------+
| Fedora 40 (ARM Clang)       | SKIPPED                      | SKIPPED      | SKIPPED                   | PASS           |
+-----------------------------+------------------------------+--------------+---------------------------+----------------+
| Fedora 39 (ARM Clang)       | SKIPPED                      | SKIPPED      | SKIPPED                   | PASS           |
+-----------------------------+------------------------------+--------------+---------------------------+----------------+
| Ubuntu 20.04 (ARM)          | SKIPPED                      | SKIPPED      | SKIPPED                   | PASS           |
+-----------------------------+------------------------------+--------------+---------------------------+----------------+
| Ubuntu 24.04 (ARM)          | SKIPPED                      | SKIPPED      | SKIPPED                   | PASS           |
+-----------------------------+------------------------------+--------------+---------------------------+----------------+
| Ubuntu 22.04 (ARM)          | SKIPPED                      | SKIPPED      | SKIPPED                   | PASS           |
+-----------------------------+------------------------------+--------------+---------------------------+----------------+
| RHEL9 (ARM)                 | SKIPPED                      | SKIPPED      | SKIPPED                   | PASS           |
+-----------------------------+------------------------------+--------------+---------------------------+----------------+
| 32-bit Ubuntu 22.04.4 (ARM) | SKIPPED                      | SKIPPED      | SKIPPED                   | PASS           |
+-----------------------------+------------------------------+--------------+---------------------------+----------------+


Debian 12 (arm)
	Kernel: Depends on container host
	Compiler: gcc (Debian 12.2.0-14) 12.2.0

Ubuntu 20.04 ARM SVE
	Kernel: Depends on container host
	Compiler: gcc (Ubuntu 10.5.0-1ubuntu1~20.04) 10.5.0

Fedora 39 (ARM)
	Kernel: Depends on container host
	Compiler: gcc 13.3.1 20240522 (Red Hat 13.3.1-1)

CentOS Stream 9 (ARM)
	Kernel: Depends on container host
	Compiler: gcc 11.4.1 20231218 (Red Hat 11.4.1-3)

Fedora 40 (ARM)
	Kernel: Depends on container host
	Compiler: gcc 14.2.1 20240801 (Red Hat 14.2.1-1)

Fedora 40 (ARM Clang)
	Kernel: Depends on container host
	Compiler: clang 18.1.6 (Fedora 18.1.6-3.fc40)

Fedora 39 (ARM Clang)
	Kernel: Depends on container host
	Compiler: clang 17.0.6 (Fedora 17.0.6-2.fc39)

Ubuntu 20.04 (ARM)
	Kernel: Depends on container host
	Compiler: gcc (Ubuntu 9.4.0-1ubuntu1~20.04.2) 9.4.0

Ubuntu 24.04 (ARM)
	Kernel: Depends on container host
	Compiler: gcc (Ubuntu 13.2.0-23ubuntu4) 13.2.0

Ubuntu 22.04 (ARM)
	Kernel: Depends on container host
	Compiler: gcc (Ubuntu 11.4.0-1ubuntu1~22.04) 11.4.0

RHEL9 (ARM)
	Kernel: Depends on container host
	Compiler: gcc 11.4.1 20231218 (Red Hat 11.4.1-3)

32-bit Ubuntu 22.04.4 (ARM)
	Kernel: 5.15.83+ aarch64
	Compiler: gcc (Ubuntu 11.4.0-1ubuntu1~22.04) 11.4.0

To view detailed results, visit:
https://lab.dpdk.org/results/dashboard/patchsets/32003/

UNH-IOL DPDK Community Lab

To manage your email subscriptions, visit: 
https://lab.dpdk.org/results/dashboard/preferences/subscriptions/