From mboxrd@z Thu Jan  1 00:00:00 1970
Return-Path: <test-report-bounces@dpdk.org>
Received: from mails.dpdk.org (mails.dpdk.org [217.70.189.124])
	by inbox.dpdk.org (Postfix) with ESMTP id 1736245D5C
	for <public@inbox.dpdk.org>; Mon, 25 Nov 2024 15:18:13 +0100 (CET)
Received: from mails.dpdk.org (localhost [127.0.0.1])
	by mails.dpdk.org (Postfix) with ESMTP id 12545402C9;
	Mon, 25 Nov 2024 15:18:13 +0100 (CET)
Received: from mail-il1-f228.google.com (mail-il1-f228.google.com
 [209.85.166.228])
 by mails.dpdk.org (Postfix) with ESMTP id CD21C402B5
 for <test-report@dpdk.org>; Mon, 25 Nov 2024 15:18:11 +0100 (CET)
Received: by mail-il1-f228.google.com with SMTP id
 e9e14a558f8ab-3a7685abbc4so18124955ab.2
 for <test-report@dpdk.org>; Mon, 25 Nov 2024 06:18:11 -0800 (PST)
DKIM-Signature: v=1; a=rsa-sha256; c=relaxed/relaxed;
 d=iol.unh.edu; s=unh-iol; t=1732544291; x=1733149091; darn=dpdk.org;
 h=references:in-reply-to:cc:to:from:subject:message-id:date:from:to
 :cc:subject:date:message-id:reply-to;
 bh=E/qBnLMrwB+9wqwotCupU6z/puguwkHAkNbDc6d8Fp4=;
 b=R3wpSCy4e/MN+nRfHoZKpc0oejjxCxGx4Bf/10bjxL6Oc9UFoQG4UK2WFMcXKz2kos
 15NAwyX63uLY+v+6+U079JPxwE2ogDJvngyOaW3k7Hg288/hqWI5j1F7je9eTmKgOriZ
 CUyyuj6y/H3H5lInIv+etySRfbUcIm6/p88+4=
X-Google-DKIM-Signature: v=1; a=rsa-sha256; c=relaxed/relaxed;
 d=1e100.net; s=20230601; t=1732544291; x=1733149091;
 h=references:in-reply-to:cc:to:from:subject:message-id:date
 :x-gm-message-state:from:to:cc:subject:date:message-id:reply-to;
 bh=E/qBnLMrwB+9wqwotCupU6z/puguwkHAkNbDc6d8Fp4=;
 b=l1QgMSqvHrccc3/ClBKVfA7V17G/3pM026u45/7UnBPeQT10Y6V89pm/rB+QH+tRmX
 +nqmtJOQHkxbjcymErVY7m5SYgxGNqyTr2gr+xladySTTYXvc+JMXoVX9fnO2H0cafHr
 /aUQ/5G24BZTTYdPonkoqFxRcJWXLgrPTZoQC2gasSVfsrluYjuHZ9sNmkng5kSAgg7A
 2Fo2ZsoVsYyP6h0E85ifHWjxh4qc9FbwbBPCCGkuuSGt3uNTkqOAH12iUlaVkaoXXFai
 2E70XKBs9yfzDBEYgbGwvYvqQD4pT9eX13jJGev5jV4QPeW/9cLXyQtBXSq7zYt1OOEW
 SWQw==
X-Gm-Message-State: AOJu0YwRHEZxS2w+5d3/7N2tLi76AnYVR1kphh3nLlNBdvjRmGpr+kcf
 AuUIdG2VQfWsJZbLH9UjgR0C6QprOwAX9cXYUqRtq/6ASI1Jd45LQgf3DOq4E68EiYegSt2sXMG
 VIS/kIsVdVL9d/XVCW+gyysvMj+HyyDrk1u0ZyUsqdGGCsXMdVszsPZZL
X-Gm-Gg: ASbGnctCXXjWtQn4+ph+hTB3qDrYokV8QX0AJK2ufSjPQDvWn1UfIpyfsXkeqcwJheo
 pa4qCoP+2q2JKFXmBalHWcXKxR1zheqwV5iLioqw8AJV1UNoWh7c7R5UcEHWMrMdcqIgiz+RWRS
 qlAgM00dnQw9Y7/9iLWLIbPpydpVAmjITlgROymBxzZV0zv+0VM/35pTaQEJq8LWbSDc3Drakfi
 IsXujlyttiqJOP3R/V/9kNi+8KFuo8Y8Pbl6T3EatGZKU0exlQrxSfVZ1BZK+QwoAFRipW9oDE=
X-Google-Smtp-Source: AGHT+IHg7loUCqMambSQun0p60H+3cfu2uWdprcpoe2sBlGyN9Z1EXnXzs1rcFmObukqDdjOQ9xJW/6kvp6T
X-Received: by 2002:a05:6e02:164d:b0:3a6:bd97:96bf with SMTP id
 e9e14a558f8ab-3a79afdaf24mr135968575ab.24.1732544291047; 
 Mon, 25 Nov 2024 06:18:11 -0800 (PST)
Received: from postal.iol.unh.edu (postal.iol.unh.edu.
 [2606:4100:3880:1234::84]) by smtp-relay.gmail.com with ESMTPS id
 e9e14a558f8ab-3a79abbe986sm3344515ab.24.2024.11.25.06.18.10
 (version=TLS1_2 cipher=ECDHE-ECDSA-AES128-GCM-SHA256 bits=128/128);
 Mon, 25 Nov 2024 06:18:11 -0800 (PST)
X-Relaying-Domain: iol.unh.edu
Date: Mon, 25 Nov 2024 06:18:11 -0800 (PST)
Message-ID: <67448723.050a0220.1021a9.7677SMTPIN_ADDED_MISSING@mx.google.com>
Received: from [172.17.0.3] (unknown [172.18.0.217])
 by postal.iol.unh.edu (Postfix) with ESMTP id 746E26052471;
 Mon, 25 Nov 2024 09:18:10 -0500 (EST)
Subject: |SUCCESS| pw148833 [PATCH] [v3] vhost/user: clear ring addresses whe
From: dpdklab@iol.unh.edu
To: Test Report <test-report@dpdk.org>
Cc: dpdk-test-reports@iol.unh.edu
In-Reply-To: <20241125034550.2112273-1-zhao305149619@gmail.com>
References: <20241125034550.2112273-1-zhao305149619@gmail.com>
Content-Type: text/plain
X-BeenThere: test-report@dpdk.org
X-Mailman-Version: 2.1.29
Precedence: list
List-Id: automatic DPDK test reports <test-report.dpdk.org>
List-Unsubscribe: <https://mails.dpdk.org/options/test-report>,
 <mailto:test-report-request@dpdk.org?subject=unsubscribe>
List-Archive: <http://mails.dpdk.org/archives/test-report/>
List-Post: <mailto:test-report@dpdk.org>
List-Help: <mailto:test-report-request@dpdk.org?subject=help>
List-Subscribe: <https://mails.dpdk.org/listinfo/test-report>,
 <mailto:test-report-request@dpdk.org?subject=subscribe>
Errors-To: test-report-bounces@dpdk.org

Test-Label: iol-compile-amd64-testing
Test-Status: SUCCESS
http://dpdk.org/patch/148833

_Testing PASS_

Submitter: Jianping Zhao <zhao305149619@gmail.com>
Date: Monday, November 25 2024 03:45:50 
DPDK git baseline: Repo:dpdk
  Branch: master
  CommitID:07e3bebf3c93750c52ed9be87edd212fbc22da0a

148833 --> testing pass

Upstream job id: Generic-DPDK-Compile-Meson#337462

Test environment and result as below:

+---------------------+--------------------+------------------+-------------------+-------------------+
|     Environment     | dpdk_meson_compile | dpdk_compile_ovs | dpdk_compile_spdk | dpdk_msvc_compile |
+=====================+====================+==================+===================+===================+
| CentOS Stream 9     | PASS               | PASS             | PASS              | SKIPPED           |
+---------------------+--------------------+------------------+-------------------+-------------------+
| Debian 12           | PASS               | PASS             | PASS              | SKIPPED           |
+---------------------+--------------------+------------------+-------------------+-------------------+
| Fedora 39 (Clang)   | PASS               | PASS             | PASS              | SKIPPED           |
+---------------------+--------------------+------------------+-------------------+-------------------+
| Fedora 39           | PASS               | PASS             | PASS              | SKIPPED           |
+---------------------+--------------------+------------------+-------------------+-------------------+
| Fedora 40 (Clang)   | PASS               | PASS             | PASS              | SKIPPED           |
+---------------------+--------------------+------------------+-------------------+-------------------+
| Fedora 40           | PASS               | PASS             | PASS              | SKIPPED           |
+---------------------+--------------------+------------------+-------------------+-------------------+
| openSUSE Leap 15    | PASS               | PASS             | SKIPPED           | SKIPPED           |
+---------------------+--------------------+------------------+-------------------+-------------------+
| RHEL8               | PASS               | PASS             | SKIPPED           | SKIPPED           |
+---------------------+--------------------+------------------+-------------------+-------------------+
| Ubuntu 20.04        | PASS               | PASS             | SKIPPED           | SKIPPED           |
+---------------------+--------------------+------------------+-------------------+-------------------+
| RHEL9               | PASS               | PASS             | SKIPPED           | SKIPPED           |
+---------------------+--------------------+------------------+-------------------+-------------------+
| Ubuntu 24.04        | PASS               | PASS             | PASS              | SKIPPED           |
+---------------------+--------------------+------------------+-------------------+-------------------+
| Alpine              | PASS               | PASS             | SKIPPED           | SKIPPED           |
+---------------------+--------------------+------------------+-------------------+-------------------+
| FreeBSD 13.4        | PASS               | SKIPPED          | SKIPPED           | SKIPPED           |
+---------------------+--------------------+------------------+-------------------+-------------------+
| FreeBSD 14.1        | PASS               | SKIPPED          | SKIPPED           | SKIPPED           |
+---------------------+--------------------+------------------+-------------------+-------------------+
| Ubuntu 22.04        | PASS               | PASS             | PASS              | SKIPPED           |
+---------------------+--------------------+------------------+-------------------+-------------------+
| Windows Server 2022 | SKIPPED            | SKIPPED          | SKIPPED           | PASS              |
+---------------------+--------------------+------------------+-------------------+-------------------+


CentOS Stream 9
	Kernel: Depends on container host
	Compiler: gcc 11.4.1 20231218 (Red Hat 11.4.1-3)

Debian 12
	Kernel: Depends on container host
	Compiler: gcc (Debian 12.2.0-14) 12.2.0

Fedora 39 (Clang)
	Kernel: Depends on container host
	Compiler: clang 17.0.6 (Fedora 17.0.6-2.fc39)

Fedora 39
	Kernel: Depends on container host
	Compiler: gcc 13.3.1 20240522 (Red Hat 13.3.1-1)

Fedora 40 (Clang)
	Kernel: Depends on container host
	Compiler: clang 18.1.6 (Fedora 18.1.6-3.fc40)

Fedora 40
	Kernel: Depends on container host
	Compiler: gcc 14.2.1 20240801 (Red Hat 14.2.1-1)

openSUSE Leap 15
	Kernel: Depends on container host
	Compiler: gcc (SUSE Linux) 7.5.0

RHEL8
	Kernel: Depends on container host
	Compiler: gcc 8.5.0 20210514 (Red Hat 8.5.0-22)

Ubuntu 20.04
	Kernel: Depends on container host
	Compiler: gcc (Ubuntu 9.4.0-1ubuntu1~20.04.2) 9.4.0

RHEL9
	Kernel: Depends on container host
	Compiler: gcc 11.4.1 20231218 (Red Hat 11.4.1-3)

Ubuntu 24.04
	Kernel: Depends on container host
	Compiler: gcc (Ubuntu 13.2.0-23ubuntu4) 13.2.0

Alpine
	Kernel: Depends on container host
	Compiler: gcc (Alpine 13.2.1_git20240309) 13.2.1 20240309

FreeBSD 13.4
	Kernel: 13.4-RELEASE-p1
	Compiler: clang 18.1.6

FreeBSD 14.1
	Kernel: 14.1-RELEASE-p3
	Compiler: clang 18.1.5

Ubuntu 22.04
	Kernel: Depends on container host
	Compiler: gcc (Ubuntu 11.4.0-1ubuntu1~22.04) 11.4.0

Windows Server 2022
	Kernel: 10.0.20348.2031
	Compiler: clang 15.0.7, gcc 14.1.0 (MinGW), and MSVC VS 19.39.33521

To view detailed results, visit:
https://lab.dpdk.org/results/dashboard/patchsets/32009/

UNH-IOL DPDK Community Lab

To manage your email subscriptions, visit: 
https://lab.dpdk.org/results/dashboard/preferences/subscriptions/