From mboxrd@z Thu Jan  1 00:00:00 1970
Return-Path: <test-report-bounces@dpdk.org>
Received: from mails.dpdk.org (mails.dpdk.org [217.70.189.124])
	by inbox.dpdk.org (Postfix) with ESMTP id CFDDA45DA5
	for <public@inbox.dpdk.org>; Mon, 25 Nov 2024 19:25:15 +0100 (CET)
Received: from mails.dpdk.org (localhost [127.0.0.1])
	by mails.dpdk.org (Postfix) with ESMTP id CA52440A72;
	Mon, 25 Nov 2024 19:25:15 +0100 (CET)
Received: from mail-pj1-f100.google.com (mail-pj1-f100.google.com
 [209.85.216.100])
 by mails.dpdk.org (Postfix) with ESMTP id B4BEA4021E
 for <test-report@dpdk.org>; Mon, 25 Nov 2024 19:25:14 +0100 (CET)
Received: by mail-pj1-f100.google.com with SMTP id
 98e67ed59e1d1-2ea2bf25dc8so4039569a91.0
 for <test-report@dpdk.org>; Mon, 25 Nov 2024 10:25:14 -0800 (PST)
DKIM-Signature: v=1; a=rsa-sha256; c=relaxed/relaxed;
 d=iol.unh.edu; s=unh-iol; t=1732559114; x=1733163914; darn=dpdk.org;
 h=references:in-reply-to:cc:to:from:subject:message-id:date:from:to
 :cc:subject:date:message-id:reply-to;
 bh=xMkqoIiADR4s4baveiyrvpPFy2g1FqDP/wEkr7U/E8E=;
 b=I7ZPF7OqKxHqrNnSdR7ehgv8IchSkSTkNMmjEvveGsMHYDQvMdpTsKh2MpeCT+63Cj
 +Bge2U8J3jk+/LxY5kV6MrwyRqZq9sRbfszUEtZpLZckO0kyjUhELnw8xl1AW8RF7P+i
 Q91WvBcW1TeDIOeFeSw6JrZrUH3mL7R7TstME=
X-Google-DKIM-Signature: v=1; a=rsa-sha256; c=relaxed/relaxed;
 d=1e100.net; s=20230601; t=1732559114; x=1733163914;
 h=references:in-reply-to:cc:to:from:subject:message-id:date
 :x-gm-message-state:from:to:cc:subject:date:message-id:reply-to;
 bh=xMkqoIiADR4s4baveiyrvpPFy2g1FqDP/wEkr7U/E8E=;
 b=MTdDSJU2lU71e5FaGgAJUBwC8X4UP+eowKm9aNEeHndDY5jW9pMjmkpkLzDKk4FQxv
 zQox9yPHrgEuyxcJYuXCdJzecxVDhjjAQy0tM0JtaLGoonmqqE3HiA9zk2+kjM91nW3+
 Mrfo5Cne2ZsTYTOpfFJB+/knrIYmuGgRmByU9+hyg+6ViNIiN7BYa0VjqA3npzWO13GR
 tChPzYpckxO8Yd/tXyZ/eediKw4uG/81eUJ3hD/0A8CTROeB83nUIZv4jTnjwLEWDmin
 rYDd3rau3YD7Ys2v7hT1LRvn5VnlnJoxan9T7ouog83amBP6Gp6a6U5YsIwlW83GF8Iu
 b+Hg==
X-Gm-Message-State: AOJu0Yws0LqxXYnW+3RARpiroAYDMcoTiuy4CuG9jtcNubOF0M4FzToj
 OjedjovHhNwvHCVlKJ0RBNuoOFJZQwQmeY+FIokjcVJ/MaJnR0tlS/Q/N0VmCj6HpkjXJLc+kgC
 670AS7zBqF+X5Jgxfib/trw4wwdAibobJr1POEQU4hmGbO1IkM3stG1DD
X-Gm-Gg: ASbGncub0ZDaXg4mkDo9ok6i3hvTio9OXx2LGTTqK9LPMwUksNS6+mK/HBtBIE+Y13d
 e5MBJVLV5XrkxLWsmQCaMMHGScO/qRY2tIOhd3SP7SeFAQpBASF2nDzKMPRy31arrcY8udfmOYS
 SLWq5bggiXaP4ffANgFnpc1gYUFx5oA6Om+s2DxT/blryvVA+Dsc4OWUOJvw9IdT1E45IJtJLv4
 XcFfoPpvmM3x2RPjx5DOou9lpvCeYXkFjGfmQOXMH09faWtmea46zyCtm+c6E6D8jr8ukVj6Ms=
X-Google-Smtp-Source: AGHT+IHz29NLZjtZqu9MNaE8z0TCon3MwOB9i7hu83eZ8sRi7AuUFKpCXkiPGVEkz91PCu+uEhB4l6OZ0e60
X-Received: by 2002:a17:90a:d44f:b0:2ea:9bc3:7ead with SMTP id
 98e67ed59e1d1-2eb0e528354mr17168546a91.18.1732559113893; 
 Mon, 25 Nov 2024 10:25:13 -0800 (PST)
Received: from postal.iol.unh.edu (postal.iol.unh.edu.
 [2606:4100:3880:1234::84]) by smtp-relay.gmail.com with ESMTPS id
 98e67ed59e1d1-2ead051bfd0sm630978a91.15.2024.11.25.10.25.13
 (version=TLS1_2 cipher=ECDHE-ECDSA-AES128-GCM-SHA256 bits=128/128);
 Mon, 25 Nov 2024 10:25:13 -0800 (PST)
X-Relaying-Domain: iol.unh.edu
Date: Mon, 25 Nov 2024 10:25:13 -0800 (PST)
Message-ID: <6744c109.170a0220.148bc9.96b2SMTPIN_ADDED_MISSING@mx.google.com>
Received: from [172.17.0.5] (unknown [172.18.0.217])
 by postal.iol.unh.edu (Postfix) with ESMTP id 561B66052471;
 Mon, 25 Nov 2024 13:25:13 -0500 (EST)
Subject: |SUCCESS| pw148832 [PATCH] [v2] vhost/user: clear ring addresses whe
From: dpdklab@iol.unh.edu
To: Test Report <test-report@dpdk.org>
Cc: dpdk-test-reports@iol.unh.edu
In-Reply-To: <20241125034235.2110875-1-zhao305149619@gmail.com>
References: <20241125034235.2110875-1-zhao305149619@gmail.com>
Content-Type: text/plain
X-BeenThere: test-report@dpdk.org
X-Mailman-Version: 2.1.29
Precedence: list
List-Id: automatic DPDK test reports <test-report.dpdk.org>
List-Unsubscribe: <https://mails.dpdk.org/options/test-report>,
 <mailto:test-report-request@dpdk.org?subject=unsubscribe>
List-Archive: <http://mails.dpdk.org/archives/test-report/>
List-Post: <mailto:test-report@dpdk.org>
List-Help: <mailto:test-report-request@dpdk.org?subject=help>
List-Subscribe: <https://mails.dpdk.org/listinfo/test-report>,
 <mailto:test-report-request@dpdk.org?subject=subscribe>
Errors-To: test-report-bounces@dpdk.org

Test-Label: iol-unit-amd64-testing
Test-Status: SUCCESS
http://dpdk.org/patch/148832

_Testing PASS_

Submitter: Jianping Zhao <zhao305149619@gmail.com>
Date: Monday, November 25 2024 03:42:35 
DPDK git baseline: Repo:dpdk
  Branch: master
  CommitID:07e3bebf3c93750c52ed9be87edd212fbc22da0a

148832 --> testing pass

Upstream job id: Generic-VM-Unit-Test-DPDK#26382

Test environment and result as below:

+---------------------+----------------+
|     Environment     | dpdk_unit_test |
+=====================+================+
| Debian 12           | PASS           |
+---------------------+----------------+
| Fedora 39 (Clang)   | PASS           |
+---------------------+----------------+
| CentOS Stream 9     | PASS           |
+---------------------+----------------+
| Fedora 39           | PASS           |
+---------------------+----------------+
| RHEL8               | PASS           |
+---------------------+----------------+
| RHEL9               | PASS           |
+---------------------+----------------+
| Fedora 40 (Clang)   | PASS           |
+---------------------+----------------+
| Ubuntu 24.04        | PASS           |
+---------------------+----------------+
| Ubuntu 20.04        | PASS           |
+---------------------+----------------+
| Ubuntu 22.04        | PASS           |
+---------------------+----------------+
| Fedora 40           | PASS           |
+---------------------+----------------+
| Windows Server 2022 | PASS           |
+---------------------+----------------+


Debian 12
	Kernel: Depends on container host
	Compiler: gcc (Debian 12.2.0-14) 12.2.0

Fedora 39 (Clang)
	Kernel: Depends on container host
	Compiler: clang 17.0.6 (Fedora 17.0.6-2.fc39)

CentOS Stream 9
	Kernel: Depends on container host
	Compiler: gcc 11.4.1 20231218 (Red Hat 11.4.1-3)

Fedora 39
	Kernel: Depends on container host
	Compiler: gcc 13.3.1 20240522 (Red Hat 13.3.1-1)

RHEL8
	Kernel: Depends on container host
	Compiler: gcc 8.5.0 20210514 (Red Hat 8.5.0-22)

RHEL9
	Kernel: Depends on container host
	Compiler: gcc 11.4.1 20231218 (Red Hat 11.4.1-3)

Fedora 40 (Clang)
	Kernel: Depends on container host
	Compiler: clang 18.1.6 (Fedora 18.1.6-3.fc40)

Ubuntu 24.04
	Kernel: Depends on container host
	Compiler: gcc (Ubuntu 13.2.0-23ubuntu4) 13.2.0

Ubuntu 20.04
	Kernel: Depends on container host
	Compiler: gcc (Ubuntu 9.4.0-1ubuntu1~20.04.2) 9.4.0

Ubuntu 22.04
	Kernel: Depends on container host
	Compiler: gcc (Ubuntu 11.4.0-1ubuntu1~22.04) 11.4.0

Fedora 40
	Kernel: Depends on container host
	Compiler: gcc 14.2.1 20240801 (Red Hat 14.2.1-1)

Windows Server 2022
	Kernel: 10.0.20348.2031
	Compiler: clang 15.0.7, gcc 14.1.0 (MinGW), and MSVC VS 19.39.33521

To view detailed results, visit:
https://lab.dpdk.org/results/dashboard/patchsets/32008/

UNH-IOL DPDK Community Lab

To manage your email subscriptions, visit: 
https://lab.dpdk.org/results/dashboard/preferences/subscriptions/