From mboxrd@z Thu Jan  1 00:00:00 1970
Return-Path: <test-report-bounces@dpdk.org>
Received: from mails.dpdk.org (mails.dpdk.org [217.70.189.124])
	by inbox.dpdk.org (Postfix) with ESMTP id 5CFF345DA7
	for <public@inbox.dpdk.org>; Mon, 25 Nov 2024 22:51:05 +0100 (CET)
Received: from mails.dpdk.org (localhost [127.0.0.1])
	by mails.dpdk.org (Postfix) with ESMTP id 4EFEE4025F;
	Mon, 25 Nov 2024 22:51:05 +0100 (CET)
Received: from mail-io1-f98.google.com (mail-io1-f98.google.com
 [209.85.166.98]) by mails.dpdk.org (Postfix) with ESMTP id 98622400EF
 for <test-report@dpdk.org>; Mon, 25 Nov 2024 22:51:04 +0100 (CET)
Received: by mail-io1-f98.google.com with SMTP id
 ca18e2360f4ac-84194e90c0fso59414139f.2
 for <test-report@dpdk.org>; Mon, 25 Nov 2024 13:51:04 -0800 (PST)
DKIM-Signature: v=1; a=rsa-sha256; c=relaxed/relaxed;
 d=iol.unh.edu; s=unh-iol; t=1732571464; x=1733176264; darn=dpdk.org;
 h=references:in-reply-to:cc:to:from:subject:message-id:date:from:to
 :cc:subject:date:message-id:reply-to;
 bh=V6W038Bnr1JZ969MOIYpK+DV9v07eOQFo/ulyrWMPfg=;
 b=OvMW87NdtFnD5Ey/YWJ6v7ixqLlkOwxmVVAUrUqRCb0JZh3IU+Ts+On6bqakJi68xH
 xgMY0/MI/PH1bmwZgUwhZz5a8DMpwfglHXm8ikhCCW6tjh8cbO9ujS+0EtwiQkhEgWe8
 4RsXAYZ2smqZMN882UZHYqqG78O/vig6fDM0g=
X-Google-DKIM-Signature: v=1; a=rsa-sha256; c=relaxed/relaxed;
 d=1e100.net; s=20230601; t=1732571464; x=1733176264;
 h=references:in-reply-to:cc:to:from:subject:message-id:date
 :x-gm-message-state:from:to:cc:subject:date:message-id:reply-to;
 bh=V6W038Bnr1JZ969MOIYpK+DV9v07eOQFo/ulyrWMPfg=;
 b=WzbDn1llaYMOYTxgb1jYg9nhFCBhIfGdC7rYmyf/4tPvn1N+d3OCWe4Q4VNYYOyvNv
 OGdqfrQXhL5g9M7H/jvfySaaECO98RZP2wNkyU12buAsEOTJz9TgGYw0bAIKMeaQYZxZ
 a6X0GOTY747oVLtvyF3kuen6ICwsT6+DAZAz6THLm4q5Zpnumetp8U76NIj5G6h3p++i
 t1od2PhP27Nhaxd9HmgwKj7bUcIHvH4StgE/J4+ZrkzZzE4VB5U2I+RrYdQUA+5ZVhe8
 r8XKxHg/9yw6KYEWLfoueswR8VD/13GSXwvBCTB2N6E4qPxzOL+pMSuhi2WF/cWldo5E
 FdQg==
X-Gm-Message-State: AOJu0Yy0B/lrpTgTnqKd7UvhCVUp2eK5PVnCnYPj3rtX5RbxcKLYdSV+
 NgJaXZyzuS8hPYDBjRkFbxIeSKvD+2oHIb0/MwkWplEpH2DrsXHsAX7jKi6RYkjuMGOLAFPnyHj
 rkIfw21GIu9TdKNhMyMjEzYbfvWG/zTrZXEzzFDcewwaz+4ShkGcjMzsV
X-Gm-Gg: ASbGncv+H7mrHOfzp5/T+6dc1lpKAgcui8aXvnbXL04YUYiZjzI2Fukq183wkk4EpD1
 Ctuky/iTczPyL+yu2qxcmhkzo3L5q3aUpj6TDj184Bzz2C4/mKCXfUrncaot2o4qfT7btOuLO/x
 dD2mKaNDF+IxrDeGdRISLcxQCDjQLQ8uDHGw0exczKx3lYWSuUN9WO1G4QNPCZ9FUTw8xEVUCE2
 t3CpEFbR8osuHq3x0EP4sPYrec26GttSMoqaHbiPbwPSe5Ls5orkMfph5jJXs4tnP9fkSwEPf0=
X-Google-Smtp-Source: AGHT+IE8XOAYpat7GMQRoNi1nBvZtE2+ubI7yApYhQ3xbzr9Dz5LibQq4uiA68oU64tYLFj0hJmkZF2fHtJW
X-Received: by 2002:a05:6602:164d:b0:83a:b98e:9240 with SMTP id
 ca18e2360f4ac-83ecdd0751bmr1439422439f.10.1732571462431; 
 Mon, 25 Nov 2024 13:51:02 -0800 (PST)
Received: from postal.iol.unh.edu (postal.iol.unh.edu.
 [2606:4100:3880:1234::84]) by smtp-relay.gmail.com with ESMTPS id
 8926c6da1cb9f-4e21381ebe7sm25218173.24.2024.11.25.13.51.02
 (version=TLS1_2 cipher=ECDHE-ECDSA-AES128-GCM-SHA256 bits=128/128);
 Mon, 25 Nov 2024 13:51:02 -0800 (PST)
X-Relaying-Domain: iol.unh.edu
Date: Mon, 25 Nov 2024 13:51:02 -0800 (PST)
Message-ID: <6744f146.050a0220.3d2381.18efSMTPIN_ADDED_MISSING@mx.google.com>
Received: from [172.17.0.2] (unknown [172.18.0.217])
 by postal.iol.unh.edu (Postfix) with ESMTP id EAC656052471;
 Mon, 25 Nov 2024 16:51:01 -0500 (EST)
Subject: |SUCCESS| pw148832 [PATCH] [v2] vhost/user: clear ring addresses whe
From: dpdklab@iol.unh.edu
To: Test Report <test-report@dpdk.org>
Cc: dpdk-test-reports@iol.unh.edu
In-Reply-To: <20241125034235.2110875-1-zhao305149619@gmail.com>
References: <20241125034235.2110875-1-zhao305149619@gmail.com>
Content-Type: text/plain
X-BeenThere: test-report@dpdk.org
X-Mailman-Version: 2.1.29
Precedence: list
List-Id: automatic DPDK test reports <test-report.dpdk.org>
List-Unsubscribe: <https://mails.dpdk.org/options/test-report>,
 <mailto:test-report-request@dpdk.org?subject=unsubscribe>
List-Archive: <http://mails.dpdk.org/archives/test-report/>
List-Post: <mailto:test-report@dpdk.org>
List-Help: <mailto:test-report-request@dpdk.org?subject=help>
List-Subscribe: <https://mails.dpdk.org/listinfo/test-report>,
 <mailto:test-report-request@dpdk.org?subject=subscribe>
Errors-To: test-report-bounces@dpdk.org

Test-Label: iol-compile-amd64-testing
Test-Status: SUCCESS
http://dpdk.org/patch/148832

_Testing PASS_

Submitter: Jianping Zhao <zhao305149619@gmail.com>
Date: Monday, November 25 2024 03:42:35 
DPDK git baseline: Repo:dpdk
  Branch: master
  CommitID:07e3bebf3c93750c52ed9be87edd212fbc22da0a

148832 --> testing pass

Upstream job id: Windows-Compile-DPDK-Native#24906

Test environment and result as below:

+---------------------+--------------------+------------------+-------------------+-------------------+-----------------------+----------------------+
|     Environment     | dpdk_meson_compile | dpdk_compile_ovs | dpdk_compile_spdk | dpdk_msvc_compile | dpdk_win_llvm_compile | dpdk_mingw64_compile |
+=====================+====================+==================+===================+===================+=======================+======================+
| CentOS Stream 9     | PASS               | PASS             | PASS              | SKIPPED           | SKIPPED               | SKIPPED              |
+---------------------+--------------------+------------------+-------------------+-------------------+-----------------------+----------------------+
| Fedora 39 (Clang)   | PASS               | PASS             | PASS              | SKIPPED           | SKIPPED               | SKIPPED              |
+---------------------+--------------------+------------------+-------------------+-------------------+-----------------------+----------------------+
| Debian 12           | PASS               | PASS             | PASS              | SKIPPED           | SKIPPED               | SKIPPED              |
+---------------------+--------------------+------------------+-------------------+-------------------+-----------------------+----------------------+
| Fedora 39           | PASS               | PASS             | PASS              | SKIPPED           | SKIPPED               | SKIPPED              |
+---------------------+--------------------+------------------+-------------------+-------------------+-----------------------+----------------------+
| Fedora 40 (Clang)   | PASS               | PASS             | PASS              | SKIPPED           | SKIPPED               | SKIPPED              |
+---------------------+--------------------+------------------+-------------------+-------------------+-----------------------+----------------------+
| Fedora 40           | PASS               | PASS             | PASS              | SKIPPED           | SKIPPED               | SKIPPED              |
+---------------------+--------------------+------------------+-------------------+-------------------+-----------------------+----------------------+
| openSUSE Leap 15    | PASS               | PASS             | SKIPPED           | SKIPPED           | SKIPPED               | SKIPPED              |
+---------------------+--------------------+------------------+-------------------+-------------------+-----------------------+----------------------+
| RHEL8               | PASS               | PASS             | SKIPPED           | SKIPPED           | SKIPPED               | SKIPPED              |
+---------------------+--------------------+------------------+-------------------+-------------------+-----------------------+----------------------+
| RHEL9               | PASS               | PASS             | SKIPPED           | SKIPPED           | SKIPPED               | SKIPPED              |
+---------------------+--------------------+------------------+-------------------+-------------------+-----------------------+----------------------+
| Ubuntu 20.04        | PASS               | PASS             | SKIPPED           | SKIPPED           | SKIPPED               | SKIPPED              |
+---------------------+--------------------+------------------+-------------------+-------------------+-----------------------+----------------------+
| Ubuntu 22.04        | PASS               | PASS             | PASS              | SKIPPED           | SKIPPED               | SKIPPED              |
+---------------------+--------------------+------------------+-------------------+-------------------+-----------------------+----------------------+
| Ubuntu 24.04        | PASS               | PASS             | PASS              | SKIPPED           | SKIPPED               | SKIPPED              |
+---------------------+--------------------+------------------+-------------------+-------------------+-----------------------+----------------------+
| Alpine              | PASS               | PASS             | SKIPPED           | SKIPPED           | SKIPPED               | SKIPPED              |
+---------------------+--------------------+------------------+-------------------+-------------------+-----------------------+----------------------+
| FreeBSD 13.4        | PASS               | SKIPPED          | SKIPPED           | SKIPPED           | SKIPPED               | SKIPPED              |
+---------------------+--------------------+------------------+-------------------+-------------------+-----------------------+----------------------+
| FreeBSD 14.1        | PASS               | SKIPPED          | SKIPPED           | SKIPPED           | SKIPPED               | SKIPPED              |
+---------------------+--------------------+------------------+-------------------+-------------------+-----------------------+----------------------+
| Windows Server 2022 | SKIPPED            | SKIPPED          | SKIPPED           | PASS              | PASS                  | PASS                 |
+---------------------+--------------------+------------------+-------------------+-------------------+-----------------------+----------------------+


CentOS Stream 9
	Kernel: Depends on container host
	Compiler: gcc 11.4.1 20231218 (Red Hat 11.4.1-3)

Fedora 39 (Clang)
	Kernel: Depends on container host
	Compiler: clang 17.0.6 (Fedora 17.0.6-2.fc39)

Debian 12
	Kernel: Depends on container host
	Compiler: gcc (Debian 12.2.0-14) 12.2.0

Fedora 39
	Kernel: Depends on container host
	Compiler: gcc 13.3.1 20240522 (Red Hat 13.3.1-1)

Fedora 40 (Clang)
	Kernel: Depends on container host
	Compiler: clang 18.1.6 (Fedora 18.1.6-3.fc40)

Fedora 40
	Kernel: Depends on container host
	Compiler: gcc 14.2.1 20240801 (Red Hat 14.2.1-1)

openSUSE Leap 15
	Kernel: Depends on container host
	Compiler: gcc (SUSE Linux) 7.5.0

RHEL8
	Kernel: Depends on container host
	Compiler: gcc 8.5.0 20210514 (Red Hat 8.5.0-22)

RHEL9
	Kernel: Depends on container host
	Compiler: gcc 11.4.1 20231218 (Red Hat 11.4.1-3)

Ubuntu 20.04
	Kernel: Depends on container host
	Compiler: gcc (Ubuntu 9.4.0-1ubuntu1~20.04.2) 9.4.0

Ubuntu 22.04
	Kernel: Depends on container host
	Compiler: gcc (Ubuntu 11.4.0-1ubuntu1~22.04) 11.4.0

Ubuntu 24.04
	Kernel: Depends on container host
	Compiler: gcc (Ubuntu 13.2.0-23ubuntu4) 13.2.0

Alpine
	Kernel: Depends on container host
	Compiler: gcc (Alpine 13.2.1_git20240309) 13.2.1 20240309

FreeBSD 13.4
	Kernel: 13.4-RELEASE-p1
	Compiler: clang 18.1.6

FreeBSD 14.1
	Kernel: 14.1-RELEASE-p3
	Compiler: clang 18.1.5

Windows Server 2022
	Kernel: 10.0.20348.2031
	Compiler: clang 15.0.7, gcc 14.1.0 (MinGW), and MSVC VS 19.39.33521

To view detailed results, visit:
https://lab.dpdk.org/results/dashboard/patchsets/32008/

UNH-IOL DPDK Community Lab

To manage your email subscriptions, visit: 
https://lab.dpdk.org/results/dashboard/preferences/subscriptions/