From mboxrd@z Thu Jan  1 00:00:00 1970
Return-Path: <test-report-bounces@dpdk.org>
Received: from mails.dpdk.org (mails.dpdk.org [217.70.189.124])
	by inbox.dpdk.org (Postfix) with ESMTP id A38C945DA7
	for <public@inbox.dpdk.org>; Mon, 25 Nov 2024 23:07:24 +0100 (CET)
Received: from mails.dpdk.org (localhost [127.0.0.1])
	by mails.dpdk.org (Postfix) with ESMTP id CB0AC4025F;
	Mon, 25 Nov 2024 23:07:23 +0100 (CET)
Received: from mail-oa1-f98.google.com (mail-oa1-f98.google.com
 [209.85.160.98]) by mails.dpdk.org (Postfix) with ESMTP id DCB35400EF
 for <test-report@dpdk.org>; Mon, 25 Nov 2024 23:07:22 +0100 (CET)
Received: by mail-oa1-f98.google.com with SMTP id
 586e51a60fabf-2965e65ce89so3054739fac.3
 for <test-report@dpdk.org>; Mon, 25 Nov 2024 14:07:22 -0800 (PST)
DKIM-Signature: v=1; a=rsa-sha256; c=relaxed/relaxed;
 d=iol.unh.edu; s=unh-iol; t=1732572442; x=1733177242; darn=dpdk.org;
 h=references:in-reply-to:cc:to:from:subject:message-id:date:from:to
 :cc:subject:date:message-id:reply-to;
 bh=EOiPIu+b2gsXXbd2J2TRHv0x62Vf5IuRmexp+evVN0k=;
 b=edqksL8OTkq+1MBS5GZ/3CEpfb0W2M4wA+98/Az0Wxb/gd4THahBo78ngDQAjVQRZV
 Jc4Tf2Rg2kH+qFCPqzbFX0sTEUKHL6ZxeAFFUtds54odwZOuoMJt342sYSYwLTpKbWSI
 84QYU9HX6dRfQyfmWN1uReAsdAgDtFpkiw4FI=
X-Google-DKIM-Signature: v=1; a=rsa-sha256; c=relaxed/relaxed;
 d=1e100.net; s=20230601; t=1732572442; x=1733177242;
 h=references:in-reply-to:cc:to:from:subject:message-id:date
 :x-gm-message-state:from:to:cc:subject:date:message-id:reply-to;
 bh=EOiPIu+b2gsXXbd2J2TRHv0x62Vf5IuRmexp+evVN0k=;
 b=LlZEU/mrxwsi6EMIbZI9t4HryqVSUmXTZJZsUJcpqGVxWRZ6qLbIM1KbdtYTfFqYai
 hhlaf21t+icUi4evL+w6qRpLxPFNvDNHV0fuim/AK4komGK4FjOfcDxD0O/rRsKf6QNy
 BISr1M8Ph7UY6H+Fe26UEDee1tpHSsh/SMzwBplDfIuxFuiF/7Ik8QqBDV+mHq2Smgx/
 oWpawR3arWG97NcBbsQW7+Bhqo20qa0FjiVbdaY9qAMRZNQJq8kbB/L5byONAEJ7s6BW
 eNiClE1RkcCOGIOEYsE682B1Fr8rjalM+wGzmkqpKebNLF5CJzbf+MMKJnphnWoJPC8v
 1eHA==
X-Gm-Message-State: AOJu0YzTCETYNzxiJTtE9JxzF1W8BdRFGOlmK311ZZDVDJmPO5SlrjQ7
 yAJgD1XF5lroSpYZDLVG1c7p/Mmg6zmzrPqRm7J0gXiE0S3sPUAQT6ImKDkfVrv/JqaZ8w6l63q
 YZ3tlEN48ICC4nlZ7g/kqqtINQqYAx6RDcVjwc17zYZk5c4htHUpuFjhv
X-Gm-Gg: ASbGncvenH1UNojPEiTlq70+iQmHZ4724KNoUuWcvd41+wNbOkC95B5gj7UPxeeNqNw
 3prOksFDaNjgx2d0cNF7/kQF/4rsJlVMrAg3ggGvMRpHw3iRIM0s1VoGu5Hxt53/kPcH6pShC/Z
 76M+vntTfkFWF4W+YxMOZ2Uy1IU9RmjA7iCtek4o4vqyubkmrF/qMxuowk2oYqaJB6knRBw7DpE
 VuljF+hUu9hQStOTEXxOjiAiJurxgkfPRGzcIw0fh5OT19fb930ZSr1nR9nKiS7o1lHvRVlC1s=
X-Google-Smtp-Source: AGHT+IEk80gA/iLmREE84jkAm6nXK6tuc1X93cXg2KzIlh4ZwFnD0dibUYDCBIkZLIGYMKoZ4UESTGiUVUca
X-Received: by 2002:a05:6870:831d:b0:297:699:2cbd with SMTP id
 586e51a60fabf-29720ae0145mr12889798fac.2.1732572442022; 
 Mon, 25 Nov 2024 14:07:22 -0800 (PST)
Received: from postal.iol.unh.edu (postal.iol.unh.edu.
 [2606:4100:3880:1234::84]) by smtp-relay.gmail.com with ESMTPS id
 586e51a60fabf-2971d8904eesm327448fac.39.2024.11.25.14.07.21
 (version=TLS1_2 cipher=ECDHE-ECDSA-AES128-GCM-SHA256 bits=128/128);
 Mon, 25 Nov 2024 14:07:22 -0800 (PST)
X-Relaying-Domain: iol.unh.edu
Date: Mon, 25 Nov 2024 14:07:22 -0800 (PST)
Message-ID: <6744f51a.050a0220.29543d.5170SMTPIN_ADDED_MISSING@mx.google.com>
Received: from [172.17.0.2] (unknown [172.18.0.217])
 by postal.iol.unh.edu (Postfix) with ESMTP id 665346052471;
 Mon, 25 Nov 2024 17:07:21 -0500 (EST)
Subject: |SUCCESS| pw148831 [PATCH] [v1] net/ice: updated latest recommended 
From: dpdklab@iol.unh.edu
To: Test Report <test-report@dpdk.org>
Cc: dpdk-test-reports@iol.unh.edu
In-Reply-To: <20241125025220.3557719-1-hailinx.xu@intel.com>
References: <20241125025220.3557719-1-hailinx.xu@intel.com>
Content-Type: text/plain
X-BeenThere: test-report@dpdk.org
X-Mailman-Version: 2.1.29
Precedence: list
List-Id: automatic DPDK test reports <test-report.dpdk.org>
List-Unsubscribe: <https://mails.dpdk.org/options/test-report>,
 <mailto:test-report-request@dpdk.org?subject=unsubscribe>
List-Archive: <http://mails.dpdk.org/archives/test-report/>
List-Post: <mailto:test-report@dpdk.org>
List-Help: <mailto:test-report-request@dpdk.org?subject=help>
List-Subscribe: <https://mails.dpdk.org/listinfo/test-report>,
 <mailto:test-report-request@dpdk.org?subject=subscribe>
Errors-To: test-report-bounces@dpdk.org

Test-Label: iol-sample-apps-testing
Test-Status: SUCCESS
http://dpdk.org/patch/148831

_Testing PASS_

Submitter: hailinx <hailinx.xu@intel.com>
Date: Monday, November 25 2024 02:52:20 
DPDK git baseline: Repo:dpdk
  Branch: master
  CommitID:f4ccce58c1a33cb41e1e820da504698437987efc

148831 --> testing pass

Upstream job id: ACVP-FIPS-testing#8098

Test environment and result as below:

+--------------------+----------------------+----------------------+
|    Environment     | compressdev_zlib_pmd | dpdk_fips_validation |
+====================+======================+======================+
| Ubuntu 22.04 (ARM) | PASS                 | SKIPPED              |
+--------------------+----------------------+----------------------+
| Ubuntu 22.04       | PASS                 | SKIPPED              |
+--------------------+----------------------+----------------------+
| Ubuntu 20.04       | SKIPPED              | PASS                 |
+--------------------+----------------------+----------------------+


Ubuntu 22.04 (ARM)
	Kernel: 5.15.0-97-generic
	Compiler: gcc gcc (Ubuntu 11.4.0-1ubuntu1~22.04) 11.4.0

Ubuntu 22.04
	Kernel: 5.15.0-100-generic
	Compiler: gcc gcc (Ubuntu 11.4.0-1ubuntu1~22.04) 11.4.0

Ubuntu 20.04
	Kernel: Depends on container host
	Compiler: gcc (Ubuntu 9.4.0-1ubuntu1~20.04.2) 9.4.0

To view detailed results, visit:
https://lab.dpdk.org/results/dashboard/patchsets/32007/

UNH-IOL DPDK Community Lab

To manage your email subscriptions, visit: 
https://lab.dpdk.org/results/dashboard/preferences/subscriptions/