From mboxrd@z Thu Jan  1 00:00:00 1970
Return-Path: <test-report-bounces@dpdk.org>
Received: from mails.dpdk.org (mails.dpdk.org [217.70.189.124])
	by inbox.dpdk.org (Postfix) with ESMTP id DB71845D5B
	for <public@inbox.dpdk.org>; Tue, 26 Nov 2024 01:02:23 +0100 (CET)
Received: from mails.dpdk.org (localhost [127.0.0.1])
	by mails.dpdk.org (Postfix) with ESMTP id D52584025F;
	Tue, 26 Nov 2024 01:02:23 +0100 (CET)
Received: from mail-pl1-f226.google.com (mail-pl1-f226.google.com
 [209.85.214.226])
 by mails.dpdk.org (Postfix) with ESMTP id B0C7B400EF
 for <test-report@dpdk.org>; Tue, 26 Nov 2024 01:02:22 +0100 (CET)
Received: by mail-pl1-f226.google.com with SMTP id
 d9443c01a7336-21210fe8775so46659485ad.1
 for <test-report@dpdk.org>; Mon, 25 Nov 2024 16:02:22 -0800 (PST)
DKIM-Signature: v=1; a=rsa-sha256; c=relaxed/relaxed;
 d=iol.unh.edu; s=unh-iol; t=1732579342; x=1733184142; darn=dpdk.org;
 h=references:in-reply-to:cc:to:from:subject:message-id:date:from:to
 :cc:subject:date:message-id:reply-to;
 bh=ENaRP/nfyH8pnjQUhDJyN8a3wctHgzvuD/dLezG+fW8=;
 b=bCJg5HqjxEMlZLAZEaCkr9+TaAoA2veT2lsYxVfLRWPKzU6YRuz0lyewgJbSWuSlXO
 lc9qQduoqfz9X25AhPY/O6u1eOQqvdTN6jqG5FWXdBui4418Q5m8SS1U2lFyE1DOOl2K
 YN9eCzTFw4v0Omtg+O16Fc5ShM/ad8nQJ9wik=
X-Google-DKIM-Signature: v=1; a=rsa-sha256; c=relaxed/relaxed;
 d=1e100.net; s=20230601; t=1732579342; x=1733184142;
 h=references:in-reply-to:cc:to:from:subject:message-id:date
 :x-gm-message-state:from:to:cc:subject:date:message-id:reply-to;
 bh=ENaRP/nfyH8pnjQUhDJyN8a3wctHgzvuD/dLezG+fW8=;
 b=FqaHtwMlPDNuTGoacwva7QCxoM7umR3vxzk8ahdg0zJ9z3ZXOTLLejK+/wZYuUD2DL
 gtCz/m6CezBZG+PGsBe3Kqp+NHFIR33EvAZKa5iOKjPmmVfjI04ii8kkYq7HawJydsWG
 Q5WZy/6rGSOWt+GEuNPqAmvhTF+bC5k4IdeGvJbjmH8gv+gCVKEfgr3+CgSeKm6xsHK8
 GTQFLU4UMm87k1qv/lTzuYfCR7aU+RpUpF72e3fL4nhNrSJoRS5NQoVDKcCZ83LxdT+V
 wnIavwDqYX01/r63Pu1KPrD534xVkhwabe6OJ4KGlKDKofTy6Es7Lc6hmmX0BwXpgIog
 TDZA==
X-Gm-Message-State: AOJu0YxqehajYUbdmvItelRidiDp7bgZEw4FJIS21lX4JP6Qn8FLk2TC
 ZV+csYu0coxOHX0yMzW2YNH7S2ZuT0wJ5lkY0d6A22Oaw2PCxH3+ezvAUYcpTl7Vv9zXAQ/9Iuj
 6f1ye20zWq+2X4RHnmDWCCgpBjD5afPbqAcLFY5C/CKrPrix9g6OBDgBK
X-Gm-Gg: ASbGncuwGq6+4nc4FG/k412Tw0BRB5SOHXRRy165FlAHsUv4b0XowFs1Roldltv5yV+
 01zPOTqG3zx01+Of53NNM9vTWlGraZOhmqqShCjaCAXlxy3cJhpALau5KNis9MLPPj+80uy82Fx
 liawaaf1oAQVxY0YLNnloTWnAUQAkJB6+rSCk+f8R0+AMWtbL/+1ng78d0XQ34YZcX8dGN0GBBk
 OE7R66e0wzXBitj8zShxLA+nSRNHUQqyDZXYmC0LBsB7gjVeTtztuNxXkZEAcG2wB+tR6vxv8A=
X-Google-Smtp-Source: AGHT+IGqYp6u5Q5y+j3kiYCbPwP9hOsALXOITPR8c3cV+SXBZDUk+BsURhe+7LDNsKVgmKv3ypNAteqS6rCV
X-Received: by 2002:a17:902:f644:b0:205:5d71:561e with SMTP id
 d9443c01a7336-214e6f1bbb9mr20303335ad.26.1732579341805; 
 Mon, 25 Nov 2024 16:02:21 -0800 (PST)
Received: from postal.iol.unh.edu (postal.iol.unh.edu.
 [2606:4100:3880:1234::84]) by smtp-relay.gmail.com with ESMTPS id
 d9443c01a7336-2129dbbb9f9sm3298845ad.90.2024.11.25.16.02.21
 (version=TLS1_2 cipher=ECDHE-ECDSA-AES128-GCM-SHA256 bits=128/128);
 Mon, 25 Nov 2024 16:02:21 -0800 (PST)
X-Relaying-Domain: iol.unh.edu
Date: Mon, 25 Nov 2024 16:02:21 -0800 (PST)
Message-ID: <6745100d.170a0220.383a90.5393SMTPIN_ADDED_MISSING@mx.google.com>
Received: from [172.17.0.2] (unknown [172.18.0.217])
 by postal.iol.unh.edu (Postfix) with ESMTP id 012786052471;
 Mon, 25 Nov 2024 19:02:21 -0500 (EST)
Subject: |SUCCESS| pw148841 [PATCH] net/mlx5: fix Rx queue control deref
From: dpdklab@iol.unh.edu
To: Test Report <test-report@dpdk.org>
Cc: dpdk-test-reports@iol.unh.edu
In-Reply-To: <20241125172318.302560-1-bingz@nvidia.com>
References: <20241125172318.302560-1-bingz@nvidia.com>
Content-Type: text/plain
X-BeenThere: test-report@dpdk.org
X-Mailman-Version: 2.1.29
Precedence: list
List-Id: automatic DPDK test reports <test-report.dpdk.org>
List-Unsubscribe: <https://mails.dpdk.org/options/test-report>,
 <mailto:test-report-request@dpdk.org?subject=unsubscribe>
List-Archive: <http://mails.dpdk.org/archives/test-report/>
List-Post: <mailto:test-report@dpdk.org>
List-Help: <mailto:test-report-request@dpdk.org?subject=help>
List-Subscribe: <https://mails.dpdk.org/listinfo/test-report>,
 <mailto:test-report-request@dpdk.org?subject=subscribe>
Errors-To: test-report-bounces@dpdk.org

Test-Label: iol-compile-amd64-testing
Test-Status: SUCCESS
http://dpdk.org/patch/148841

_Testing PASS_

Submitter: Bing Zhao <bingz@nvidia.com>
Date: Monday, November 25 2024 17:23:18 
DPDK git baseline: Repo:dpdk
  Branch: master
  CommitID:37dda90ee15b7098bc48356868a87d34f727eecc

148841 --> testing pass

Upstream job id: Windows-Compile-DPDK-Native#24926

Test environment and result as below:

+---------------------+--------------------+------------------+-------------------+-------------------+-----------------------+----------------------+
|     Environment     | dpdk_meson_compile | dpdk_compile_ovs | dpdk_compile_spdk | dpdk_msvc_compile | dpdk_win_llvm_compile | dpdk_mingw64_compile |
+=====================+====================+==================+===================+===================+=======================+======================+
| CentOS Stream 9     | PASS               | PASS             | PASS              | SKIPPED           | SKIPPED               | SKIPPED              |
+---------------------+--------------------+------------------+-------------------+-------------------+-----------------------+----------------------+
| Fedora 39           | PASS               | PASS             | PASS              | SKIPPED           | SKIPPED               | SKIPPED              |
+---------------------+--------------------+------------------+-------------------+-------------------+-----------------------+----------------------+
| Fedora 39 (Clang)   | PASS               | PASS             | PASS              | SKIPPED           | SKIPPED               | SKIPPED              |
+---------------------+--------------------+------------------+-------------------+-------------------+-----------------------+----------------------+
| Debian 12           | PASS               | PASS             | PASS              | SKIPPED           | SKIPPED               | SKIPPED              |
+---------------------+--------------------+------------------+-------------------+-------------------+-----------------------+----------------------+
| Fedora 40 (Clang)   | PASS               | PASS             | PASS              | SKIPPED           | SKIPPED               | SKIPPED              |
+---------------------+--------------------+------------------+-------------------+-------------------+-----------------------+----------------------+
| openSUSE Leap 15    | PASS               | PASS             | SKIPPED           | SKIPPED           | SKIPPED               | SKIPPED              |
+---------------------+--------------------+------------------+-------------------+-------------------+-----------------------+----------------------+
| RHEL8               | PASS               | PASS             | SKIPPED           | SKIPPED           | SKIPPED               | SKIPPED              |
+---------------------+--------------------+------------------+-------------------+-------------------+-----------------------+----------------------+
| Fedora 40           | PASS               | PASS             | PASS              | SKIPPED           | SKIPPED               | SKIPPED              |
+---------------------+--------------------+------------------+-------------------+-------------------+-----------------------+----------------------+
| Ubuntu 22.04        | PASS               | PASS             | PASS              | SKIPPED           | SKIPPED               | SKIPPED              |
+---------------------+--------------------+------------------+-------------------+-------------------+-----------------------+----------------------+
| Ubuntu 20.04        | PASS               | PASS             | SKIPPED           | SKIPPED           | SKIPPED               | SKIPPED              |
+---------------------+--------------------+------------------+-------------------+-------------------+-----------------------+----------------------+
| RHEL9               | PASS               | PASS             | SKIPPED           | SKIPPED           | SKIPPED               | SKIPPED              |
+---------------------+--------------------+------------------+-------------------+-------------------+-----------------------+----------------------+
| Ubuntu 24.04        | PASS               | PASS             | PASS              | SKIPPED           | SKIPPED               | SKIPPED              |
+---------------------+--------------------+------------------+-------------------+-------------------+-----------------------+----------------------+
| Alpine              | PASS               | PASS             | SKIPPED           | SKIPPED           | SKIPPED               | SKIPPED              |
+---------------------+--------------------+------------------+-------------------+-------------------+-----------------------+----------------------+
| FreeBSD 13.4        | PASS               | SKIPPED          | SKIPPED           | SKIPPED           | SKIPPED               | SKIPPED              |
+---------------------+--------------------+------------------+-------------------+-------------------+-----------------------+----------------------+
| FreeBSD 14.1        | PASS               | SKIPPED          | SKIPPED           | SKIPPED           | SKIPPED               | SKIPPED              |
+---------------------+--------------------+------------------+-------------------+-------------------+-----------------------+----------------------+
| Windows Server 2022 | SKIPPED            | SKIPPED          | SKIPPED           | PASS              | PASS                  | PASS                 |
+---------------------+--------------------+------------------+-------------------+-------------------+-----------------------+----------------------+


CentOS Stream 9
	Kernel: Depends on container host
	Compiler: gcc 11.4.1 20231218 (Red Hat 11.4.1-3)

Fedora 39
	Kernel: Depends on container host
	Compiler: gcc 13.3.1 20240522 (Red Hat 13.3.1-1)

Fedora 39 (Clang)
	Kernel: Depends on container host
	Compiler: clang 17.0.6 (Fedora 17.0.6-2.fc39)

Debian 12
	Kernel: Depends on container host
	Compiler: gcc (Debian 12.2.0-14) 12.2.0

Fedora 40 (Clang)
	Kernel: Depends on container host
	Compiler: clang 18.1.6 (Fedora 18.1.6-3.fc40)

openSUSE Leap 15
	Kernel: Depends on container host
	Compiler: gcc (SUSE Linux) 7.5.0

RHEL8
	Kernel: Depends on container host
	Compiler: gcc 8.5.0 20210514 (Red Hat 8.5.0-22)

Fedora 40
	Kernel: Depends on container host
	Compiler: gcc 14.2.1 20240801 (Red Hat 14.2.1-1)

Ubuntu 22.04
	Kernel: Depends on container host
	Compiler: gcc (Ubuntu 11.4.0-1ubuntu1~22.04) 11.4.0

Ubuntu 20.04
	Kernel: Depends on container host
	Compiler: gcc (Ubuntu 9.4.0-1ubuntu1~20.04.2) 9.4.0

RHEL9
	Kernel: Depends on container host
	Compiler: gcc 11.4.1 20231218 (Red Hat 11.4.1-3)

Ubuntu 24.04
	Kernel: Depends on container host
	Compiler: gcc (Ubuntu 13.2.0-23ubuntu4) 13.2.0

Alpine
	Kernel: Depends on container host
	Compiler: gcc (Alpine 13.2.1_git20240309) 13.2.1 20240309

FreeBSD 13.4
	Kernel: 13.4-RELEASE-p1
	Compiler: clang 18.1.6

FreeBSD 14.1
	Kernel: 14.1-RELEASE-p3
	Compiler: clang 18.1.5

Windows Server 2022
	Kernel: 10.0.20348.2031
	Compiler: clang 15.0.7, gcc 14.1.0 (MinGW), and MSVC VS 19.39.33521

To view detailed results, visit:
https://lab.dpdk.org/results/dashboard/patchsets/32013/

UNH-IOL DPDK Community Lab

To manage your email subscriptions, visit: 
https://lab.dpdk.org/results/dashboard/preferences/subscriptions/