From mboxrd@z Thu Jan  1 00:00:00 1970
Return-Path: <test-report-bounces@dpdk.org>
Received: from mails.dpdk.org (mails.dpdk.org [217.70.189.124])
	by inbox.dpdk.org (Postfix) with ESMTP id F0D4545DAB
	for <public@inbox.dpdk.org>; Tue, 26 Nov 2024 14:13:34 +0100 (CET)
Received: from mails.dpdk.org (localhost [127.0.0.1])
	by mails.dpdk.org (Postfix) with ESMTP id CE3E840E36;
	Tue, 26 Nov 2024 14:13:34 +0100 (CET)
Received: from mail-il1-f226.google.com (mail-il1-f226.google.com
 [209.85.166.226])
 by mails.dpdk.org (Postfix) with ESMTP id C55324064A
 for <test-report@dpdk.org>; Tue, 26 Nov 2024 14:13:33 +0100 (CET)
Received: by mail-il1-f226.google.com with SMTP id
 e9e14a558f8ab-3a77c066a15so20643845ab.3
 for <test-report@dpdk.org>; Tue, 26 Nov 2024 05:13:33 -0800 (PST)
DKIM-Signature: v=1; a=rsa-sha256; c=relaxed/relaxed;
 d=iol.unh.edu; s=unh-iol; t=1732626813; x=1733231613; darn=dpdk.org;
 h=references:in-reply-to:cc:to:from:subject:message-id:date:from:to
 :cc:subject:date:message-id:reply-to;
 bh=K86Z8Lm7nIpOV1nc33L3MrivmNgbDWO5lnDTjfGe6Ds=;
 b=RBVp9plw3CXua5WQXjn0nKXUdLW/YhUrhzCcSVZNXjdV9gRQ+C4nMwvgZBeVHw56Gb
 wq3Ku6d6aHI3bYP+1u89dUP4rl5xRbaB8GlmxIi3G7ke6RwQ7NXSeoZhRvnTjRJPsMIB
 JdgV24F8bVKZzWLimPc2pPZo3NMhcSJLzhaxo=
X-Google-DKIM-Signature: v=1; a=rsa-sha256; c=relaxed/relaxed;
 d=1e100.net; s=20230601; t=1732626813; x=1733231613;
 h=references:in-reply-to:cc:to:from:subject:message-id:date
 :x-gm-message-state:from:to:cc:subject:date:message-id:reply-to;
 bh=K86Z8Lm7nIpOV1nc33L3MrivmNgbDWO5lnDTjfGe6Ds=;
 b=KCnlVTOZIPp3/S0nSM+t5AQ6ZhnxUqWmt1yFxJJWFQTJme00tGj3W039n9O6FYLt9x
 EPM85wzd0l58u2UfJE4nFZwzneIsuVsyME90h52XEs9CepUWYua2LZ8OnoQNv2sluA1R
 6b5oRLa6Sum68469aHMIQKoibXgcz2d4utXN+rscCvEcH3rpwMAnEFKSzMm4an1l/sXu
 LYpyDL8N49By9shZS9CnyEfdFcgKY9UBz8OQUTzWgVcmFfIV8EIDb2XD8/iptlh+q549
 tmkLd1il0f6F7bfJhrSjv0034K5nRvUR+BKrfxh6PGX4UlOwG1FX/2Pee9/SCJ9vzU8b
 Eqzw==
X-Gm-Message-State: AOJu0Ywb4IO4+m2mWIx0rBrLbDZ9C3OY7ajSK1SkFpdWHFOQrYQFh6ox
 4La+Su9E9/mMbgRFGNwVNXB84EJPbw1fbKNOrm2ITMymcG0/oduE2v9hQb3RfhPDF/a3oPuadLX
 vs2iRYKK31Q1UGB3mowikarc+VNMDfZn9Qq4wsFSQo78U40C2cX6wdElh
X-Gm-Gg: ASbGncsJIzQbIh3hlWp2NEcaQwPAujs7/DZD2jt2XijqYQT7mErl0NeKqPcujwfsd6N
 6Al6QpHuKhCJ3/ePVg6cND5S/n1dLFLbh3P6KxsRfrYMKR6wDLuHiAb3r4yPPzF3Af/EREh1CAY
 5n5qHhdDuGq+qcNTn97Y7LEDLYB6cltpwsGMu43vdpe3jHTZe9ck4mZ0BOqeBT+iKYoqjHV9rIm
 0QJkoEwNXLZfQMyPl8dYktSWOVDotcd+Ib86DtmZ7OAHuLgTHbToTajOg4XLUVpbTFQABx3bMU=
X-Google-Smtp-Source: AGHT+IEVSjcBTkHTZg6OJ+RNdYmXOsk4M2yTYLG6lVnqqRghOjn8ONuRuBWT7ycpAyV1bzSeps7qrjiUKyZw
X-Received: by 2002:a05:6e02:1885:b0:3a7:8720:9de5 with SMTP id
 e9e14a558f8ab-3a79acfb902mr223756095ab.1.1732626813169; 
 Tue, 26 Nov 2024 05:13:33 -0800 (PST)
Received: from postal.iol.unh.edu (postal.iol.unh.edu.
 [2606:4100:3880:1234::84]) by smtp-relay.gmail.com with ESMTPS id
 e9e14a558f8ab-3a79acb8834sm3959905ab.53.2024.11.26.05.13.33
 (version=TLS1_2 cipher=ECDHE-ECDSA-AES128-GCM-SHA256 bits=128/128);
 Tue, 26 Nov 2024 05:13:33 -0800 (PST)
X-Relaying-Domain: iol.unh.edu
Date: Tue, 26 Nov 2024 05:13:33 -0800 (PST)
Message-ID: <6745c97d.920a0220.20b74b.9886SMTPIN_ADDED_MISSING@mx.google.com>
Received: from [172.17.0.2] (unknown [172.18.0.217])
 by postal.iol.unh.edu (Postfix) with ESMTP id A598C6052471;
 Tue, 26 Nov 2024 08:13:32 -0500 (EST)
Subject: |SUCCESS| pw148848 [PATCH] net/sxe: submit the build directory and r
From: dpdklab@iol.unh.edu
To: Test Report <test-report@dpdk.org>
Cc: dpdk-test-reports@iol.unh.edu
In-Reply-To: <20241126114905.337599-1-liujie5@linkdatatechnology.com>
References: <20241126114905.337599-1-liujie5@linkdatatechnology.com>
Content-Type: text/plain
X-BeenThere: test-report@dpdk.org
X-Mailman-Version: 2.1.29
Precedence: list
List-Id: automatic DPDK test reports <test-report.dpdk.org>
List-Unsubscribe: <https://mails.dpdk.org/options/test-report>,
 <mailto:test-report-request@dpdk.org?subject=unsubscribe>
List-Archive: <http://mails.dpdk.org/archives/test-report/>
List-Post: <mailto:test-report@dpdk.org>
List-Help: <mailto:test-report-request@dpdk.org?subject=help>
List-Subscribe: <https://mails.dpdk.org/listinfo/test-report>,
 <mailto:test-report-request@dpdk.org?subject=subscribe>
Errors-To: test-report-bounces@dpdk.org

Test-Label: iol-compile-amd64-testing
Test-Status: SUCCESS
http://dpdk.org/patch/148848

_Testing PASS_

Submitter: Jie Liu <liujie5@linkdatatechnology.com>
Date: Tuesday, November 26 2024 11:49:05 
DPDK git baseline: Repo:dpdk
  Branch: master
  CommitID:c07dbef7e0208d4f5e36aa241ce360fc470f203b

148848 --> testing pass

Upstream job id: Generic-DPDK-Compile-Meson#338063

Test environment and result as below:

+---------------------+--------------------+------------------+-------------------+-----------------------+-------------------+----------------------+
|     Environment     | dpdk_meson_compile | dpdk_compile_ovs | dpdk_compile_spdk | dpdk_win_llvm_compile | dpdk_msvc_compile | dpdk_mingw64_compile |
+=====================+====================+==================+===================+=======================+===================+======================+
| CentOS Stream 9     | PASS               | PASS             | PASS              | SKIPPED               | SKIPPED           | SKIPPED              |
+---------------------+--------------------+------------------+-------------------+-----------------------+-------------------+----------------------+
| Debian 12           | PASS               | PASS             | PASS              | SKIPPED               | SKIPPED           | SKIPPED              |
+---------------------+--------------------+------------------+-------------------+-----------------------+-------------------+----------------------+
| Fedora 39 (Clang)   | PASS               | PASS             | PASS              | SKIPPED               | SKIPPED           | SKIPPED              |
+---------------------+--------------------+------------------+-------------------+-----------------------+-------------------+----------------------+
| Fedora 39           | PASS               | PASS             | PASS              | SKIPPED               | SKIPPED           | SKIPPED              |
+---------------------+--------------------+------------------+-------------------+-----------------------+-------------------+----------------------+
| Fedora 40 (Clang)   | PASS               | PASS             | PASS              | SKIPPED               | SKIPPED           | SKIPPED              |
+---------------------+--------------------+------------------+-------------------+-----------------------+-------------------+----------------------+
| Fedora 40           | PASS               | PASS             | PASS              | SKIPPED               | SKIPPED           | SKIPPED              |
+---------------------+--------------------+------------------+-------------------+-----------------------+-------------------+----------------------+
| RHEL8               | PASS               | PASS             | SKIPPED           | SKIPPED               | SKIPPED           | SKIPPED              |
+---------------------+--------------------+------------------+-------------------+-----------------------+-------------------+----------------------+
| openSUSE Leap 15    | PASS               | PASS             | SKIPPED           | SKIPPED               | SKIPPED           | SKIPPED              |
+---------------------+--------------------+------------------+-------------------+-----------------------+-------------------+----------------------+
| RHEL9               | PASS               | PASS             | SKIPPED           | SKIPPED               | SKIPPED           | SKIPPED              |
+---------------------+--------------------+------------------+-------------------+-----------------------+-------------------+----------------------+
| Ubuntu 20.04        | PASS               | PASS             | SKIPPED           | SKIPPED               | SKIPPED           | SKIPPED              |
+---------------------+--------------------+------------------+-------------------+-----------------------+-------------------+----------------------+
| Ubuntu 22.04        | PASS               | PASS             | PASS              | SKIPPED               | SKIPPED           | SKIPPED              |
+---------------------+--------------------+------------------+-------------------+-----------------------+-------------------+----------------------+
| Ubuntu 24.04        | PASS               | PASS             | PASS              | SKIPPED               | SKIPPED           | SKIPPED              |
+---------------------+--------------------+------------------+-------------------+-----------------------+-------------------+----------------------+
| Alpine              | PASS               | PASS             | SKIPPED           | SKIPPED               | SKIPPED           | SKIPPED              |
+---------------------+--------------------+------------------+-------------------+-----------------------+-------------------+----------------------+
| FreeBSD 13.4        | PASS               | SKIPPED          | SKIPPED           | SKIPPED               | SKIPPED           | SKIPPED              |
+---------------------+--------------------+------------------+-------------------+-----------------------+-------------------+----------------------+
| FreeBSD 14.1        | PASS               | SKIPPED          | SKIPPED           | SKIPPED               | SKIPPED           | SKIPPED              |
+---------------------+--------------------+------------------+-------------------+-----------------------+-------------------+----------------------+
| Windows Server 2022 | SKIPPED            | SKIPPED          | SKIPPED           | PASS                  | PASS              | PASS                 |
+---------------------+--------------------+------------------+-------------------+-----------------------+-------------------+----------------------+


CentOS Stream 9
	Kernel: Depends on container host
	Compiler: gcc 11.4.1 20231218 (Red Hat 11.4.1-3)

Debian 12
	Kernel: Depends on container host
	Compiler: gcc (Debian 12.2.0-14) 12.2.0

Fedora 39 (Clang)
	Kernel: Depends on container host
	Compiler: clang 17.0.6 (Fedora 17.0.6-2.fc39)

Fedora 39
	Kernel: Depends on container host
	Compiler: gcc 13.3.1 20240522 (Red Hat 13.3.1-1)

Fedora 40 (Clang)
	Kernel: Depends on container host
	Compiler: clang 18.1.6 (Fedora 18.1.6-3.fc40)

Fedora 40
	Kernel: Depends on container host
	Compiler: gcc 14.2.1 20240801 (Red Hat 14.2.1-1)

RHEL8
	Kernel: Depends on container host
	Compiler: gcc 8.5.0 20210514 (Red Hat 8.5.0-22)

openSUSE Leap 15
	Kernel: Depends on container host
	Compiler: gcc (SUSE Linux) 7.5.0

RHEL9
	Kernel: Depends on container host
	Compiler: gcc 11.4.1 20231218 (Red Hat 11.4.1-3)

Ubuntu 20.04
	Kernel: Depends on container host
	Compiler: gcc (Ubuntu 9.4.0-1ubuntu1~20.04.2) 9.4.0

Ubuntu 22.04
	Kernel: Depends on container host
	Compiler: gcc (Ubuntu 11.4.0-1ubuntu1~22.04) 11.4.0

Ubuntu 24.04
	Kernel: Depends on container host
	Compiler: gcc (Ubuntu 13.2.0-23ubuntu4) 13.2.0

Alpine
	Kernel: Depends on container host
	Compiler: gcc (Alpine 13.2.1_git20240309) 13.2.1 20240309

FreeBSD 13.4
	Kernel: 13.4-RELEASE-p1
	Compiler: clang 18.1.6

FreeBSD 14.1
	Kernel: 14.1-RELEASE-p3
	Compiler: clang 18.1.5

Windows Server 2022
	Kernel: 10.0.20348.2031
	Compiler: clang 15.0.7, gcc 14.1.0 (MinGW), and MSVC VS 19.39.33521

To view detailed results, visit:
https://lab.dpdk.org/results/dashboard/patchsets/32018/

UNH-IOL DPDK Community Lab

To manage your email subscriptions, visit: 
https://lab.dpdk.org/results/dashboard/preferences/subscriptions/