From mboxrd@z Thu Jan  1 00:00:00 1970
Return-Path: <test-report-bounces@dpdk.org>
Received: from mails.dpdk.org (mails.dpdk.org [217.70.189.124])
	by inbox.dpdk.org (Postfix) with ESMTP id A4ABE45DAF
	for <public@inbox.dpdk.org>; Tue, 26 Nov 2024 19:01:26 +0100 (CET)
Received: from mails.dpdk.org (localhost [127.0.0.1])
	by mails.dpdk.org (Postfix) with ESMTP id 9FFC940FB5;
	Tue, 26 Nov 2024 19:01:26 +0100 (CET)
Received: from mail-il1-f228.google.com (mail-il1-f228.google.com
 [209.85.166.228])
 by mails.dpdk.org (Postfix) with ESMTP id 6B0684026C
 for <test-report@dpdk.org>; Tue, 26 Nov 2024 19:01:25 +0100 (CET)
Received: by mail-il1-f228.google.com with SMTP id
 e9e14a558f8ab-3a74d9aeb38so21166215ab.1
 for <test-report@dpdk.org>; Tue, 26 Nov 2024 10:01:25 -0800 (PST)
DKIM-Signature: v=1; a=rsa-sha256; c=relaxed/relaxed;
 d=iol.unh.edu; s=unh-iol; t=1732644085; x=1733248885; darn=dpdk.org;
 h=references:in-reply-to:cc:to:from:subject:message-id:date:from:to
 :cc:subject:date:message-id:reply-to;
 bh=WMP1P/6z2d62qhuTOubuiYvbycqYhbuDzSnF9sob0oA=;
 b=NyKvVh7aG4QbFgF+vvucKIVCPJXsY4cIDoT3+f7FWEKCSQcbd821oi22o1r7s1msiD
 zC/xSgCS44fZ8bY15l3NqOPfq2W/abI181ZZ587NBPE33DqRMgWldO9VmGCaVrAIOx+K
 S5j273PA3m3oM0odH7oCWy57nMMJpfCuoq9A0=
X-Google-DKIM-Signature: v=1; a=rsa-sha256; c=relaxed/relaxed;
 d=1e100.net; s=20230601; t=1732644085; x=1733248885;
 h=references:in-reply-to:cc:to:from:subject:message-id:date
 :x-gm-message-state:from:to:cc:subject:date:message-id:reply-to;
 bh=WMP1P/6z2d62qhuTOubuiYvbycqYhbuDzSnF9sob0oA=;
 b=E372XB12rCmh28Acja15Qb2kJ7/JY8tVxM4G16BizAocap+F2Tb3UO3M6jQv0+Z7JD
 uApv/YYhuqy3HUWXXgjrQPNbti9q2H8lpeeqQY3hwC6tf3r1Ax1UKBN+GP8Yu/2eFcKi
 UkiU05NwEixmsU9CnBd8I2ZjGfRriy9kF8qjD5HkEs2zJcrApk/udrTK6lPj9SD8wu8n
 gZmsghcY9BeGYb8rmEeXLlutNePB7VmEdYIbJFw06HLkQQbfBgNauq2S6oc3RtyqJfib
 tx/beYRbpIz8Ax3oMai4IIgD3C9b5p8qh1ZtWUwOfKcTUcBuBHy77f3WMYWwfJrfGI8s
 ESlg==
X-Gm-Message-State: AOJu0Yy2fBtJaUmUWHurh5dCSVefVldxdXgQQJX/8mw0TeMGmEa3qlZj
 nQQ45J83Gh/+t7dWWRvZF9VDk8b1asNacd/cbFp6Ozyynq1BMzQGsC0qvz+Z6dMD4/5QBYixowt
 t0ejn1o6v468BggDuyr296oHx1+zbWOGLB4iItlsc
X-Gm-Gg: ASbGnctsOIQClMuS/GfY6xB42D7QzmKY+omVKw8TfUV/6FJFGdAsNrNuWrtM+ghlv/B
 oFnoPV+PlK6Ff3JftZhNhUMCaEGVP7Ot1vTJiDPnVYoAH7ym7nrv1/svZAt7pU+lYv5lKOIU2QQ
 LtzgFbx7no6XkE3CsCxfz1oc293ZN8B2TNkKb4POOk5txEp0wjlQ+VpQFC6jCg5vT+MB/GG81aH
 aSiDe77naFc8P7FEpMyBT2Q9qyEm5jbbRyop0yOGpI6CXgI6uAkW2u8pro01HjTsTCD5A8=
X-Google-Smtp-Source: AGHT+IEuT7vgm5Wj0Wb/JKiTZMqGX4N0YsC8qxqLLB4Pcpo3O4QE/HpUfpXkEjB8/HhyeEIkOd9PXsbxlzBy
X-Received: by 2002:a05:6e02:1a8d:b0:3a0:c820:c5f0 with SMTP id
 e9e14a558f8ab-3a79aff56a7mr206636275ab.24.1732644084678; 
 Tue, 26 Nov 2024 10:01:24 -0800 (PST)
Received: from postal.iol.unh.edu (postal.iol.unh.edu. [132.177.123.84])
 by smtp-relay.gmail.com with ESMTPS id
 8926c6da1cb9f-4e211c1f5f6sm128802173.68.2024.11.26.10.01.24
 (version=TLS1_2 cipher=ECDHE-ECDSA-AES128-GCM-SHA256 bits=128/128);
 Tue, 26 Nov 2024 10:01:24 -0800 (PST)
X-Relaying-Domain: iol.unh.edu
Date: Tue, 26 Nov 2024 10:01:24 -0800 (PST)
Message-ID: <67460cf4.050a0220.2b4330.8683SMTPIN_ADDED_MISSING@mx.google.com>
Received: from [172.21.0.5] (unknown [172.18.0.240])
 by postal.iol.unh.edu (Postfix) with ESMTP id 312DF6052471;
 Tue, 26 Nov 2024 13:01:24 -0500 (EST)
Subject: |SUCCESS| pw148853 [PATCH] [v2,1/1] buildtools: add VSCode configura
From: dpdklab@iol.unh.edu
To: Test Report <test-report@dpdk.org>
Cc: dpdk-test-reports@iol.unh.edu
In-Reply-To: <63dc2ec07dd75f2b3a25e00423bbb0e8a36e3bc6.1732627546.git.anatoly.burakov@intel.com>
References: <63dc2ec07dd75f2b3a25e00423bbb0e8a36e3bc6.1732627546.git.anatoly.burakov@intel.com>
Content-Type: text/plain
X-BeenThere: test-report@dpdk.org
X-Mailman-Version: 2.1.29
Precedence: list
List-Id: automatic DPDK test reports <test-report.dpdk.org>
List-Unsubscribe: <https://mails.dpdk.org/options/test-report>,
 <mailto:test-report-request@dpdk.org?subject=unsubscribe>
List-Archive: <http://mails.dpdk.org/archives/test-report/>
List-Post: <mailto:test-report@dpdk.org>
List-Help: <mailto:test-report-request@dpdk.org?subject=help>
List-Subscribe: <https://mails.dpdk.org/listinfo/test-report>,
 <mailto:test-report-request@dpdk.org?subject=subscribe>
Errors-To: test-report-bounces@dpdk.org

Test-Label: iol-unit-arm64-testing
Test-Status: SUCCESS
http://dpdk.org/patch/148853

_Testing PASS_

Submitter: Burakov, Anatoly <anatoly.burakov@intel.com>
Date: Tuesday, November 26 2024 13:30:33 
DPDK git baseline: Repo:dpdk
  Branch: master
  CommitID:5744e912341ee26a0dd5b9ec28b16b8a4e45d1bc

148853 --> testing pass

Upstream job id: Generic-Unit-Test-DPDK#295118

Test environment and result as below:

+-----------------------------+----------------+--------------+---------------------------+------------------------------+
|         Environment         | dpdk_unit_test | lpm_autotest | cryptodev_sw_zuc_autotest | cryptodev_sw_snow3g_autotest |
+=============================+================+==============+===========================+==============================+
| Debian 12 (arm)             | PASS           | SKIPPED      | PASS                      | PASS                         |
+-----------------------------+----------------+--------------+---------------------------+------------------------------+
| RHEL9 (ARM)                 | PASS           | SKIPPED      | SKIPPED                   | SKIPPED                      |
+-----------------------------+----------------+--------------+---------------------------+------------------------------+
| CentOS Stream 9 (ARM)       | PASS           | SKIPPED      | SKIPPED                   | SKIPPED                      |
+-----------------------------+----------------+--------------+---------------------------+------------------------------+
| Fedora 39 (ARM Clang)       | PASS           | SKIPPED      | SKIPPED                   | SKIPPED                      |
+-----------------------------+----------------+--------------+---------------------------+------------------------------+
| Fedora 40 (ARM)             | PASS           | SKIPPED      | SKIPPED                   | SKIPPED                      |
+-----------------------------+----------------+--------------+---------------------------+------------------------------+
| Fedora 39 (ARM)             | PASS           | SKIPPED      | SKIPPED                   | SKIPPED                      |
+-----------------------------+----------------+--------------+---------------------------+------------------------------+
| Ubuntu 24.04 (ARM)          | PASS           | SKIPPED      | SKIPPED                   | SKIPPED                      |
+-----------------------------+----------------+--------------+---------------------------+------------------------------+
| Ubuntu 20.04 (ARM)          | PASS           | SKIPPED      | SKIPPED                   | SKIPPED                      |
+-----------------------------+----------------+--------------+---------------------------+------------------------------+
| Fedora 40 (ARM Clang)       | PASS           | SKIPPED      | SKIPPED                   | SKIPPED                      |
+-----------------------------+----------------+--------------+---------------------------+------------------------------+
| Ubuntu 22.04 (ARM)          | PASS           | SKIPPED      | SKIPPED                   | SKIPPED                      |
+-----------------------------+----------------+--------------+---------------------------+------------------------------+
| 32-bit Ubuntu 22.04.4 (ARM) | PASS           | SKIPPED      | SKIPPED                   | SKIPPED                      |
+-----------------------------+----------------+--------------+---------------------------+------------------------------+
| Ubuntu 20.04 ARM SVE        | SKIPPED        | PASS         | SKIPPED                   | SKIPPED                      |
+-----------------------------+----------------+--------------+---------------------------+------------------------------+


Debian 12 (arm)
	Kernel: Depends on container host
	Compiler: gcc (Debian 12.2.0-14) 12.2.0

RHEL9 (ARM)
	Kernel: Depends on container host
	Compiler: gcc 11.4.1 20231218 (Red Hat 11.4.1-3)

CentOS Stream 9 (ARM)
	Kernel: Depends on container host
	Compiler: gcc 11.4.1 20231218 (Red Hat 11.4.1-3)

Fedora 39 (ARM Clang)
	Kernel: Depends on container host
	Compiler: clang 17.0.6 (Fedora 17.0.6-2.fc39)

Fedora 40 (ARM)
	Kernel: Depends on container host
	Compiler: gcc 14.2.1 20240801 (Red Hat 14.2.1-1)

Fedora 39 (ARM)
	Kernel: Depends on container host
	Compiler: gcc 13.3.1 20240522 (Red Hat 13.3.1-1)

Ubuntu 24.04 (ARM)
	Kernel: Depends on container host
	Compiler: gcc (Ubuntu 13.2.0-23ubuntu4) 13.2.0

Ubuntu 20.04 (ARM)
	Kernel: Depends on container host
	Compiler: gcc (Ubuntu 9.4.0-1ubuntu1~20.04.2) 9.4.0

Fedora 40 (ARM Clang)
	Kernel: Depends on container host
	Compiler: clang 18.1.6 (Fedora 18.1.6-3.fc40)

Ubuntu 22.04 (ARM)
	Kernel: Depends on container host
	Compiler: gcc (Ubuntu 11.4.0-1ubuntu1~22.04) 11.4.0

32-bit Ubuntu 22.04.4 (ARM)
	Kernel: 5.15.83+ aarch64
	Compiler: gcc (Ubuntu 11.4.0-1ubuntu1~22.04) 11.4.0

Ubuntu 20.04 ARM SVE
	Kernel: Depends on container host
	Compiler: gcc (Ubuntu 10.5.0-1ubuntu1~20.04) 10.5.0

To view detailed results, visit:
https://lab.dpdk.org/results/dashboard/patchsets/32020/

UNH-IOL DPDK Community Lab

To manage your email subscriptions, visit: 
https://lab.dpdk.org/results/dashboard/preferences/subscriptions/